BEGIN:VCALENDAR
VERSION:2.0
PRODID:-//SalutDeluxe e.V. - ECPv6.2.2//NONSGML v1.0//EN
CALSCALE:GREGORIAN
METHOD:PUBLISH
X-WR-CALNAME:SalutDeluxe e.V.
X-ORIGINAL-URL:https://salutdeluxe.hamburg
X-WR-CALDESC:Veranstaltungen für SalutDeluxe e.V.
REFRESH-INTERVAL;VALUE=DURATION:PT1H
X-Robots-Tag:noindex
X-PUBLISHED-TTL:PT1H
BEGIN:VTIMEZONE
TZID:Europe/Berlin
BEGIN:DAYLIGHT
TZOFFSETFROM:+0100
TZOFFSETTO:+0200
TZNAME:CEST
DTSTART:20300331T010000
END:DAYLIGHT
BEGIN:STANDARD
TZOFFSETFROM:+0200
TZOFFSETTO:+0100
TZNAME:CET
DTSTART:20301027T010000
END:STANDARD
BEGIN:DAYLIGHT
TZOFFSETFROM:+0100
TZOFFSETTO:+0200
TZNAME:CEST
DTSTART:20310330T010000
END:DAYLIGHT
BEGIN:STANDARD
TZOFFSETFROM:+0200
TZOFFSETTO:+0100
TZNAME:CET
DTSTART:20311026T010000
END:STANDARD
END:VTIMEZONE
BEGIN:VEVENT
DTSTART;TZID=Europe/Berlin:20301127T163000
DTEND;TZID=Europe/Berlin:20301127T180000
DTSTAMP:20260421T142135
CREATED:20260220T185354Z
LAST-MODIFIED:20260220T185359Z
UID:10006026-1922027400-1922032800@salutdeluxe.hamburg
SUMMARY:Beatbox mit Guido
DESCRIPTION:Beatboxen ist die Kunst\, nur mit Mund\, Nase und Rachen coole Sounds zu produzieren. Finde deinen eigenen Weg\, Menschen zu begeistern! Im Beatbox-Kurs der DeluxeKidz zeigt dir der schwer talentierte Beatbox Guido\, was du mit deiner Mundmuskulatur alles anstellen kannst. „Bb-Tz-Pf-Tz!“
URL:https://salutdeluxe.hamburg/event/beatbox-mit-guido-26-3/2030-11-27/
LOCATION:Esche – Jugendkunsthaus\, Eschelsweg 4\, Hamburg\, Hamburg\, 22767
ATTACH;FMTTYPE=image/jpeg:https://salutdeluxe.hamburg/wp-content/uploads/2022/11/Beatboxen-DeluxeKidz_Esche.jpeg
END:VEVENT
BEGIN:VEVENT
DTSTART;TZID=Europe/Berlin:20301204T163000
DTEND;TZID=Europe/Berlin:20301204T180000
DTSTAMP:20260421T142135
CREATED:20260220T185354Z
LAST-MODIFIED:20260220T185359Z
UID:10006027-1922632200-1922637600@salutdeluxe.hamburg
SUMMARY:Beatbox mit Guido
DESCRIPTION:Beatboxen ist die Kunst\, nur mit Mund\, Nase und Rachen coole Sounds zu produzieren. Finde deinen eigenen Weg\, Menschen zu begeistern! Im Beatbox-Kurs der DeluxeKidz zeigt dir der schwer talentierte Beatbox Guido\, was du mit deiner Mundmuskulatur alles anstellen kannst. „Bb-Tz-Pf-Tz!“
URL:https://salutdeluxe.hamburg/event/beatbox-mit-guido-26-3/2030-12-04/
LOCATION:Esche – Jugendkunsthaus\, Eschelsweg 4\, Hamburg\, Hamburg\, 22767
ATTACH;FMTTYPE=image/jpeg:https://salutdeluxe.hamburg/wp-content/uploads/2022/11/Beatboxen-DeluxeKidz_Esche.jpeg
END:VEVENT
BEGIN:VEVENT
DTSTART;TZID=Europe/Berlin:20301211T163000
DTEND;TZID=Europe/Berlin:20301211T180000
DTSTAMP:20260421T142135
CREATED:20260220T185354Z
LAST-MODIFIED:20260220T185359Z
UID:10006028-1923237000-1923242400@salutdeluxe.hamburg
SUMMARY:Beatbox mit Guido
DESCRIPTION:Beatboxen ist die Kunst\, nur mit Mund\, Nase und Rachen coole Sounds zu produzieren. Finde deinen eigenen Weg\, Menschen zu begeistern! Im Beatbox-Kurs der DeluxeKidz zeigt dir der schwer talentierte Beatbox Guido\, was du mit deiner Mundmuskulatur alles anstellen kannst. „Bb-Tz-Pf-Tz!“
URL:https://salutdeluxe.hamburg/event/beatbox-mit-guido-26-3/2030-12-11/
LOCATION:Esche – Jugendkunsthaus\, Eschelsweg 4\, Hamburg\, Hamburg\, 22767
ATTACH;FMTTYPE=image/jpeg:https://salutdeluxe.hamburg/wp-content/uploads/2022/11/Beatboxen-DeluxeKidz_Esche.jpeg
END:VEVENT
BEGIN:VEVENT
DTSTART;TZID=Europe/Berlin:20301218T163000
DTEND;TZID=Europe/Berlin:20301218T180000
DTSTAMP:20260421T142135
CREATED:20260220T185354Z
LAST-MODIFIED:20260220T185359Z
UID:10006029-1923841800-1923847200@salutdeluxe.hamburg
SUMMARY:Beatbox mit Guido
DESCRIPTION:Beatboxen ist die Kunst\, nur mit Mund\, Nase und Rachen coole Sounds zu produzieren. Finde deinen eigenen Weg\, Menschen zu begeistern! Im Beatbox-Kurs der DeluxeKidz zeigt dir der schwer talentierte Beatbox Guido\, was du mit deiner Mundmuskulatur alles anstellen kannst. „Bb-Tz-Pf-Tz!“
URL:https://salutdeluxe.hamburg/event/beatbox-mit-guido-26-3/2030-12-18/
LOCATION:Esche – Jugendkunsthaus\, Eschelsweg 4\, Hamburg\, Hamburg\, 22767
ATTACH;FMTTYPE=image/jpeg:https://salutdeluxe.hamburg/wp-content/uploads/2022/11/Beatboxen-DeluxeKidz_Esche.jpeg
END:VEVENT
BEGIN:VEVENT
DTSTART;TZID=Europe/Berlin:20301225T163000
DTEND;TZID=Europe/Berlin:20301225T180000
DTSTAMP:20260421T142135
CREATED:20260220T185354Z
LAST-MODIFIED:20260220T185359Z
UID:10006030-1924446600-1924452000@salutdeluxe.hamburg
SUMMARY:Beatbox mit Guido
DESCRIPTION:Beatboxen ist die Kunst\, nur mit Mund\, Nase und Rachen coole Sounds zu produzieren. Finde deinen eigenen Weg\, Menschen zu begeistern! Im Beatbox-Kurs der DeluxeKidz zeigt dir der schwer talentierte Beatbox Guido\, was du mit deiner Mundmuskulatur alles anstellen kannst. „Bb-Tz-Pf-Tz!“
URL:https://salutdeluxe.hamburg/event/beatbox-mit-guido-26-3/2030-12-25/
LOCATION:Esche – Jugendkunsthaus\, Eschelsweg 4\, Hamburg\, Hamburg\, 22767
ATTACH;FMTTYPE=image/jpeg:https://salutdeluxe.hamburg/wp-content/uploads/2022/11/Beatboxen-DeluxeKidz_Esche.jpeg
END:VEVENT
BEGIN:VEVENT
DTSTART;TZID=Europe/Berlin:20310101T163000
DTEND;TZID=Europe/Berlin:20310101T180000
DTSTAMP:20260421T142135
CREATED:20260220T185354Z
LAST-MODIFIED:20260220T185359Z
UID:10006031-1925051400-1925056800@salutdeluxe.hamburg
SUMMARY:Beatbox mit Guido
DESCRIPTION:Beatboxen ist die Kunst\, nur mit Mund\, Nase und Rachen coole Sounds zu produzieren. Finde deinen eigenen Weg\, Menschen zu begeistern! Im Beatbox-Kurs der DeluxeKidz zeigt dir der schwer talentierte Beatbox Guido\, was du mit deiner Mundmuskulatur alles anstellen kannst. „Bb-Tz-Pf-Tz!“
URL:https://salutdeluxe.hamburg/event/beatbox-mit-guido-26-3/2031-01-01/
LOCATION:Esche – Jugendkunsthaus\, Eschelsweg 4\, Hamburg\, Hamburg\, 22767
ATTACH;FMTTYPE=image/jpeg:https://salutdeluxe.hamburg/wp-content/uploads/2022/11/Beatboxen-DeluxeKidz_Esche.jpeg
END:VEVENT
BEGIN:VEVENT
DTSTART;TZID=Europe/Berlin:20310108T163000
DTEND;TZID=Europe/Berlin:20310108T180000
DTSTAMP:20260421T142135
CREATED:20260220T185354Z
LAST-MODIFIED:20260220T185359Z
UID:10006032-1925656200-1925661600@salutdeluxe.hamburg
SUMMARY:Beatbox mit Guido
DESCRIPTION:Beatboxen ist die Kunst\, nur mit Mund\, Nase und Rachen coole Sounds zu produzieren. Finde deinen eigenen Weg\, Menschen zu begeistern! Im Beatbox-Kurs der DeluxeKidz zeigt dir der schwer talentierte Beatbox Guido\, was du mit deiner Mundmuskulatur alles anstellen kannst. „Bb-Tz-Pf-Tz!“
URL:https://salutdeluxe.hamburg/event/beatbox-mit-guido-26-3/2031-01-08/
LOCATION:Esche – Jugendkunsthaus\, Eschelsweg 4\, Hamburg\, Hamburg\, 22767
ATTACH;FMTTYPE=image/jpeg:https://salutdeluxe.hamburg/wp-content/uploads/2022/11/Beatboxen-DeluxeKidz_Esche.jpeg
END:VEVENT
BEGIN:VEVENT
DTSTART;TZID=Europe/Berlin:20310115T163000
DTEND;TZID=Europe/Berlin:20310115T180000
DTSTAMP:20260421T142135
CREATED:20260220T185354Z
LAST-MODIFIED:20260220T185359Z
UID:10006033-1926261000-1926266400@salutdeluxe.hamburg
SUMMARY:Beatbox mit Guido
DESCRIPTION:Beatboxen ist die Kunst\, nur mit Mund\, Nase und Rachen coole Sounds zu produzieren. Finde deinen eigenen Weg\, Menschen zu begeistern! Im Beatbox-Kurs der DeluxeKidz zeigt dir der schwer talentierte Beatbox Guido\, was du mit deiner Mundmuskulatur alles anstellen kannst. „Bb-Tz-Pf-Tz!“
URL:https://salutdeluxe.hamburg/event/beatbox-mit-guido-26-3/2031-01-15/
LOCATION:Esche – Jugendkunsthaus\, Eschelsweg 4\, Hamburg\, Hamburg\, 22767
ATTACH;FMTTYPE=image/jpeg:https://salutdeluxe.hamburg/wp-content/uploads/2022/11/Beatboxen-DeluxeKidz_Esche.jpeg
END:VEVENT
BEGIN:VEVENT
DTSTART;TZID=Europe/Berlin:20310122T163000
DTEND;TZID=Europe/Berlin:20310122T180000
DTSTAMP:20260421T142135
CREATED:20260220T185354Z
LAST-MODIFIED:20260220T185359Z
UID:10006034-1926865800-1926871200@salutdeluxe.hamburg
SUMMARY:Beatbox mit Guido
DESCRIPTION:Beatboxen ist die Kunst\, nur mit Mund\, Nase und Rachen coole Sounds zu produzieren. Finde deinen eigenen Weg\, Menschen zu begeistern! Im Beatbox-Kurs der DeluxeKidz zeigt dir der schwer talentierte Beatbox Guido\, was du mit deiner Mundmuskulatur alles anstellen kannst. „Bb-Tz-Pf-Tz!“
URL:https://salutdeluxe.hamburg/event/beatbox-mit-guido-26-3/2031-01-22/
LOCATION:Esche – Jugendkunsthaus\, Eschelsweg 4\, Hamburg\, Hamburg\, 22767
ATTACH;FMTTYPE=image/jpeg:https://salutdeluxe.hamburg/wp-content/uploads/2022/11/Beatboxen-DeluxeKidz_Esche.jpeg
END:VEVENT
BEGIN:VEVENT
DTSTART;TZID=Europe/Berlin:20310129T163000
DTEND;TZID=Europe/Berlin:20310129T180000
DTSTAMP:20260421T142135
CREATED:20260220T185354Z
LAST-MODIFIED:20260220T185359Z
UID:10006035-1927470600-1927476000@salutdeluxe.hamburg
SUMMARY:Beatbox mit Guido
DESCRIPTION:Beatboxen ist die Kunst\, nur mit Mund\, Nase und Rachen coole Sounds zu produzieren. Finde deinen eigenen Weg\, Menschen zu begeistern! Im Beatbox-Kurs der DeluxeKidz zeigt dir der schwer talentierte Beatbox Guido\, was du mit deiner Mundmuskulatur alles anstellen kannst. „Bb-Tz-Pf-Tz!“
URL:https://salutdeluxe.hamburg/event/beatbox-mit-guido-26-3/2031-01-29/
LOCATION:Esche – Jugendkunsthaus\, Eschelsweg 4\, Hamburg\, Hamburg\, 22767
ATTACH;FMTTYPE=image/jpeg:https://salutdeluxe.hamburg/wp-content/uploads/2022/11/Beatboxen-DeluxeKidz_Esche.jpeg
END:VEVENT
BEGIN:VEVENT
DTSTART;TZID=Europe/Berlin:20310205T163000
DTEND;TZID=Europe/Berlin:20310205T180000
DTSTAMP:20260421T142135
CREATED:20260220T185354Z
LAST-MODIFIED:20260220T185359Z
UID:10006036-1928075400-1928080800@salutdeluxe.hamburg
SUMMARY:Beatbox mit Guido
DESCRIPTION:Beatboxen ist die Kunst\, nur mit Mund\, Nase und Rachen coole Sounds zu produzieren. Finde deinen eigenen Weg\, Menschen zu begeistern! Im Beatbox-Kurs der DeluxeKidz zeigt dir der schwer talentierte Beatbox Guido\, was du mit deiner Mundmuskulatur alles anstellen kannst. „Bb-Tz-Pf-Tz!“
URL:https://salutdeluxe.hamburg/event/beatbox-mit-guido-26-3/2031-02-05/
LOCATION:Esche – Jugendkunsthaus\, Eschelsweg 4\, Hamburg\, Hamburg\, 22767
ATTACH;FMTTYPE=image/jpeg:https://salutdeluxe.hamburg/wp-content/uploads/2022/11/Beatboxen-DeluxeKidz_Esche.jpeg
END:VEVENT
BEGIN:VEVENT
DTSTART;TZID=Europe/Berlin:20310212T163000
DTEND;TZID=Europe/Berlin:20310212T180000
DTSTAMP:20260421T142135
CREATED:20260220T185354Z
LAST-MODIFIED:20260220T185359Z
UID:10006037-1928680200-1928685600@salutdeluxe.hamburg
SUMMARY:Beatbox mit Guido
DESCRIPTION:Beatboxen ist die Kunst\, nur mit Mund\, Nase und Rachen coole Sounds zu produzieren. Finde deinen eigenen Weg\, Menschen zu begeistern! Im Beatbox-Kurs der DeluxeKidz zeigt dir der schwer talentierte Beatbox Guido\, was du mit deiner Mundmuskulatur alles anstellen kannst. „Bb-Tz-Pf-Tz!“
URL:https://salutdeluxe.hamburg/event/beatbox-mit-guido-26-3/2031-02-12/
LOCATION:Esche – Jugendkunsthaus\, Eschelsweg 4\, Hamburg\, Hamburg\, 22767
ATTACH;FMTTYPE=image/jpeg:https://salutdeluxe.hamburg/wp-content/uploads/2022/11/Beatboxen-DeluxeKidz_Esche.jpeg
END:VEVENT
BEGIN:VEVENT
DTSTART;TZID=Europe/Berlin:20310219T163000
DTEND;TZID=Europe/Berlin:20310219T180000
DTSTAMP:20260421T142135
CREATED:20260220T185354Z
LAST-MODIFIED:20260220T185359Z
UID:10006038-1929285000-1929290400@salutdeluxe.hamburg
SUMMARY:Beatbox mit Guido
DESCRIPTION:Beatboxen ist die Kunst\, nur mit Mund\, Nase und Rachen coole Sounds zu produzieren. Finde deinen eigenen Weg\, Menschen zu begeistern! Im Beatbox-Kurs der DeluxeKidz zeigt dir der schwer talentierte Beatbox Guido\, was du mit deiner Mundmuskulatur alles anstellen kannst. „Bb-Tz-Pf-Tz!“
URL:https://salutdeluxe.hamburg/event/beatbox-mit-guido-26-3/2031-02-19/
LOCATION:Esche – Jugendkunsthaus\, Eschelsweg 4\, Hamburg\, Hamburg\, 22767
ATTACH;FMTTYPE=image/jpeg:https://salutdeluxe.hamburg/wp-content/uploads/2022/11/Beatboxen-DeluxeKidz_Esche.jpeg
END:VEVENT
END:VCALENDAR