BEGIN:VCALENDAR
VERSION:2.0
PRODID:-//SalutDeluxe e.V. - ECPv6.2.2//NONSGML v1.0//EN
CALSCALE:GREGORIAN
METHOD:PUBLISH
X-ORIGINAL-URL:https://salutdeluxe.hamburg
X-WR-CALDESC:Veranstaltungen für SalutDeluxe e.V.
REFRESH-INTERVAL;VALUE=DURATION:PT1H
X-Robots-Tag:noindex
X-PUBLISHED-TTL:PT1H
BEGIN:VTIMEZONE
TZID:Europe/Berlin
BEGIN:DAYLIGHT
TZOFFSETFROM:+0100
TZOFFSETTO:+0200
TZNAME:CEST
DTSTART:20290325T010000
END:DAYLIGHT
BEGIN:STANDARD
TZOFFSETFROM:+0200
TZOFFSETTO:+0100
TZNAME:CET
DTSTART:20291028T010000
END:STANDARD
END:VTIMEZONE
BEGIN:VEVENT
DTSTART;TZID=Europe/Berlin:20290401T163000
DTEND;TZID=Europe/Berlin:20290401T190000
DTSTAMP:20260426T020014
CREATED:20240830T120255Z
LAST-MODIFIED:20240830T120257Z
UID:10003271-1869755400-1869764400@salutdeluxe.hamburg
SUMMARY:Born2Sing Chor
DESCRIPTION:Du hast Lust in einer Gruppe zu Singen? Du willst mehr über Harmonien erfahren?\nBeim Born To Sing Choir  lernst du in mehreren Stimmen und ohne Noten zu singen. In der Gruppe sucht  ihr Songs aus die mit Hilfe des Coaches in geeignete Chorversionen arrangiert werden. Du wirst außerdem die Möglichkeit haben individuell an deiner Stimme zu arbeiten. \nAnmeldungen gehen an: class@salutdeluxe.hamburg
URL:https://salutdeluxe.hamburg/event/born2sing-chor-2/2029-04-01/
LOCATION:SalutDeluxe e.V.\, Volkmannstraße 6\, Hamburg\, 22083\, Deutschland
ATTACH;FMTTYPE=image/jpeg:https://salutdeluxe.hamburg/wp-content/uploads/2023/10/BTS-CHOIR-Workshop-SalutDeluxe_Seite_1-scaled.jpg
END:VEVENT
BEGIN:VEVENT
DTSTART;TZID=Europe/Berlin:20290402T183000
DTEND;TZID=Europe/Berlin:20290402T203000
DTSTAMP:20260426T020014
CREATED:20260424T133151Z
LAST-MODIFIED:20260424T133824Z
UID:10006292-1869849000-1869856200@salutdeluxe.hamburg
SUMMARY:Graffiti
DESCRIPTION:Du lernst die Grundlagen des Graffiti kennen und beschäftigst Dich mit den Werten der Hip-Hop Kultur. Du wirst Skizzen erstellen und diese anschließend mit der Spraydose an der Wand umsetzen. Kreativität\, Spaß und Teamwork stehen hier im Vordergrund.\nAlle Materialien die Du brauchst sind vor Ort! Der Workshop richtet sich an Teilnehmer*innen ab 10 Jahren  \nAnmeldungen gehen an: class@salutdeluxe.hamburg
URL:https://salutdeluxe.hamburg/event/graffiti-2/2029-04-02/
LOCATION:Trockendock e.V.\, Elsastraße 41\, 22083\, Hamburg\, 22083\, Deutschland
ATTACH;FMTTYPE=image/jpeg:https://salutdeluxe.hamburg/wp-content/uploads/2022/07/IMG_9988-scaled.jpg
END:VEVENT
BEGIN:VEVENT
DTSTART;TZID=Europe/Berlin:20290403T170000
DTEND;TZID=Europe/Berlin:20290403T190000
DTSTAMP:20260426T020014
CREATED:20250227T125938Z
LAST-MODIFIED:20250227T125938Z
UID:10005280-1869930000-1869937200@salutdeluxe.hamburg
SUMMARY:Beatbox (Zinnwerke)
DESCRIPTION:Beatboxen ist die Kunst\, nur mit Mund\, Nase und Rachen coole Sounds zu produzieren. Und jetzt gibt’s die Möglichkeit\, das an unserem neuen SalutDeluxe-Standort in Wilhelmsburg auszuprobieren! ✨ \nIm Beatbox-Workshop von SalutDeluxe e.V. zeigt dir der talentierte Beatboxer Guido\, was du mit deiner Mundmuskulatur alles anstellen kannst. Auch die Jüngeren können hier schon aktiv werden! „Bb-Tz-Pf-Tz!“
URL:https://salutdeluxe.hamburg/event/beatbox-zinnwerke/2029-04-03/
LOCATION:Zinnwerke\, Veringhof 7\, Hamburg\, 21107\, Deutschland
ATTACH;FMTTYPE=image/jpeg:https://salutdeluxe.hamburg/wp-content/uploads/2025/02/news_007.jpeg
END:VEVENT
BEGIN:VEVENT
DTSTART;TZID=Europe/Berlin:20290404T163000
DTEND;TZID=Europe/Berlin:20290404T180000
DTSTAMP:20260426T020014
CREATED:20260220T185354Z
LAST-MODIFIED:20260220T185359Z
UID:10005940-1870014600-1870020000@salutdeluxe.hamburg
SUMMARY:Beatbox mit Guido
DESCRIPTION:Beatboxen ist die Kunst\, nur mit Mund\, Nase und Rachen coole Sounds zu produzieren. Finde deinen eigenen Weg\, Menschen zu begeistern! Im Beatbox-Kurs der DeluxeKidz zeigt dir der schwer talentierte Beatbox Guido\, was du mit deiner Mundmuskulatur alles anstellen kannst. „Bb-Tz-Pf-Tz!“
URL:https://salutdeluxe.hamburg/event/beatbox-mit-guido-26-3/2029-04-04/
LOCATION:Esche – Jugendkunsthaus\, Eschelsweg 4\, Hamburg\, Hamburg\, 22767
ATTACH;FMTTYPE=image/jpeg:https://salutdeluxe.hamburg/wp-content/uploads/2022/11/Beatboxen-DeluxeKidz_Esche.jpeg
END:VEVENT
BEGIN:VEVENT
DTSTART;TZID=Europe/Berlin:20290405T160000
DTEND;TZID=Europe/Berlin:20290405T190000
DTSTAMP:20260426T020014
CREATED:20260220T194313Z
LAST-MODIFIED:20260220T203752Z
UID:10005605-1870099200-1870110000@salutdeluxe.hamburg
SUMMARY:Writing Lab (Zinnwerke)
DESCRIPTION:Das Writing Lab ist dein Raum\, um dich durch Songwriting besser kennenzulernen – musikalisch und persönlich. Egal ob du schon Texte hast\, die du besprechen möchtest\, oder gerade erst anfängst: Hier bist du genau richtig!\n			\n			\n				\n				\n				\n				\n			\n				\n				\n				\n				\n				\n				\n			\n				\n				\n				\n				\n				\n				Jetzt anmelden
URL:https://salutdeluxe.hamburg/event/vocal-werkstatt-10-2/2029-04-05/
LOCATION:SalutDeluxe e.V.\, Volkmannstraße 6\, Hamburg\, 22083\, Deutschland
ATTACH;FMTTYPE=image/jpeg:https://salutdeluxe.hamburg/wp-content/uploads/2025/02/news_007.jpeg
END:VEVENT
BEGIN:VEVENT
DTSTART;TZID=Europe/Berlin:20290408T163000
DTEND;TZID=Europe/Berlin:20290408T190000
DTSTAMP:20260426T020014
CREATED:20240830T120255Z
LAST-MODIFIED:20240830T120257Z
UID:10003272-1870360200-1870369200@salutdeluxe.hamburg
SUMMARY:Born2Sing Chor
DESCRIPTION:Du hast Lust in einer Gruppe zu Singen? Du willst mehr über Harmonien erfahren?\nBeim Born To Sing Choir  lernst du in mehreren Stimmen und ohne Noten zu singen. In der Gruppe sucht  ihr Songs aus die mit Hilfe des Coaches in geeignete Chorversionen arrangiert werden. Du wirst außerdem die Möglichkeit haben individuell an deiner Stimme zu arbeiten. \nAnmeldungen gehen an: class@salutdeluxe.hamburg
URL:https://salutdeluxe.hamburg/event/born2sing-chor-2/2029-04-08/
LOCATION:SalutDeluxe e.V.\, Volkmannstraße 6\, Hamburg\, 22083\, Deutschland
ATTACH;FMTTYPE=image/jpeg:https://salutdeluxe.hamburg/wp-content/uploads/2023/10/BTS-CHOIR-Workshop-SalutDeluxe_Seite_1-scaled.jpg
END:VEVENT
BEGIN:VEVENT
DTSTART;TZID=Europe/Berlin:20290409T183000
DTEND;TZID=Europe/Berlin:20290409T203000
DTSTAMP:20260426T020014
CREATED:20260424T133151Z
LAST-MODIFIED:20260424T133824Z
UID:10006293-1870453800-1870461000@salutdeluxe.hamburg
SUMMARY:Graffiti
DESCRIPTION:Du lernst die Grundlagen des Graffiti kennen und beschäftigst Dich mit den Werten der Hip-Hop Kultur. Du wirst Skizzen erstellen und diese anschließend mit der Spraydose an der Wand umsetzen. Kreativität\, Spaß und Teamwork stehen hier im Vordergrund.\nAlle Materialien die Du brauchst sind vor Ort! Der Workshop richtet sich an Teilnehmer*innen ab 10 Jahren  \nAnmeldungen gehen an: class@salutdeluxe.hamburg
URL:https://salutdeluxe.hamburg/event/graffiti-2/2029-04-09/
LOCATION:Trockendock e.V.\, Elsastraße 41\, 22083\, Hamburg\, 22083\, Deutschland
ATTACH;FMTTYPE=image/jpeg:https://salutdeluxe.hamburg/wp-content/uploads/2022/07/IMG_9988-scaled.jpg
END:VEVENT
BEGIN:VEVENT
DTSTART;TZID=Europe/Berlin:20290410T170000
DTEND;TZID=Europe/Berlin:20290410T190000
DTSTAMP:20260426T020014
CREATED:20250227T125938Z
LAST-MODIFIED:20250227T125938Z
UID:10005281-1870534800-1870542000@salutdeluxe.hamburg
SUMMARY:Beatbox (Zinnwerke)
DESCRIPTION:Beatboxen ist die Kunst\, nur mit Mund\, Nase und Rachen coole Sounds zu produzieren. Und jetzt gibt’s die Möglichkeit\, das an unserem neuen SalutDeluxe-Standort in Wilhelmsburg auszuprobieren! ✨ \nIm Beatbox-Workshop von SalutDeluxe e.V. zeigt dir der talentierte Beatboxer Guido\, was du mit deiner Mundmuskulatur alles anstellen kannst. Auch die Jüngeren können hier schon aktiv werden! „Bb-Tz-Pf-Tz!“
URL:https://salutdeluxe.hamburg/event/beatbox-zinnwerke/2029-04-10/
LOCATION:Zinnwerke\, Veringhof 7\, Hamburg\, 21107\, Deutschland
ATTACH;FMTTYPE=image/jpeg:https://salutdeluxe.hamburg/wp-content/uploads/2025/02/news_007.jpeg
END:VEVENT
BEGIN:VEVENT
DTSTART;TZID=Europe/Berlin:20290411T163000
DTEND;TZID=Europe/Berlin:20290411T180000
DTSTAMP:20260426T020014
CREATED:20260220T185354Z
LAST-MODIFIED:20260220T185359Z
UID:10005941-1870619400-1870624800@salutdeluxe.hamburg
SUMMARY:Beatbox mit Guido
DESCRIPTION:Beatboxen ist die Kunst\, nur mit Mund\, Nase und Rachen coole Sounds zu produzieren. Finde deinen eigenen Weg\, Menschen zu begeistern! Im Beatbox-Kurs der DeluxeKidz zeigt dir der schwer talentierte Beatbox Guido\, was du mit deiner Mundmuskulatur alles anstellen kannst. „Bb-Tz-Pf-Tz!“
URL:https://salutdeluxe.hamburg/event/beatbox-mit-guido-26-3/2029-04-11/
LOCATION:Esche – Jugendkunsthaus\, Eschelsweg 4\, Hamburg\, Hamburg\, 22767
ATTACH;FMTTYPE=image/jpeg:https://salutdeluxe.hamburg/wp-content/uploads/2022/11/Beatboxen-DeluxeKidz_Esche.jpeg
END:VEVENT
BEGIN:VEVENT
DTSTART;TZID=Europe/Berlin:20290412T160000
DTEND;TZID=Europe/Berlin:20290412T190000
DTSTAMP:20260426T020014
CREATED:20260220T194313Z
LAST-MODIFIED:20260220T203752Z
UID:10005606-1870704000-1870714800@salutdeluxe.hamburg
SUMMARY:Writing Lab (Zinnwerke)
DESCRIPTION:Das Writing Lab ist dein Raum\, um dich durch Songwriting besser kennenzulernen – musikalisch und persönlich. Egal ob du schon Texte hast\, die du besprechen möchtest\, oder gerade erst anfängst: Hier bist du genau richtig!\n			\n			\n				\n				\n				\n				\n			\n				\n				\n				\n				\n				\n				\n			\n				\n				\n				\n				\n				\n				Jetzt anmelden
URL:https://salutdeluxe.hamburg/event/vocal-werkstatt-10-2/2029-04-12/
LOCATION:SalutDeluxe e.V.\, Volkmannstraße 6\, Hamburg\, 22083\, Deutschland
ATTACH;FMTTYPE=image/jpeg:https://salutdeluxe.hamburg/wp-content/uploads/2025/02/news_007.jpeg
END:VEVENT
BEGIN:VEVENT
DTSTART;TZID=Europe/Berlin:20290415T163000
DTEND;TZID=Europe/Berlin:20290415T190000
DTSTAMP:20260426T020014
CREATED:20240830T120255Z
LAST-MODIFIED:20240830T120257Z
UID:10003273-1870965000-1870974000@salutdeluxe.hamburg
SUMMARY:Born2Sing Chor
DESCRIPTION:Du hast Lust in einer Gruppe zu Singen? Du willst mehr über Harmonien erfahren?\nBeim Born To Sing Choir  lernst du in mehreren Stimmen und ohne Noten zu singen. In der Gruppe sucht  ihr Songs aus die mit Hilfe des Coaches in geeignete Chorversionen arrangiert werden. Du wirst außerdem die Möglichkeit haben individuell an deiner Stimme zu arbeiten. \nAnmeldungen gehen an: class@salutdeluxe.hamburg
URL:https://salutdeluxe.hamburg/event/born2sing-chor-2/2029-04-15/
LOCATION:SalutDeluxe e.V.\, Volkmannstraße 6\, Hamburg\, 22083\, Deutschland
ATTACH;FMTTYPE=image/jpeg:https://salutdeluxe.hamburg/wp-content/uploads/2023/10/BTS-CHOIR-Workshop-SalutDeluxe_Seite_1-scaled.jpg
END:VEVENT
BEGIN:VEVENT
DTSTART;TZID=Europe/Berlin:20290416T183000
DTEND;TZID=Europe/Berlin:20290416T203000
DTSTAMP:20260426T020014
CREATED:20260424T133151Z
LAST-MODIFIED:20260424T133824Z
UID:10006294-1871058600-1871065800@salutdeluxe.hamburg
SUMMARY:Graffiti
DESCRIPTION:Du lernst die Grundlagen des Graffiti kennen und beschäftigst Dich mit den Werten der Hip-Hop Kultur. Du wirst Skizzen erstellen und diese anschließend mit der Spraydose an der Wand umsetzen. Kreativität\, Spaß und Teamwork stehen hier im Vordergrund.\nAlle Materialien die Du brauchst sind vor Ort! Der Workshop richtet sich an Teilnehmer*innen ab 10 Jahren  \nAnmeldungen gehen an: class@salutdeluxe.hamburg
URL:https://salutdeluxe.hamburg/event/graffiti-2/2029-04-16/
LOCATION:Trockendock e.V.\, Elsastraße 41\, 22083\, Hamburg\, 22083\, Deutschland
ATTACH;FMTTYPE=image/jpeg:https://salutdeluxe.hamburg/wp-content/uploads/2022/07/IMG_9988-scaled.jpg
END:VEVENT
BEGIN:VEVENT
DTSTART;TZID=Europe/Berlin:20290417T170000
DTEND;TZID=Europe/Berlin:20290417T190000
DTSTAMP:20260426T020014
CREATED:20250227T125938Z
LAST-MODIFIED:20250227T125938Z
UID:10005282-1871139600-1871146800@salutdeluxe.hamburg
SUMMARY:Beatbox (Zinnwerke)
DESCRIPTION:Beatboxen ist die Kunst\, nur mit Mund\, Nase und Rachen coole Sounds zu produzieren. Und jetzt gibt’s die Möglichkeit\, das an unserem neuen SalutDeluxe-Standort in Wilhelmsburg auszuprobieren! ✨ \nIm Beatbox-Workshop von SalutDeluxe e.V. zeigt dir der talentierte Beatboxer Guido\, was du mit deiner Mundmuskulatur alles anstellen kannst. Auch die Jüngeren können hier schon aktiv werden! „Bb-Tz-Pf-Tz!“
URL:https://salutdeluxe.hamburg/event/beatbox-zinnwerke/2029-04-17/
LOCATION:Zinnwerke\, Veringhof 7\, Hamburg\, 21107\, Deutschland
ATTACH;FMTTYPE=image/jpeg:https://salutdeluxe.hamburg/wp-content/uploads/2025/02/news_007.jpeg
END:VEVENT
BEGIN:VEVENT
DTSTART;TZID=Europe/Berlin:20290418T163000
DTEND;TZID=Europe/Berlin:20290418T180000
DTSTAMP:20260426T020014
CREATED:20260220T185354Z
LAST-MODIFIED:20260220T185359Z
UID:10005942-1871224200-1871229600@salutdeluxe.hamburg
SUMMARY:Beatbox mit Guido
DESCRIPTION:Beatboxen ist die Kunst\, nur mit Mund\, Nase und Rachen coole Sounds zu produzieren. Finde deinen eigenen Weg\, Menschen zu begeistern! Im Beatbox-Kurs der DeluxeKidz zeigt dir der schwer talentierte Beatbox Guido\, was du mit deiner Mundmuskulatur alles anstellen kannst. „Bb-Tz-Pf-Tz!“
URL:https://salutdeluxe.hamburg/event/beatbox-mit-guido-26-3/2029-04-18/
LOCATION:Esche – Jugendkunsthaus\, Eschelsweg 4\, Hamburg\, Hamburg\, 22767
ATTACH;FMTTYPE=image/jpeg:https://salutdeluxe.hamburg/wp-content/uploads/2022/11/Beatboxen-DeluxeKidz_Esche.jpeg
END:VEVENT
BEGIN:VEVENT
DTSTART;TZID=Europe/Berlin:20290419T160000
DTEND;TZID=Europe/Berlin:20290419T190000
DTSTAMP:20260426T020014
CREATED:20260220T194313Z
LAST-MODIFIED:20260220T203752Z
UID:10005607-1871308800-1871319600@salutdeluxe.hamburg
SUMMARY:Writing Lab (Zinnwerke)
DESCRIPTION:Das Writing Lab ist dein Raum\, um dich durch Songwriting besser kennenzulernen – musikalisch und persönlich. Egal ob du schon Texte hast\, die du besprechen möchtest\, oder gerade erst anfängst: Hier bist du genau richtig!\n			\n			\n				\n				\n				\n				\n			\n				\n				\n				\n				\n				\n				\n			\n				\n				\n				\n				\n				\n				Jetzt anmelden
URL:https://salutdeluxe.hamburg/event/vocal-werkstatt-10-2/2029-04-19/
LOCATION:SalutDeluxe e.V.\, Volkmannstraße 6\, Hamburg\, 22083\, Deutschland
ATTACH;FMTTYPE=image/jpeg:https://salutdeluxe.hamburg/wp-content/uploads/2025/02/news_007.jpeg
END:VEVENT
BEGIN:VEVENT
DTSTART;TZID=Europe/Berlin:20290422T163000
DTEND;TZID=Europe/Berlin:20290422T190000
DTSTAMP:20260426T020014
CREATED:20240830T120255Z
LAST-MODIFIED:20240830T120257Z
UID:10003274-1871569800-1871578800@salutdeluxe.hamburg
SUMMARY:Born2Sing Chor
DESCRIPTION:Du hast Lust in einer Gruppe zu Singen? Du willst mehr über Harmonien erfahren?\nBeim Born To Sing Choir  lernst du in mehreren Stimmen und ohne Noten zu singen. In der Gruppe sucht  ihr Songs aus die mit Hilfe des Coaches in geeignete Chorversionen arrangiert werden. Du wirst außerdem die Möglichkeit haben individuell an deiner Stimme zu arbeiten. \nAnmeldungen gehen an: class@salutdeluxe.hamburg
URL:https://salutdeluxe.hamburg/event/born2sing-chor-2/2029-04-22/
LOCATION:SalutDeluxe e.V.\, Volkmannstraße 6\, Hamburg\, 22083\, Deutschland
ATTACH;FMTTYPE=image/jpeg:https://salutdeluxe.hamburg/wp-content/uploads/2023/10/BTS-CHOIR-Workshop-SalutDeluxe_Seite_1-scaled.jpg
END:VEVENT
BEGIN:VEVENT
DTSTART;TZID=Europe/Berlin:20290423T183000
DTEND;TZID=Europe/Berlin:20290423T203000
DTSTAMP:20260426T020014
CREATED:20260424T133151Z
LAST-MODIFIED:20260424T133824Z
UID:10006295-1871663400-1871670600@salutdeluxe.hamburg
SUMMARY:Graffiti
DESCRIPTION:Du lernst die Grundlagen des Graffiti kennen und beschäftigst Dich mit den Werten der Hip-Hop Kultur. Du wirst Skizzen erstellen und diese anschließend mit der Spraydose an der Wand umsetzen. Kreativität\, Spaß und Teamwork stehen hier im Vordergrund.\nAlle Materialien die Du brauchst sind vor Ort! Der Workshop richtet sich an Teilnehmer*innen ab 10 Jahren  \nAnmeldungen gehen an: class@salutdeluxe.hamburg
URL:https://salutdeluxe.hamburg/event/graffiti-2/2029-04-23/
LOCATION:Trockendock e.V.\, Elsastraße 41\, 22083\, Hamburg\, 22083\, Deutschland
ATTACH;FMTTYPE=image/jpeg:https://salutdeluxe.hamburg/wp-content/uploads/2022/07/IMG_9988-scaled.jpg
END:VEVENT
BEGIN:VEVENT
DTSTART;TZID=Europe/Berlin:20290424T170000
DTEND;TZID=Europe/Berlin:20290424T190000
DTSTAMP:20260426T020014
CREATED:20250227T125938Z
LAST-MODIFIED:20250227T125938Z
UID:10005283-1871744400-1871751600@salutdeluxe.hamburg
SUMMARY:Beatbox (Zinnwerke)
DESCRIPTION:Beatboxen ist die Kunst\, nur mit Mund\, Nase und Rachen coole Sounds zu produzieren. Und jetzt gibt’s die Möglichkeit\, das an unserem neuen SalutDeluxe-Standort in Wilhelmsburg auszuprobieren! ✨ \nIm Beatbox-Workshop von SalutDeluxe e.V. zeigt dir der talentierte Beatboxer Guido\, was du mit deiner Mundmuskulatur alles anstellen kannst. Auch die Jüngeren können hier schon aktiv werden! „Bb-Tz-Pf-Tz!“
URL:https://salutdeluxe.hamburg/event/beatbox-zinnwerke/2029-04-24/
LOCATION:Zinnwerke\, Veringhof 7\, Hamburg\, 21107\, Deutschland
ATTACH;FMTTYPE=image/jpeg:https://salutdeluxe.hamburg/wp-content/uploads/2025/02/news_007.jpeg
END:VEVENT
BEGIN:VEVENT
DTSTART;TZID=Europe/Berlin:20290425T163000
DTEND;TZID=Europe/Berlin:20290425T180000
DTSTAMP:20260426T020014
CREATED:20260220T185354Z
LAST-MODIFIED:20260220T185359Z
UID:10005943-1871829000-1871834400@salutdeluxe.hamburg
SUMMARY:Beatbox mit Guido
DESCRIPTION:Beatboxen ist die Kunst\, nur mit Mund\, Nase und Rachen coole Sounds zu produzieren. Finde deinen eigenen Weg\, Menschen zu begeistern! Im Beatbox-Kurs der DeluxeKidz zeigt dir der schwer talentierte Beatbox Guido\, was du mit deiner Mundmuskulatur alles anstellen kannst. „Bb-Tz-Pf-Tz!“
URL:https://salutdeluxe.hamburg/event/beatbox-mit-guido-26-3/2029-04-25/
LOCATION:Esche – Jugendkunsthaus\, Eschelsweg 4\, Hamburg\, Hamburg\, 22767
ATTACH;FMTTYPE=image/jpeg:https://salutdeluxe.hamburg/wp-content/uploads/2022/11/Beatboxen-DeluxeKidz_Esche.jpeg
END:VEVENT
BEGIN:VEVENT
DTSTART;TZID=Europe/Berlin:20290426T160000
DTEND;TZID=Europe/Berlin:20290426T190000
DTSTAMP:20260426T020014
CREATED:20260220T194313Z
LAST-MODIFIED:20260220T203752Z
UID:10005608-1871913600-1871924400@salutdeluxe.hamburg
SUMMARY:Writing Lab (Zinnwerke)
DESCRIPTION:Das Writing Lab ist dein Raum\, um dich durch Songwriting besser kennenzulernen – musikalisch und persönlich. Egal ob du schon Texte hast\, die du besprechen möchtest\, oder gerade erst anfängst: Hier bist du genau richtig!\n			\n			\n				\n				\n				\n				\n			\n				\n				\n				\n				\n				\n				\n			\n				\n				\n				\n				\n				\n				Jetzt anmelden
URL:https://salutdeluxe.hamburg/event/vocal-werkstatt-10-2/2029-04-26/
LOCATION:SalutDeluxe e.V.\, Volkmannstraße 6\, Hamburg\, 22083\, Deutschland
ATTACH;FMTTYPE=image/jpeg:https://salutdeluxe.hamburg/wp-content/uploads/2025/02/news_007.jpeg
END:VEVENT
BEGIN:VEVENT
DTSTART;TZID=Europe/Berlin:20290429T163000
DTEND;TZID=Europe/Berlin:20290429T190000
DTSTAMP:20260426T020014
CREATED:20240830T120255Z
LAST-MODIFIED:20240830T120257Z
UID:10003275-1872174600-1872183600@salutdeluxe.hamburg
SUMMARY:Born2Sing Chor
DESCRIPTION:Du hast Lust in einer Gruppe zu Singen? Du willst mehr über Harmonien erfahren?\nBeim Born To Sing Choir  lernst du in mehreren Stimmen und ohne Noten zu singen. In der Gruppe sucht  ihr Songs aus die mit Hilfe des Coaches in geeignete Chorversionen arrangiert werden. Du wirst außerdem die Möglichkeit haben individuell an deiner Stimme zu arbeiten. \nAnmeldungen gehen an: class@salutdeluxe.hamburg
URL:https://salutdeluxe.hamburg/event/born2sing-chor-2/2029-04-29/
LOCATION:SalutDeluxe e.V.\, Volkmannstraße 6\, Hamburg\, 22083\, Deutschland
ATTACH;FMTTYPE=image/jpeg:https://salutdeluxe.hamburg/wp-content/uploads/2023/10/BTS-CHOIR-Workshop-SalutDeluxe_Seite_1-scaled.jpg
END:VEVENT
BEGIN:VEVENT
DTSTART;TZID=Europe/Berlin:20290430T183000
DTEND;TZID=Europe/Berlin:20290430T203000
DTSTAMP:20260426T020014
CREATED:20260424T133151Z
LAST-MODIFIED:20260424T133824Z
UID:10006296-1872268200-1872275400@salutdeluxe.hamburg
SUMMARY:Graffiti
DESCRIPTION:Du lernst die Grundlagen des Graffiti kennen und beschäftigst Dich mit den Werten der Hip-Hop Kultur. Du wirst Skizzen erstellen und diese anschließend mit der Spraydose an der Wand umsetzen. Kreativität\, Spaß und Teamwork stehen hier im Vordergrund.\nAlle Materialien die Du brauchst sind vor Ort! Der Workshop richtet sich an Teilnehmer*innen ab 10 Jahren  \nAnmeldungen gehen an: class@salutdeluxe.hamburg
URL:https://salutdeluxe.hamburg/event/graffiti-2/2029-04-30/
LOCATION:Trockendock e.V.\, Elsastraße 41\, 22083\, Hamburg\, 22083\, Deutschland
ATTACH;FMTTYPE=image/jpeg:https://salutdeluxe.hamburg/wp-content/uploads/2022/07/IMG_9988-scaled.jpg
END:VEVENT
END:VCALENDAR