BEGIN:VCALENDAR
VERSION:2.0
PRODID:-//SalutDeluxe e.V. - ECPv6.2.2//NONSGML v1.0//EN
CALSCALE:GREGORIAN
METHOD:PUBLISH
X-ORIGINAL-URL:https://salutdeluxe.hamburg
X-WR-CALDESC:Veranstaltungen für SalutDeluxe e.V.
REFRESH-INTERVAL;VALUE=DURATION:PT1H
X-Robots-Tag:noindex
X-PUBLISHED-TTL:PT1H
BEGIN:VTIMEZONE
TZID:Europe/Berlin
BEGIN:DAYLIGHT
TZOFFSETFROM:+0100
TZOFFSETTO:+0200
TZNAME:CEST
DTSTART:20290325T010000
END:DAYLIGHT
BEGIN:STANDARD
TZOFFSETFROM:+0200
TZOFFSETTO:+0100
TZNAME:CET
DTSTART:20291028T010000
END:STANDARD
END:VTIMEZONE
BEGIN:VEVENT
DTSTART;TZID=Europe/Berlin:20290301T160000
DTEND;TZID=Europe/Berlin:20290301T190000
DTSTAMP:20260425T214725
CREATED:20260220T194313Z
LAST-MODIFIED:20260220T203752Z
UID:10005600-1867075200-1867086000@salutdeluxe.hamburg
SUMMARY:Writing Lab (Zinnwerke)
DESCRIPTION:Das Writing Lab ist dein Raum\, um dich durch Songwriting besser kennenzulernen – musikalisch und persönlich. Egal ob du schon Texte hast\, die du besprechen möchtest\, oder gerade erst anfängst: Hier bist du genau richtig!\n			\n			\n				\n				\n				\n				\n			\n				\n				\n				\n				\n				\n				\n			\n				\n				\n				\n				\n				\n				Jetzt anmelden
URL:https://salutdeluxe.hamburg/event/vocal-werkstatt-10-2/2029-03-01/
LOCATION:SalutDeluxe e.V.\, Volkmannstraße 6\, Hamburg\, 22083\, Deutschland
ATTACH;FMTTYPE=image/jpeg:https://salutdeluxe.hamburg/wp-content/uploads/2025/02/news_007.jpeg
END:VEVENT
BEGIN:VEVENT
DTSTART;TZID=Europe/Berlin:20290304T163000
DTEND;TZID=Europe/Berlin:20290304T190000
DTSTAMP:20260425T214725
CREATED:20240830T120255Z
LAST-MODIFIED:20240830T120257Z
UID:10003267-1867336200-1867345200@salutdeluxe.hamburg
SUMMARY:Born2Sing Chor
DESCRIPTION:Du hast Lust in einer Gruppe zu Singen? Du willst mehr über Harmonien erfahren?\nBeim Born To Sing Choir  lernst du in mehreren Stimmen und ohne Noten zu singen. In der Gruppe sucht  ihr Songs aus die mit Hilfe des Coaches in geeignete Chorversionen arrangiert werden. Du wirst außerdem die Möglichkeit haben individuell an deiner Stimme zu arbeiten. \nAnmeldungen gehen an: class@salutdeluxe.hamburg
URL:https://salutdeluxe.hamburg/event/born2sing-chor-2/2029-03-04/
LOCATION:SalutDeluxe e.V.\, Volkmannstraße 6\, Hamburg\, 22083\, Deutschland
ATTACH;FMTTYPE=image/jpeg:https://salutdeluxe.hamburg/wp-content/uploads/2023/10/BTS-CHOIR-Workshop-SalutDeluxe_Seite_1-scaled.jpg
END:VEVENT
BEGIN:VEVENT
DTSTART;TZID=Europe/Berlin:20290305T183000
DTEND;TZID=Europe/Berlin:20290305T203000
DTSTAMP:20260425T214725
CREATED:20260424T133151Z
LAST-MODIFIED:20260424T133824Z
UID:10006288-1867429800-1867437000@salutdeluxe.hamburg
SUMMARY:Graffiti
DESCRIPTION:Du lernst die Grundlagen des Graffiti kennen und beschäftigst Dich mit den Werten der Hip-Hop Kultur. Du wirst Skizzen erstellen und diese anschließend mit der Spraydose an der Wand umsetzen. Kreativität\, Spaß und Teamwork stehen hier im Vordergrund.\nAlle Materialien die Du brauchst sind vor Ort! Der Workshop richtet sich an Teilnehmer*innen ab 10 Jahren  \nAnmeldungen gehen an: class@salutdeluxe.hamburg
URL:https://salutdeluxe.hamburg/event/graffiti-2/2029-03-05/
LOCATION:Trockendock e.V.\, Elsastraße 41\, 22083\, Hamburg\, 22083\, Deutschland
ATTACH;FMTTYPE=image/jpeg:https://salutdeluxe.hamburg/wp-content/uploads/2022/07/IMG_9988-scaled.jpg
END:VEVENT
BEGIN:VEVENT
DTSTART;TZID=Europe/Berlin:20290306T170000
DTEND;TZID=Europe/Berlin:20290306T190000
DTSTAMP:20260425T214725
CREATED:20250227T125938Z
LAST-MODIFIED:20250227T125938Z
UID:10005276-1867510800-1867518000@salutdeluxe.hamburg
SUMMARY:Beatbox (Zinnwerke)
DESCRIPTION:Beatboxen ist die Kunst\, nur mit Mund\, Nase und Rachen coole Sounds zu produzieren. Und jetzt gibt’s die Möglichkeit\, das an unserem neuen SalutDeluxe-Standort in Wilhelmsburg auszuprobieren! ✨ \nIm Beatbox-Workshop von SalutDeluxe e.V. zeigt dir der talentierte Beatboxer Guido\, was du mit deiner Mundmuskulatur alles anstellen kannst. Auch die Jüngeren können hier schon aktiv werden! „Bb-Tz-Pf-Tz!“
URL:https://salutdeluxe.hamburg/event/beatbox-zinnwerke/2029-03-06/
LOCATION:Zinnwerke\, Veringhof 7\, Hamburg\, 21107\, Deutschland
ATTACH;FMTTYPE=image/jpeg:https://salutdeluxe.hamburg/wp-content/uploads/2025/02/news_007.jpeg
END:VEVENT
BEGIN:VEVENT
DTSTART;TZID=Europe/Berlin:20290307T163000
DTEND;TZID=Europe/Berlin:20290307T180000
DTSTAMP:20260425T214725
CREATED:20260220T185354Z
LAST-MODIFIED:20260220T185359Z
UID:10005936-1867595400-1867600800@salutdeluxe.hamburg
SUMMARY:Beatbox mit Guido
DESCRIPTION:Beatboxen ist die Kunst\, nur mit Mund\, Nase und Rachen coole Sounds zu produzieren. Finde deinen eigenen Weg\, Menschen zu begeistern! Im Beatbox-Kurs der DeluxeKidz zeigt dir der schwer talentierte Beatbox Guido\, was du mit deiner Mundmuskulatur alles anstellen kannst. „Bb-Tz-Pf-Tz!“
URL:https://salutdeluxe.hamburg/event/beatbox-mit-guido-26-3/2029-03-07/
LOCATION:Esche – Jugendkunsthaus\, Eschelsweg 4\, Hamburg\, Hamburg\, 22767
ATTACH;FMTTYPE=image/jpeg:https://salutdeluxe.hamburg/wp-content/uploads/2022/11/Beatboxen-DeluxeKidz_Esche.jpeg
END:VEVENT
BEGIN:VEVENT
DTSTART;TZID=Europe/Berlin:20290308T160000
DTEND;TZID=Europe/Berlin:20290308T190000
DTSTAMP:20260425T214725
CREATED:20260220T194313Z
LAST-MODIFIED:20260220T203752Z
UID:10005601-1867680000-1867690800@salutdeluxe.hamburg
SUMMARY:Writing Lab (Zinnwerke)
DESCRIPTION:Das Writing Lab ist dein Raum\, um dich durch Songwriting besser kennenzulernen – musikalisch und persönlich. Egal ob du schon Texte hast\, die du besprechen möchtest\, oder gerade erst anfängst: Hier bist du genau richtig!\n			\n			\n				\n				\n				\n				\n			\n				\n				\n				\n				\n				\n				\n			\n				\n				\n				\n				\n				\n				Jetzt anmelden
URL:https://salutdeluxe.hamburg/event/vocal-werkstatt-10-2/2029-03-08/
LOCATION:SalutDeluxe e.V.\, Volkmannstraße 6\, Hamburg\, 22083\, Deutschland
ATTACH;FMTTYPE=image/jpeg:https://salutdeluxe.hamburg/wp-content/uploads/2025/02/news_007.jpeg
END:VEVENT
BEGIN:VEVENT
DTSTART;TZID=Europe/Berlin:20290311T163000
DTEND;TZID=Europe/Berlin:20290311T190000
DTSTAMP:20260425T214725
CREATED:20240830T120255Z
LAST-MODIFIED:20240830T120257Z
UID:10003268-1867941000-1867950000@salutdeluxe.hamburg
SUMMARY:Born2Sing Chor
DESCRIPTION:Du hast Lust in einer Gruppe zu Singen? Du willst mehr über Harmonien erfahren?\nBeim Born To Sing Choir  lernst du in mehreren Stimmen und ohne Noten zu singen. In der Gruppe sucht  ihr Songs aus die mit Hilfe des Coaches in geeignete Chorversionen arrangiert werden. Du wirst außerdem die Möglichkeit haben individuell an deiner Stimme zu arbeiten. \nAnmeldungen gehen an: class@salutdeluxe.hamburg
URL:https://salutdeluxe.hamburg/event/born2sing-chor-2/2029-03-11/
LOCATION:SalutDeluxe e.V.\, Volkmannstraße 6\, Hamburg\, 22083\, Deutschland
ATTACH;FMTTYPE=image/jpeg:https://salutdeluxe.hamburg/wp-content/uploads/2023/10/BTS-CHOIR-Workshop-SalutDeluxe_Seite_1-scaled.jpg
END:VEVENT
BEGIN:VEVENT
DTSTART;TZID=Europe/Berlin:20290312T183000
DTEND;TZID=Europe/Berlin:20290312T203000
DTSTAMP:20260425T214725
CREATED:20260424T133151Z
LAST-MODIFIED:20260424T133824Z
UID:10006289-1868034600-1868041800@salutdeluxe.hamburg
SUMMARY:Graffiti
DESCRIPTION:Du lernst die Grundlagen des Graffiti kennen und beschäftigst Dich mit den Werten der Hip-Hop Kultur. Du wirst Skizzen erstellen und diese anschließend mit der Spraydose an der Wand umsetzen. Kreativität\, Spaß und Teamwork stehen hier im Vordergrund.\nAlle Materialien die Du brauchst sind vor Ort! Der Workshop richtet sich an Teilnehmer*innen ab 10 Jahren  \nAnmeldungen gehen an: class@salutdeluxe.hamburg
URL:https://salutdeluxe.hamburg/event/graffiti-2/2029-03-12/
LOCATION:Trockendock e.V.\, Elsastraße 41\, 22083\, Hamburg\, 22083\, Deutschland
ATTACH;FMTTYPE=image/jpeg:https://salutdeluxe.hamburg/wp-content/uploads/2022/07/IMG_9988-scaled.jpg
END:VEVENT
BEGIN:VEVENT
DTSTART;TZID=Europe/Berlin:20290313T170000
DTEND;TZID=Europe/Berlin:20290313T190000
DTSTAMP:20260425T214725
CREATED:20250227T125938Z
LAST-MODIFIED:20250227T125938Z
UID:10005277-1868115600-1868122800@salutdeluxe.hamburg
SUMMARY:Beatbox (Zinnwerke)
DESCRIPTION:Beatboxen ist die Kunst\, nur mit Mund\, Nase und Rachen coole Sounds zu produzieren. Und jetzt gibt’s die Möglichkeit\, das an unserem neuen SalutDeluxe-Standort in Wilhelmsburg auszuprobieren! ✨ \nIm Beatbox-Workshop von SalutDeluxe e.V. zeigt dir der talentierte Beatboxer Guido\, was du mit deiner Mundmuskulatur alles anstellen kannst. Auch die Jüngeren können hier schon aktiv werden! „Bb-Tz-Pf-Tz!“
URL:https://salutdeluxe.hamburg/event/beatbox-zinnwerke/2029-03-13/
LOCATION:Zinnwerke\, Veringhof 7\, Hamburg\, 21107\, Deutschland
ATTACH;FMTTYPE=image/jpeg:https://salutdeluxe.hamburg/wp-content/uploads/2025/02/news_007.jpeg
END:VEVENT
BEGIN:VEVENT
DTSTART;TZID=Europe/Berlin:20290314T163000
DTEND;TZID=Europe/Berlin:20290314T180000
DTSTAMP:20260425T214725
CREATED:20260220T185354Z
LAST-MODIFIED:20260220T185359Z
UID:10005937-1868200200-1868205600@salutdeluxe.hamburg
SUMMARY:Beatbox mit Guido
DESCRIPTION:Beatboxen ist die Kunst\, nur mit Mund\, Nase und Rachen coole Sounds zu produzieren. Finde deinen eigenen Weg\, Menschen zu begeistern! Im Beatbox-Kurs der DeluxeKidz zeigt dir der schwer talentierte Beatbox Guido\, was du mit deiner Mundmuskulatur alles anstellen kannst. „Bb-Tz-Pf-Tz!“
URL:https://salutdeluxe.hamburg/event/beatbox-mit-guido-26-3/2029-03-14/
LOCATION:Esche – Jugendkunsthaus\, Eschelsweg 4\, Hamburg\, Hamburg\, 22767
ATTACH;FMTTYPE=image/jpeg:https://salutdeluxe.hamburg/wp-content/uploads/2022/11/Beatboxen-DeluxeKidz_Esche.jpeg
END:VEVENT
BEGIN:VEVENT
DTSTART;TZID=Europe/Berlin:20290315T160000
DTEND;TZID=Europe/Berlin:20290315T190000
DTSTAMP:20260425T214725
CREATED:20260220T194313Z
LAST-MODIFIED:20260220T203752Z
UID:10005602-1868284800-1868295600@salutdeluxe.hamburg
SUMMARY:Writing Lab (Zinnwerke)
DESCRIPTION:Das Writing Lab ist dein Raum\, um dich durch Songwriting besser kennenzulernen – musikalisch und persönlich. Egal ob du schon Texte hast\, die du besprechen möchtest\, oder gerade erst anfängst: Hier bist du genau richtig!\n			\n			\n				\n				\n				\n				\n			\n				\n				\n				\n				\n				\n				\n			\n				\n				\n				\n				\n				\n				Jetzt anmelden
URL:https://salutdeluxe.hamburg/event/vocal-werkstatt-10-2/2029-03-15/
LOCATION:SalutDeluxe e.V.\, Volkmannstraße 6\, Hamburg\, 22083\, Deutschland
ATTACH;FMTTYPE=image/jpeg:https://salutdeluxe.hamburg/wp-content/uploads/2025/02/news_007.jpeg
END:VEVENT
BEGIN:VEVENT
DTSTART;TZID=Europe/Berlin:20290318T163000
DTEND;TZID=Europe/Berlin:20290318T190000
DTSTAMP:20260425T214725
CREATED:20240830T120255Z
LAST-MODIFIED:20240830T120257Z
UID:10003269-1868545800-1868554800@salutdeluxe.hamburg
SUMMARY:Born2Sing Chor
DESCRIPTION:Du hast Lust in einer Gruppe zu Singen? Du willst mehr über Harmonien erfahren?\nBeim Born To Sing Choir  lernst du in mehreren Stimmen und ohne Noten zu singen. In der Gruppe sucht  ihr Songs aus die mit Hilfe des Coaches in geeignete Chorversionen arrangiert werden. Du wirst außerdem die Möglichkeit haben individuell an deiner Stimme zu arbeiten. \nAnmeldungen gehen an: class@salutdeluxe.hamburg
URL:https://salutdeluxe.hamburg/event/born2sing-chor-2/2029-03-18/
LOCATION:SalutDeluxe e.V.\, Volkmannstraße 6\, Hamburg\, 22083\, Deutschland
ATTACH;FMTTYPE=image/jpeg:https://salutdeluxe.hamburg/wp-content/uploads/2023/10/BTS-CHOIR-Workshop-SalutDeluxe_Seite_1-scaled.jpg
END:VEVENT
BEGIN:VEVENT
DTSTART;TZID=Europe/Berlin:20290319T183000
DTEND;TZID=Europe/Berlin:20290319T203000
DTSTAMP:20260425T214725
CREATED:20260424T133151Z
LAST-MODIFIED:20260424T133824Z
UID:10006290-1868639400-1868646600@salutdeluxe.hamburg
SUMMARY:Graffiti
DESCRIPTION:Du lernst die Grundlagen des Graffiti kennen und beschäftigst Dich mit den Werten der Hip-Hop Kultur. Du wirst Skizzen erstellen und diese anschließend mit der Spraydose an der Wand umsetzen. Kreativität\, Spaß und Teamwork stehen hier im Vordergrund.\nAlle Materialien die Du brauchst sind vor Ort! Der Workshop richtet sich an Teilnehmer*innen ab 10 Jahren  \nAnmeldungen gehen an: class@salutdeluxe.hamburg
URL:https://salutdeluxe.hamburg/event/graffiti-2/2029-03-19/
LOCATION:Trockendock e.V.\, Elsastraße 41\, 22083\, Hamburg\, 22083\, Deutschland
ATTACH;FMTTYPE=image/jpeg:https://salutdeluxe.hamburg/wp-content/uploads/2022/07/IMG_9988-scaled.jpg
END:VEVENT
BEGIN:VEVENT
DTSTART;TZID=Europe/Berlin:20290320T170000
DTEND;TZID=Europe/Berlin:20290320T190000
DTSTAMP:20260425T214725
CREATED:20250227T125938Z
LAST-MODIFIED:20250227T125938Z
UID:10005278-1868720400-1868727600@salutdeluxe.hamburg
SUMMARY:Beatbox (Zinnwerke)
DESCRIPTION:Beatboxen ist die Kunst\, nur mit Mund\, Nase und Rachen coole Sounds zu produzieren. Und jetzt gibt’s die Möglichkeit\, das an unserem neuen SalutDeluxe-Standort in Wilhelmsburg auszuprobieren! ✨ \nIm Beatbox-Workshop von SalutDeluxe e.V. zeigt dir der talentierte Beatboxer Guido\, was du mit deiner Mundmuskulatur alles anstellen kannst. Auch die Jüngeren können hier schon aktiv werden! „Bb-Tz-Pf-Tz!“
URL:https://salutdeluxe.hamburg/event/beatbox-zinnwerke/2029-03-20/
LOCATION:Zinnwerke\, Veringhof 7\, Hamburg\, 21107\, Deutschland
ATTACH;FMTTYPE=image/jpeg:https://salutdeluxe.hamburg/wp-content/uploads/2025/02/news_007.jpeg
END:VEVENT
BEGIN:VEVENT
DTSTART;TZID=Europe/Berlin:20290321T163000
DTEND;TZID=Europe/Berlin:20290321T180000
DTSTAMP:20260425T214725
CREATED:20260220T185354Z
LAST-MODIFIED:20260220T185359Z
UID:10005938-1868805000-1868810400@salutdeluxe.hamburg
SUMMARY:Beatbox mit Guido
DESCRIPTION:Beatboxen ist die Kunst\, nur mit Mund\, Nase und Rachen coole Sounds zu produzieren. Finde deinen eigenen Weg\, Menschen zu begeistern! Im Beatbox-Kurs der DeluxeKidz zeigt dir der schwer talentierte Beatbox Guido\, was du mit deiner Mundmuskulatur alles anstellen kannst. „Bb-Tz-Pf-Tz!“
URL:https://salutdeluxe.hamburg/event/beatbox-mit-guido-26-3/2029-03-21/
LOCATION:Esche – Jugendkunsthaus\, Eschelsweg 4\, Hamburg\, Hamburg\, 22767
ATTACH;FMTTYPE=image/jpeg:https://salutdeluxe.hamburg/wp-content/uploads/2022/11/Beatboxen-DeluxeKidz_Esche.jpeg
END:VEVENT
BEGIN:VEVENT
DTSTART;TZID=Europe/Berlin:20290322T160000
DTEND;TZID=Europe/Berlin:20290322T190000
DTSTAMP:20260425T214725
CREATED:20260220T194313Z
LAST-MODIFIED:20260220T203752Z
UID:10005603-1868889600-1868900400@salutdeluxe.hamburg
SUMMARY:Writing Lab (Zinnwerke)
DESCRIPTION:Das Writing Lab ist dein Raum\, um dich durch Songwriting besser kennenzulernen – musikalisch und persönlich. Egal ob du schon Texte hast\, die du besprechen möchtest\, oder gerade erst anfängst: Hier bist du genau richtig!\n			\n			\n				\n				\n				\n				\n			\n				\n				\n				\n				\n				\n				\n			\n				\n				\n				\n				\n				\n				Jetzt anmelden
URL:https://salutdeluxe.hamburg/event/vocal-werkstatt-10-2/2029-03-22/
LOCATION:SalutDeluxe e.V.\, Volkmannstraße 6\, Hamburg\, 22083\, Deutschland
ATTACH;FMTTYPE=image/jpeg:https://salutdeluxe.hamburg/wp-content/uploads/2025/02/news_007.jpeg
END:VEVENT
BEGIN:VEVENT
DTSTART;TZID=Europe/Berlin:20290325T163000
DTEND;TZID=Europe/Berlin:20290325T190000
DTSTAMP:20260425T214725
CREATED:20240830T120255Z
LAST-MODIFIED:20240830T120257Z
UID:10003270-1869150600-1869159600@salutdeluxe.hamburg
SUMMARY:Born2Sing Chor
DESCRIPTION:Du hast Lust in einer Gruppe zu Singen? Du willst mehr über Harmonien erfahren?\nBeim Born To Sing Choir  lernst du in mehreren Stimmen und ohne Noten zu singen. In der Gruppe sucht  ihr Songs aus die mit Hilfe des Coaches in geeignete Chorversionen arrangiert werden. Du wirst außerdem die Möglichkeit haben individuell an deiner Stimme zu arbeiten. \nAnmeldungen gehen an: class@salutdeluxe.hamburg
URL:https://salutdeluxe.hamburg/event/born2sing-chor-2/2029-03-25/
LOCATION:SalutDeluxe e.V.\, Volkmannstraße 6\, Hamburg\, 22083\, Deutschland
ATTACH;FMTTYPE=image/jpeg:https://salutdeluxe.hamburg/wp-content/uploads/2023/10/BTS-CHOIR-Workshop-SalutDeluxe_Seite_1-scaled.jpg
END:VEVENT
BEGIN:VEVENT
DTSTART;TZID=Europe/Berlin:20290326T183000
DTEND;TZID=Europe/Berlin:20290326T203000
DTSTAMP:20260425T214725
CREATED:20260424T133151Z
LAST-MODIFIED:20260424T133824Z
UID:10006291-1869244200-1869251400@salutdeluxe.hamburg
SUMMARY:Graffiti
DESCRIPTION:Du lernst die Grundlagen des Graffiti kennen und beschäftigst Dich mit den Werten der Hip-Hop Kultur. Du wirst Skizzen erstellen und diese anschließend mit der Spraydose an der Wand umsetzen. Kreativität\, Spaß und Teamwork stehen hier im Vordergrund.\nAlle Materialien die Du brauchst sind vor Ort! Der Workshop richtet sich an Teilnehmer*innen ab 10 Jahren  \nAnmeldungen gehen an: class@salutdeluxe.hamburg
URL:https://salutdeluxe.hamburg/event/graffiti-2/2029-03-26/
LOCATION:Trockendock e.V.\, Elsastraße 41\, 22083\, Hamburg\, 22083\, Deutschland
ATTACH;FMTTYPE=image/jpeg:https://salutdeluxe.hamburg/wp-content/uploads/2022/07/IMG_9988-scaled.jpg
END:VEVENT
BEGIN:VEVENT
DTSTART;TZID=Europe/Berlin:20290327T170000
DTEND;TZID=Europe/Berlin:20290327T190000
DTSTAMP:20260425T214725
CREATED:20250227T125938Z
LAST-MODIFIED:20250227T125938Z
UID:10005279-1869325200-1869332400@salutdeluxe.hamburg
SUMMARY:Beatbox (Zinnwerke)
DESCRIPTION:Beatboxen ist die Kunst\, nur mit Mund\, Nase und Rachen coole Sounds zu produzieren. Und jetzt gibt’s die Möglichkeit\, das an unserem neuen SalutDeluxe-Standort in Wilhelmsburg auszuprobieren! ✨ \nIm Beatbox-Workshop von SalutDeluxe e.V. zeigt dir der talentierte Beatboxer Guido\, was du mit deiner Mundmuskulatur alles anstellen kannst. Auch die Jüngeren können hier schon aktiv werden! „Bb-Tz-Pf-Tz!“
URL:https://salutdeluxe.hamburg/event/beatbox-zinnwerke/2029-03-27/
LOCATION:Zinnwerke\, Veringhof 7\, Hamburg\, 21107\, Deutschland
ATTACH;FMTTYPE=image/jpeg:https://salutdeluxe.hamburg/wp-content/uploads/2025/02/news_007.jpeg
END:VEVENT
BEGIN:VEVENT
DTSTART;TZID=Europe/Berlin:20290328T163000
DTEND;TZID=Europe/Berlin:20290328T180000
DTSTAMP:20260425T214725
CREATED:20260220T185354Z
LAST-MODIFIED:20260220T185359Z
UID:10005939-1869409800-1869415200@salutdeluxe.hamburg
SUMMARY:Beatbox mit Guido
DESCRIPTION:Beatboxen ist die Kunst\, nur mit Mund\, Nase und Rachen coole Sounds zu produzieren. Finde deinen eigenen Weg\, Menschen zu begeistern! Im Beatbox-Kurs der DeluxeKidz zeigt dir der schwer talentierte Beatbox Guido\, was du mit deiner Mundmuskulatur alles anstellen kannst. „Bb-Tz-Pf-Tz!“
URL:https://salutdeluxe.hamburg/event/beatbox-mit-guido-26-3/2029-03-28/
LOCATION:Esche – Jugendkunsthaus\, Eschelsweg 4\, Hamburg\, Hamburg\, 22767
ATTACH;FMTTYPE=image/jpeg:https://salutdeluxe.hamburg/wp-content/uploads/2022/11/Beatboxen-DeluxeKidz_Esche.jpeg
END:VEVENT
BEGIN:VEVENT
DTSTART;TZID=Europe/Berlin:20290329T160000
DTEND;TZID=Europe/Berlin:20290329T190000
DTSTAMP:20260425T214725
CREATED:20260220T194313Z
LAST-MODIFIED:20260220T203752Z
UID:10005604-1869494400-1869505200@salutdeluxe.hamburg
SUMMARY:Writing Lab (Zinnwerke)
DESCRIPTION:Das Writing Lab ist dein Raum\, um dich durch Songwriting besser kennenzulernen – musikalisch und persönlich. Egal ob du schon Texte hast\, die du besprechen möchtest\, oder gerade erst anfängst: Hier bist du genau richtig!\n			\n			\n				\n				\n				\n				\n			\n				\n				\n				\n				\n				\n				\n			\n				\n				\n				\n				\n				\n				Jetzt anmelden
URL:https://salutdeluxe.hamburg/event/vocal-werkstatt-10-2/2029-03-29/
LOCATION:SalutDeluxe e.V.\, Volkmannstraße 6\, Hamburg\, 22083\, Deutschland
ATTACH;FMTTYPE=image/jpeg:https://salutdeluxe.hamburg/wp-content/uploads/2025/02/news_007.jpeg
END:VEVENT
END:VCALENDAR