BEGIN:VCALENDAR
VERSION:2.0
PRODID:-//SalutDeluxe e.V. - ECPv6.2.2//NONSGML v1.0//EN
CALSCALE:GREGORIAN
METHOD:PUBLISH
X-WR-CALNAME:SalutDeluxe e.V.
X-ORIGINAL-URL:https://salutdeluxe.hamburg
X-WR-CALDESC:Veranstaltungen für SalutDeluxe e.V.
REFRESH-INTERVAL;VALUE=DURATION:PT1H
X-Robots-Tag:noindex
X-PUBLISHED-TTL:PT1H
BEGIN:VTIMEZONE
TZID:Europe/Berlin
BEGIN:DAYLIGHT
TZOFFSETFROM:+0100
TZOFFSETTO:+0200
TZNAME:CEST
DTSTART:20280326T010000
END:DAYLIGHT
BEGIN:STANDARD
TZOFFSETFROM:+0200
TZOFFSETTO:+0100
TZNAME:CET
DTSTART:20281029T010000
END:STANDARD
END:VTIMEZONE
BEGIN:VEVENT
DTSTART;TZID=Europe/Berlin:20280124T183000
DTEND;TZID=Europe/Berlin:20280124T203000
DTSTAMP:20260425T170547
CREATED:20260424T133151Z
LAST-MODIFIED:20260424T133824Z
UID:10006230-1832351400-1832358600@salutdeluxe.hamburg
SUMMARY:Graffiti
DESCRIPTION:Du lernst die Grundlagen des Graffiti kennen und beschäftigst Dich mit den Werten der Hip-Hop Kultur. Du wirst Skizzen erstellen und diese anschließend mit der Spraydose an der Wand umsetzen. Kreativität\, Spaß und Teamwork stehen hier im Vordergrund.\nAlle Materialien die Du brauchst sind vor Ort! Der Workshop richtet sich an Teilnehmer*innen ab 10 Jahren  \nAnmeldungen gehen an: class@salutdeluxe.hamburg
URL:https://salutdeluxe.hamburg/event/graffiti-2/2028-01-24/
LOCATION:Trockendock e.V.\, Elsastraße 41\, 22083\, Hamburg\, 22083\, Deutschland
ATTACH;FMTTYPE=image/jpeg:https://salutdeluxe.hamburg/wp-content/uploads/2022/07/IMG_9988-scaled.jpg
END:VEVENT
END:VCALENDAR