BEGIN:VCALENDAR
VERSION:2.0
PRODID:-//SalutDeluxe e.V. - ECPv6.2.2//NONSGML v1.0//EN
CALSCALE:GREGORIAN
METHOD:PUBLISH
X-ORIGINAL-URL:https://salutdeluxe.hamburg
X-WR-CALDESC:Veranstaltungen für SalutDeluxe e.V.
REFRESH-INTERVAL;VALUE=DURATION:PT1H
X-Robots-Tag:noindex
X-PUBLISHED-TTL:PT1H
BEGIN:VTIMEZONE
TZID:Europe/Berlin
BEGIN:DAYLIGHT
TZOFFSETFROM:+0100
TZOFFSETTO:+0200
TZNAME:CEST
DTSTART:20260329T010000
END:DAYLIGHT
BEGIN:STANDARD
TZOFFSETFROM:+0200
TZOFFSETTO:+0100
TZNAME:CET
DTSTART:20261025T010000
END:STANDARD
END:VTIMEZONE
BEGIN:VEVENT
DTSTART;TZID=Europe/Berlin:20260510T163000
DTEND;TZID=Europe/Berlin:20260510T190000
DTSTAMP:20260421T222855
CREATED:20240830T120255Z
LAST-MODIFIED:20240830T120257Z
UID:10003120-1778430600-1778439600@salutdeluxe.hamburg
SUMMARY:Born2Sing Chor
DESCRIPTION:Du hast Lust in einer Gruppe zu Singen? Du willst mehr über Harmonien erfahren?\nBeim Born To Sing Choir  lernst du in mehreren Stimmen und ohne Noten zu singen. In der Gruppe sucht  ihr Songs aus die mit Hilfe des Coaches in geeignete Chorversionen arrangiert werden. Du wirst außerdem die Möglichkeit haben individuell an deiner Stimme zu arbeiten. \nAnmeldungen gehen an: class@salutdeluxe.hamburg
URL:https://salutdeluxe.hamburg/event/born2sing-chor-2/2026-05-10/
LOCATION:SalutDeluxe e.V.\, Volkmannstraße 6\, Hamburg\, 22083\, Deutschland
ATTACH;FMTTYPE=image/jpeg:https://salutdeluxe.hamburg/wp-content/uploads/2023/10/BTS-CHOIR-Workshop-SalutDeluxe_Seite_1-scaled.jpg
END:VEVENT
END:VCALENDAR