BEGIN:VCALENDAR
VERSION:2.0
PRODID:-//SalutDeluxe e.V. - ECPv6.2.2//NONSGML v1.0//EN
CALSCALE:GREGORIAN
METHOD:PUBLISH
X-WR-CALNAME:SalutDeluxe e.V.
X-ORIGINAL-URL:https://salutdeluxe.hamburg
X-WR-CALDESC:Veranstaltungen für SalutDeluxe e.V.
REFRESH-INTERVAL;VALUE=DURATION:PT1H
X-Robots-Tag:noindex
X-PUBLISHED-TTL:PT1H
BEGIN:VTIMEZONE
TZID:Europe/Berlin
BEGIN:DAYLIGHT
TZOFFSETFROM:+0100
TZOFFSETTO:+0200
TZNAME:CEST
DTSTART:20260329T010000
END:DAYLIGHT
BEGIN:STANDARD
TZOFFSETFROM:+0200
TZOFFSETTO:+0100
TZNAME:CET
DTSTART:20261025T010000
END:STANDARD
END:VTIMEZONE
BEGIN:VEVENT
DTSTART;TZID=Europe/Berlin:20260417T160000
DTEND;TZID=Europe/Berlin:20260417T180000
DTSTAMP:20260421T141929
CREATED:20220317T152207Z
LAST-MODIFIED:20240227T134255Z
UID:10002304-1776441600-1776448800@salutdeluxe.hamburg
SUMMARY:Born2Sing Kids
DESCRIPTION:In diesem Workshop\, speziell für Teilnehmer*innen zwischen 10-16 Jahren\, kannst du deinen Lieblingssong präsentieren und zusammen mit Coach Sinem lernen\, wie du ihn mit viel Gefühl und starker Ausstrahlung performst. Das ist der perfekte Ort\, um deine musikalischen Talente zu entdecken und gemeinsam mit anderen Spaß zu haben. Egal\, ob du schon ein Profi bist oder gerade erst anfängst – wir freuen uns darauf\, mit dir eine tolle Zeit voller Musik und kreativer Entfaltung zu erleben! \nCOACH Sinem\, 24 Jahre alt und ehemalige Teilnehmerin von „The Voice of Germany“ 2018\, wird den „Born to Sing Kids“ Kurs leiten. Durch ihre eigene Erfahrung als Künstlerin bringt sie nicht nur professionelle Gesangstechniken bei\, sondern legt besonderen Wert darauf\, den Kindern beizubringen\, wie sie durch ihre Stimme Emotionen authentisch ausdrücken können. Ihr Engagement besteht darin\, die jungen Talente nicht nur gesanglich\, sondern auch in ihrer individuellen künstlerischen Ausdrucksweise zu unterstützen.\n			\n			\n				\n				\n				\n				\n			\n				\n				\n				\n				\n				\n				\n			\n				\n				\n				\n				\n				\n				Jetzt anmelden
URL:https://salutdeluxe.hamburg/event/rap-kurs-mit-coach-cemo-2/2026-04-17/
LOCATION:SalutDeluxe e.V.\, Volkmannstraße 6\, Hamburg\, 22083\, Deutschland
ATTACH;FMTTYPE=image/jpeg:https://salutdeluxe.hamburg/wp-content/uploads/2022/03/WhatsApp-Image-2024-01-20-at-15.16.08.jpeg
END:VEVENT
END:VCALENDAR