BEGIN:VCALENDAR
VERSION:2.0
PRODID:-//SalutDeluxe e.V. - ECPv6.2.2//NONSGML v1.0//EN
CALSCALE:GREGORIAN
METHOD:PUBLISH
X-WR-CALNAME:SalutDeluxe e.V.
X-ORIGINAL-URL:https://salutdeluxe.hamburg
X-WR-CALDESC:Veranstaltungen für SalutDeluxe e.V.
REFRESH-INTERVAL;VALUE=DURATION:PT1H
X-Robots-Tag:noindex
X-PUBLISHED-TTL:PT1H
BEGIN:VTIMEZONE
TZID:Europe/Berlin
BEGIN:DAYLIGHT
TZOFFSETFROM:+0100
TZOFFSETTO:+0200
TZNAME:CEST
DTSTART:20260329T010000
END:DAYLIGHT
BEGIN:STANDARD
TZOFFSETFROM:+0200
TZOFFSETTO:+0100
TZNAME:CET
DTSTART:20261025T010000
END:STANDARD
END:VTIMEZONE
BEGIN:VEVENT
DTSTART;TZID=Europe/Berlin:20260324T170000
DTEND;TZID=Europe/Berlin:20260324T190000
DTSTAMP:20260421T192721
CREATED:20250227T125938Z
LAST-MODIFIED:20250227T125938Z
UID:10005122-1774371600-1774378800@salutdeluxe.hamburg
SUMMARY:Beatbox (Zinnwerke)
DESCRIPTION:Beatboxen ist die Kunst\, nur mit Mund\, Nase und Rachen coole Sounds zu produzieren. Und jetzt gibt’s die Möglichkeit\, das an unserem neuen SalutDeluxe-Standort in Wilhelmsburg auszuprobieren! ✨ \nIm Beatbox-Workshop von SalutDeluxe e.V. zeigt dir der talentierte Beatboxer Guido\, was du mit deiner Mundmuskulatur alles anstellen kannst. Auch die Jüngeren können hier schon aktiv werden! „Bb-Tz-Pf-Tz!“
URL:https://salutdeluxe.hamburg/event/beatbox-zinnwerke/2026-03-24/
LOCATION:Zinnwerke\, Veringhof 7\, Hamburg\, 21107\, Deutschland
ATTACH;FMTTYPE=image/jpeg:https://salutdeluxe.hamburg/wp-content/uploads/2025/02/news_007.jpeg
END:VEVENT
BEGIN:VEVENT
DTSTART;TZID=Europe/Berlin:20260324T190000
DTEND;TZID=Europe/Berlin:20260324T210000
DTSTAMP:20260421T192721
CREATED:20240117T141330Z
LAST-MODIFIED:20240117T141332Z
UID:10001767-1774378800-1774386000@salutdeluxe.hamburg
SUMMARY:Songwriting
DESCRIPTION:Dieser Workshop bietet Dir die Möglichkeit Dich durch Songwriting besser kennenzulernen\, musikalisch und persönlich. Wenn Du einen Text hast\, den Du besprechen möchtest\, bring ihn mit. Wenn du lernen\nwillst\, wie Du anfängst zu schreiben\, komm vorbei. Wenn du Methoden kennenlernen willst\, um Themen zu finden\, die Dich interessieren\, sei gespannt. Es ist cool mit vielen Texten zu kommen\, es ist cool\, mit keinen Texten zu kommen. Musikerfahrung ist keinmuss. Das Einzige was Du brauchst ist eine gesunde\nVorfreude auf eigene Musik. \nEUER COACH: KHALIL KRY ist Singer/Songwriter und Freestyle Rapper. Mit über drei Jahren Dozentenerfahrung und 10 Jahren Berufserfahrung als Singer/ Songwriter ist Khalil mit dem Songwriting als Tool sehr vertraut. Als Dozent war er bereits für das Goethe-Institut und das Hamburger\nMusikkonservatorium tätig.
URL:https://salutdeluxe.hamburg/event/songwriting-mit-khalil-8-2/2026-03-24/
LOCATION:Trockendock e.V.\, Elsastraße 41\, Hamburg\, Hamburg\, 22083\, Deutschland
ATTACH;FMTTYPE=image/jpeg:https://salutdeluxe.hamburg/wp-content/uploads/2023/05/Entspannt.jpg
END:VEVENT
END:VCALENDAR