BEGIN:VCALENDAR
VERSION:2.0
PRODID:-//SalutDeluxe e.V. - ECPv6.2.2//NONSGML v1.0//EN
CALSCALE:GREGORIAN
METHOD:PUBLISH
X-WR-CALNAME:SalutDeluxe e.V.
X-ORIGINAL-URL:https://salutdeluxe.hamburg
X-WR-CALDESC:Veranstaltungen für SalutDeluxe e.V.
REFRESH-INTERVAL;VALUE=DURATION:PT1H
X-Robots-Tag:noindex
X-PUBLISHED-TTL:PT1H
BEGIN:VTIMEZONE
TZID:Europe/Berlin
BEGIN:DAYLIGHT
TZOFFSETFROM:+0100
TZOFFSETTO:+0200
TZNAME:CEST
DTSTART:20240331T010000
END:DAYLIGHT
BEGIN:STANDARD
TZOFFSETFROM:+0200
TZOFFSETTO:+0100
TZNAME:CET
DTSTART:20241027T010000
END:STANDARD
END:VTIMEZONE
BEGIN:VEVENT
DTSTART;TZID=Europe/Berlin:20241218T160000
DTEND;TZID=Europe/Berlin:20241218T200000
DTSTAMP:20260425T124350
CREATED:20240830T134343Z
LAST-MODIFIED:20240910T131908Z
UID:10003307-1734537600-1734552000@salutdeluxe.hamburg
SUMMARY:Graffiti
DESCRIPTION:Du lernst die Grundlagen des Graffiti kennen und beschäftigst Dich mit den Werten der Hip-Hop Kultur. Du wirst Skizzen erstellen und diese anschließend mit der Spraydose an der Wand umsetzen. Kreativität\, Spaß und Teamwork stehen hier im Vordergrund.\nAlle Materialien die Du brauchst sind vor Ort! Der Workshop richtet sich an Teilnehmer*innen ab 10 Jahren  \nAnmeldungen gehen an: class@salutdeluxe.hamburg
URL:https://salutdeluxe.hamburg/event/sooomercamp-graffiti-2/2024-12-18/
LOCATION:Trockendock e.V.\, Elsastraße 41\, 22083\, Hamburg\, 22083\, Deutschland
ATTACH;FMTTYPE=image/jpeg:https://salutdeluxe.hamburg/wp-content/uploads/2022/07/IMG_9988-scaled.jpg
END:VEVENT
BEGIN:VEVENT
DTSTART;TZID=Europe/Berlin:20241218T163000
DTEND;TZID=Europe/Berlin:20241218T180000
DTSTAMP:20260425T124350
CREATED:20230705T110938Z
LAST-MODIFIED:20230920T110819Z
UID:10000582-1734539400-1734544800@salutdeluxe.hamburg
SUMMARY:Beatbox mit Guido
DESCRIPTION:Beatboxen ist die Kunst\, nur mit Mund\, Nase und Rachen coole Sounds zu produzieren. Finde deinen eigenen Weg\, Menschen zu begeistern! Im Beatbox-Kurs der DeluxeKidz zeigt dir der schwer talentierte Beatbox Guido\, was du mit deiner Mundmuskulatur alles anstellen kannst. „Bb-Tz-Pf-Tz!“
URL:https://salutdeluxe.hamburg/event/beatbox-mit-guido-26/2024-12-18/
LOCATION:Esche – Jugendkunsthaus\, Eschelsweg 4\, Hamburg\, Hamburg\, 22767
ATTACH;FMTTYPE=image/jpeg:https://salutdeluxe.hamburg/wp-content/uploads/2022/11/Beatboxen-DeluxeKidz_Esche.jpeg
END:VEVENT
END:VCALENDAR