BEGIN:VCALENDAR
VERSION:2.0
PRODID:-//SalutDeluxe e.V. - ECPv6.2.2//NONSGML v1.0//EN
CALSCALE:GREGORIAN
METHOD:PUBLISH
X-ORIGINAL-URL:https://salutdeluxe.hamburg
X-WR-CALDESC:Veranstaltungen für SalutDeluxe e.V.
REFRESH-INTERVAL;VALUE=DURATION:PT1H
X-Robots-Tag:noindex
X-PUBLISHED-TTL:PT1H
BEGIN:VTIMEZONE
TZID:Europe/Berlin
BEGIN:DAYLIGHT
TZOFFSETFROM:+0100
TZOFFSETTO:+0200
TZNAME:CEST
DTSTART:20240331T010000
END:DAYLIGHT
BEGIN:STANDARD
TZOFFSETFROM:+0200
TZOFFSETTO:+0100
TZNAME:CET
DTSTART:20241027T010000
END:STANDARD
END:VTIMEZONE
BEGIN:VEVENT
DTSTART;TZID=Europe/Berlin:20241212T170000
DTEND;TZID=Europe/Berlin:20241212T200000
DTSTAMP:20260425T171918
CREATED:20250227T130626Z
LAST-MODIFIED:20250227T130707Z
UID:10005366-1734022800-1734033600@salutdeluxe.hamburg
SUMMARY:040 Writers Club
DESCRIPTION:In diesem Workshop arbeiten wir am Schreiben von Texten. Egal ob Gedichte\, Songs\, Theatertexte oder Drehbücher – hier habt ihr die Möglichkeit\, eure Arbeiten weiterzuentwickeln\, euch auszutauschen und Feedback einzuholen. Es soll ein regelmäßiger Raum entstehen\, in dem ihr in eurem Schreibprozess begleitet werdet und Methoden findet\, um einen besseren Zugang zu euren Fähigkeiten zu bekommen. \nCOACH Naomi Kelechi Odhiambo (1994) ist eine freischaffende Regisseurin\, Kuratorin\, Schauspielerin und Autorin aus Hamburg. Sie performte in und schrieb für Stücke mit\, die u.a. auf Kampnagel\, am Maxim Gorki Theater Berlin\, HAU Berlin und am Ballhaus Ost präsentiert wurden. Ihr in Zusammenarbeit mit Jasmin Luu und Maximilian Mundt entstandener Kurzfilm INVISIBLE NIGHT wurde auf den Nordischen Filmtagen 2023 mit dem Cinestar Prize ausgezeichnet. Ihr Theaterstück DINGE\, DIE WIR NICHT SAGEN wurde im Dezember 2023 auf Kampnagel uraufgeführt. Zuvor wurde das Stück in Form einer Lesung am PushPush Arts Theater in Atlanta\, Georgia\, veröffentlicht. Außerdem ist sie Co-Autorin der ARD-Serie SCHWARZE FRÜCHTE\, die im Juni 2024 auf dem Tribeca Film Festival ihre Weltpremiere feierte.\n			\n			\n				\n				\n				\n				\n			\n				\n				\n				\n				\n				\n				\n			\n				\n				\n				\n				\n				\n				Jetzt anmelden
URL:https://salutdeluxe.hamburg/event/040-writers-club/2024-12-12/
LOCATION:eeden\, Stresemannstraße 132\, Hamburg\, Hamburg\, 22769\, Deutschland
ATTACH;FMTTYPE=image/png:https://salutdeluxe.hamburg/wp-content/uploads/2025/02/040-Writers-Club-3.png
END:VEVENT
END:VCALENDAR