BEGIN:VCALENDAR
VERSION:2.0
PRODID:-//SalutDeluxe e.V. - ECPv6.2.2//NONSGML v1.0//EN
CALSCALE:GREGORIAN
METHOD:PUBLISH
X-WR-CALNAME:SalutDeluxe e.V.
X-ORIGINAL-URL:https://salutdeluxe.hamburg
X-WR-CALDESC:Veranstaltungen für SalutDeluxe e.V.
REFRESH-INTERVAL;VALUE=DURATION:PT1H
X-Robots-Tag:noindex
X-PUBLISHED-TTL:PT1H
BEGIN:VTIMEZONE
TZID:Europe/Berlin
BEGIN:DAYLIGHT
TZOFFSETFROM:+0100
TZOFFSETTO:+0200
TZNAME:CEST
DTSTART:20240331T010000
END:DAYLIGHT
BEGIN:STANDARD
TZOFFSETFROM:+0200
TZOFFSETTO:+0100
TZNAME:CET
DTSTART:20241027T010000
END:STANDARD
END:VTIMEZONE
BEGIN:VEVENT
DTSTART;TZID=Europe/Berlin:20240626T163000
DTEND;TZID=Europe/Berlin:20240626T180000
DTSTAMP:20260426T052613
CREATED:20230705T110938Z
LAST-MODIFIED:20230920T110819Z
UID:10000557-1719419400-1719424800@salutdeluxe.hamburg
SUMMARY:Beatbox mit Guido
DESCRIPTION:Beatboxen ist die Kunst\, nur mit Mund\, Nase und Rachen coole Sounds zu produzieren. Finde deinen eigenen Weg\, Menschen zu begeistern! Im Beatbox-Kurs der DeluxeKidz zeigt dir der schwer talentierte Beatbox Guido\, was du mit deiner Mundmuskulatur alles anstellen kannst. „Bb-Tz-Pf-Tz!“
URL:https://salutdeluxe.hamburg/event/beatbox-mit-guido-26/2024-06-26/
LOCATION:Esche – Jugendkunsthaus\, Eschelsweg 4\, Hamburg\, Hamburg\, 22767
ATTACH;FMTTYPE=image/jpeg:https://salutdeluxe.hamburg/wp-content/uploads/2022/11/Beatboxen-DeluxeKidz_Esche.jpeg
END:VEVENT
BEGIN:VEVENT
DTSTART;TZID=Europe/Berlin:20240626T163000
DTEND;TZID=Europe/Berlin:20240626T190000
DTSTAMP:20260426T052613
CREATED:20231023T113126Z
LAST-MODIFIED:20240830T120141Z
UID:10002763-1719419400-1719428400@salutdeluxe.hamburg
SUMMARY:Born2Sing Chor
DESCRIPTION:Du hast Lust in einer Gruppe zu Singen? Du willst mehr über Harmonien erfahren?\nBeim Born To Sing Choir  lernst du in mehreren Stimmen und ohne Noten zu singen. In der Gruppe sucht  ihr Songs aus die mit Hilfe des Coaches in geeignete Chorversionen arrangiert werden. Du wirst außerdem die Möglichkeit haben individuell an deiner Stimme zu arbeiten. \nAnmeldungen gehen an: class@salutdeluxe.hamburg
URL:https://salutdeluxe.hamburg/event/born2sing-chor/2024-06-26/
LOCATION:SalutDeluxe e.V.\, Volkmannstraße 6\, Hamburg\, 22083\, Deutschland
ATTACH;FMTTYPE=image/jpeg:https://salutdeluxe.hamburg/wp-content/uploads/2023/10/BTS-CHOIR-Workshop-SalutDeluxe_Seite_1-scaled.jpg
END:VEVENT
BEGIN:VEVENT
DTSTART;TZID=Europe/Berlin:20240626T183000
DTEND;TZID=Europe/Berlin:20240626T203000
DTSTAMP:20260426T052613
CREATED:20220720T123509Z
LAST-MODIFIED:20240227T133034Z
UID:10001949-1719426600-1719433800@salutdeluxe.hamburg
SUMMARY:Graffiti
DESCRIPTION:Du lernst die Grundlagen des Graffiti kennen und beschäftigst Dich mit den Werten der Hip-Hop Kultur. Du wirst Skizzen erstellen und diese anschließend mit der Spraydose an der Wand umsetzen. Kreativität\, Spaß und Teamwork stehen hier im Vordergrund.\nAlle Materialien die Du brauchst sind vor Ort! Der Workshop richtet sich an Teilnehmer*innen ab 10 Jahren  \nAnmeldungen gehen an: class@salutdeluxe.hamburg
URL:https://salutdeluxe.hamburg/event/sooomercamp-graffiti/2024-06-26/
LOCATION:Trockendock e.V.\, Elsastraße 41\, 22083\, Hamburg\, 22083\, Deutschland
ATTACH;FMTTYPE=image/jpeg:https://salutdeluxe.hamburg/wp-content/uploads/2022/07/IMG_9988-scaled.jpg
END:VEVENT
END:VCALENDAR