BEGIN:VCALENDAR
VERSION:2.0
PRODID:-//SalutDeluxe e.V. - ECPv6.2.2//NONSGML v1.0//EN
CALSCALE:GREGORIAN
METHOD:PUBLISH
X-WR-CALNAME:SalutDeluxe e.V.
X-ORIGINAL-URL:https://salutdeluxe.hamburg
X-WR-CALDESC:Veranstaltungen für SalutDeluxe e.V.
REFRESH-INTERVAL;VALUE=DURATION:PT1H
X-Robots-Tag:noindex
X-PUBLISHED-TTL:PT1H
BEGIN:VTIMEZONE
TZID:Europe/Berlin
BEGIN:DAYLIGHT
TZOFFSETFROM:+0100
TZOFFSETTO:+0200
TZNAME:CEST
DTSTART:20270328T010000
END:DAYLIGHT
BEGIN:STANDARD
TZOFFSETFROM:+0200
TZOFFSETTO:+0100
TZNAME:CET
DTSTART:20271031T010000
END:STANDARD
END:VTIMEZONE
BEGIN:VEVENT
DTSTART;TZID=Europe/Berlin:20270330T170000
DTEND;TZID=Europe/Berlin:20270330T190000
DTSTAMP:20260426T045441
CREATED:20250227T125938Z
LAST-MODIFIED:20250227T125938Z
UID:10005175-1806426000-1806433200@salutdeluxe.hamburg
SUMMARY:Beatbox (Zinnwerke)
DESCRIPTION:Beatboxen ist die Kunst\, nur mit Mund\, Nase und Rachen coole Sounds zu produzieren. Und jetzt gibt’s die Möglichkeit\, das an unserem neuen SalutDeluxe-Standort in Wilhelmsburg auszuprobieren! ✨ \nIm Beatbox-Workshop von SalutDeluxe e.V. zeigt dir der talentierte Beatboxer Guido\, was du mit deiner Mundmuskulatur alles anstellen kannst. Auch die Jüngeren können hier schon aktiv werden! „Bb-Tz-Pf-Tz!“
URL:https://salutdeluxe.hamburg/event/beatbox-zinnwerke/2027-03-30/
LOCATION:Zinnwerke\, Veringhof 7\, Hamburg\, 21107\, Deutschland
ATTACH;FMTTYPE=image/jpeg:https://salutdeluxe.hamburg/wp-content/uploads/2025/02/news_007.jpeg
END:VEVENT
BEGIN:VEVENT
DTSTART;TZID=Europe/Berlin:20270331T163000
DTEND;TZID=Europe/Berlin:20270331T180000
DTSTAMP:20260426T045442
CREATED:20260220T185354Z
LAST-MODIFIED:20260220T185359Z
UID:10000701-1806510600-1806516000@salutdeluxe.hamburg
SUMMARY:Beatbox mit Guido
DESCRIPTION:Beatboxen ist die Kunst\, nur mit Mund\, Nase und Rachen coole Sounds zu produzieren. Finde deinen eigenen Weg\, Menschen zu begeistern! Im Beatbox-Kurs der DeluxeKidz zeigt dir der schwer talentierte Beatbox Guido\, was du mit deiner Mundmuskulatur alles anstellen kannst. „Bb-Tz-Pf-Tz!“
URL:https://salutdeluxe.hamburg/event/beatbox-mit-guido-26-3/2027-03-31/
LOCATION:Esche – Jugendkunsthaus\, Eschelsweg 4\, Hamburg\, Hamburg\, 22767
ATTACH;FMTTYPE=image/jpeg:https://salutdeluxe.hamburg/wp-content/uploads/2022/11/Beatboxen-DeluxeKidz_Esche.jpeg
END:VEVENT
BEGIN:VEVENT
DTSTART;TZID=Europe/Berlin:20270406T170000
DTEND;TZID=Europe/Berlin:20270406T190000
DTSTAMP:20260426T045442
CREATED:20250227T125938Z
LAST-MODIFIED:20250227T125938Z
UID:10005176-1807030800-1807038000@salutdeluxe.hamburg
SUMMARY:Beatbox (Zinnwerke)
DESCRIPTION:Beatboxen ist die Kunst\, nur mit Mund\, Nase und Rachen coole Sounds zu produzieren. Und jetzt gibt’s die Möglichkeit\, das an unserem neuen SalutDeluxe-Standort in Wilhelmsburg auszuprobieren! ✨ \nIm Beatbox-Workshop von SalutDeluxe e.V. zeigt dir der talentierte Beatboxer Guido\, was du mit deiner Mundmuskulatur alles anstellen kannst. Auch die Jüngeren können hier schon aktiv werden! „Bb-Tz-Pf-Tz!“
URL:https://salutdeluxe.hamburg/event/beatbox-zinnwerke/2027-04-06/
LOCATION:Zinnwerke\, Veringhof 7\, Hamburg\, 21107\, Deutschland
ATTACH;FMTTYPE=image/jpeg:https://salutdeluxe.hamburg/wp-content/uploads/2025/02/news_007.jpeg
END:VEVENT
BEGIN:VEVENT
DTSTART;TZID=Europe/Berlin:20270407T163000
DTEND;TZID=Europe/Berlin:20270407T180000
DTSTAMP:20260426T045442
CREATED:20260220T185354Z
LAST-MODIFIED:20260220T185359Z
UID:10000702-1807115400-1807120800@salutdeluxe.hamburg
SUMMARY:Beatbox mit Guido
DESCRIPTION:Beatboxen ist die Kunst\, nur mit Mund\, Nase und Rachen coole Sounds zu produzieren. Finde deinen eigenen Weg\, Menschen zu begeistern! Im Beatbox-Kurs der DeluxeKidz zeigt dir der schwer talentierte Beatbox Guido\, was du mit deiner Mundmuskulatur alles anstellen kannst. „Bb-Tz-Pf-Tz!“
URL:https://salutdeluxe.hamburg/event/beatbox-mit-guido-26-3/2027-04-07/
LOCATION:Esche – Jugendkunsthaus\, Eschelsweg 4\, Hamburg\, Hamburg\, 22767
ATTACH;FMTTYPE=image/jpeg:https://salutdeluxe.hamburg/wp-content/uploads/2022/11/Beatboxen-DeluxeKidz_Esche.jpeg
END:VEVENT
BEGIN:VEVENT
DTSTART;TZID=Europe/Berlin:20270413T170000
DTEND;TZID=Europe/Berlin:20270413T190000
DTSTAMP:20260426T045442
CREATED:20250227T125938Z
LAST-MODIFIED:20250227T125938Z
UID:10005177-1807635600-1807642800@salutdeluxe.hamburg
SUMMARY:Beatbox (Zinnwerke)
DESCRIPTION:Beatboxen ist die Kunst\, nur mit Mund\, Nase und Rachen coole Sounds zu produzieren. Und jetzt gibt’s die Möglichkeit\, das an unserem neuen SalutDeluxe-Standort in Wilhelmsburg auszuprobieren! ✨ \nIm Beatbox-Workshop von SalutDeluxe e.V. zeigt dir der talentierte Beatboxer Guido\, was du mit deiner Mundmuskulatur alles anstellen kannst. Auch die Jüngeren können hier schon aktiv werden! „Bb-Tz-Pf-Tz!“
URL:https://salutdeluxe.hamburg/event/beatbox-zinnwerke/2027-04-13/
LOCATION:Zinnwerke\, Veringhof 7\, Hamburg\, 21107\, Deutschland
ATTACH;FMTTYPE=image/jpeg:https://salutdeluxe.hamburg/wp-content/uploads/2025/02/news_007.jpeg
END:VEVENT
BEGIN:VEVENT
DTSTART;TZID=Europe/Berlin:20270414T163000
DTEND;TZID=Europe/Berlin:20270414T180000
DTSTAMP:20260426T045442
CREATED:20260220T185354Z
LAST-MODIFIED:20260220T185359Z
UID:10000703-1807720200-1807725600@salutdeluxe.hamburg
SUMMARY:Beatbox mit Guido
DESCRIPTION:Beatboxen ist die Kunst\, nur mit Mund\, Nase und Rachen coole Sounds zu produzieren. Finde deinen eigenen Weg\, Menschen zu begeistern! Im Beatbox-Kurs der DeluxeKidz zeigt dir der schwer talentierte Beatbox Guido\, was du mit deiner Mundmuskulatur alles anstellen kannst. „Bb-Tz-Pf-Tz!“
URL:https://salutdeluxe.hamburg/event/beatbox-mit-guido-26-3/2027-04-14/
LOCATION:Esche – Jugendkunsthaus\, Eschelsweg 4\, Hamburg\, Hamburg\, 22767
ATTACH;FMTTYPE=image/jpeg:https://salutdeluxe.hamburg/wp-content/uploads/2022/11/Beatboxen-DeluxeKidz_Esche.jpeg
END:VEVENT
BEGIN:VEVENT
DTSTART;TZID=Europe/Berlin:20270420T170000
DTEND;TZID=Europe/Berlin:20270420T190000
DTSTAMP:20260426T045442
CREATED:20250227T125938Z
LAST-MODIFIED:20250227T125938Z
UID:10005178-1808240400-1808247600@salutdeluxe.hamburg
SUMMARY:Beatbox (Zinnwerke)
DESCRIPTION:Beatboxen ist die Kunst\, nur mit Mund\, Nase und Rachen coole Sounds zu produzieren. Und jetzt gibt’s die Möglichkeit\, das an unserem neuen SalutDeluxe-Standort in Wilhelmsburg auszuprobieren! ✨ \nIm Beatbox-Workshop von SalutDeluxe e.V. zeigt dir der talentierte Beatboxer Guido\, was du mit deiner Mundmuskulatur alles anstellen kannst. Auch die Jüngeren können hier schon aktiv werden! „Bb-Tz-Pf-Tz!“
URL:https://salutdeluxe.hamburg/event/beatbox-zinnwerke/2027-04-20/
LOCATION:Zinnwerke\, Veringhof 7\, Hamburg\, 21107\, Deutschland
ATTACH;FMTTYPE=image/jpeg:https://salutdeluxe.hamburg/wp-content/uploads/2025/02/news_007.jpeg
END:VEVENT
BEGIN:VEVENT
DTSTART;TZID=Europe/Berlin:20270421T163000
DTEND;TZID=Europe/Berlin:20270421T180000
DTSTAMP:20260426T045442
CREATED:20260220T185354Z
LAST-MODIFIED:20260220T185359Z
UID:10000704-1808325000-1808330400@salutdeluxe.hamburg
SUMMARY:Beatbox mit Guido
DESCRIPTION:Beatboxen ist die Kunst\, nur mit Mund\, Nase und Rachen coole Sounds zu produzieren. Finde deinen eigenen Weg\, Menschen zu begeistern! Im Beatbox-Kurs der DeluxeKidz zeigt dir der schwer talentierte Beatbox Guido\, was du mit deiner Mundmuskulatur alles anstellen kannst. „Bb-Tz-Pf-Tz!“
URL:https://salutdeluxe.hamburg/event/beatbox-mit-guido-26-3/2027-04-21/
LOCATION:Esche – Jugendkunsthaus\, Eschelsweg 4\, Hamburg\, Hamburg\, 22767
ATTACH;FMTTYPE=image/jpeg:https://salutdeluxe.hamburg/wp-content/uploads/2022/11/Beatboxen-DeluxeKidz_Esche.jpeg
END:VEVENT
BEGIN:VEVENT
DTSTART;TZID=Europe/Berlin:20270427T170000
DTEND;TZID=Europe/Berlin:20270427T190000
DTSTAMP:20260426T045442
CREATED:20250227T125938Z
LAST-MODIFIED:20250227T125938Z
UID:10005179-1808845200-1808852400@salutdeluxe.hamburg
SUMMARY:Beatbox (Zinnwerke)
DESCRIPTION:Beatboxen ist die Kunst\, nur mit Mund\, Nase und Rachen coole Sounds zu produzieren. Und jetzt gibt’s die Möglichkeit\, das an unserem neuen SalutDeluxe-Standort in Wilhelmsburg auszuprobieren! ✨ \nIm Beatbox-Workshop von SalutDeluxe e.V. zeigt dir der talentierte Beatboxer Guido\, was du mit deiner Mundmuskulatur alles anstellen kannst. Auch die Jüngeren können hier schon aktiv werden! „Bb-Tz-Pf-Tz!“
URL:https://salutdeluxe.hamburg/event/beatbox-zinnwerke/2027-04-27/
LOCATION:Zinnwerke\, Veringhof 7\, Hamburg\, 21107\, Deutschland
ATTACH;FMTTYPE=image/jpeg:https://salutdeluxe.hamburg/wp-content/uploads/2025/02/news_007.jpeg
END:VEVENT
BEGIN:VEVENT
DTSTART;TZID=Europe/Berlin:20270428T163000
DTEND;TZID=Europe/Berlin:20270428T180000
DTSTAMP:20260426T045442
CREATED:20260220T185354Z
LAST-MODIFIED:20260220T185359Z
UID:10000705-1808929800-1808935200@salutdeluxe.hamburg
SUMMARY:Beatbox mit Guido
DESCRIPTION:Beatboxen ist die Kunst\, nur mit Mund\, Nase und Rachen coole Sounds zu produzieren. Finde deinen eigenen Weg\, Menschen zu begeistern! Im Beatbox-Kurs der DeluxeKidz zeigt dir der schwer talentierte Beatbox Guido\, was du mit deiner Mundmuskulatur alles anstellen kannst. „Bb-Tz-Pf-Tz!“
URL:https://salutdeluxe.hamburg/event/beatbox-mit-guido-26-3/2027-04-28/
LOCATION:Esche – Jugendkunsthaus\, Eschelsweg 4\, Hamburg\, Hamburg\, 22767
ATTACH;FMTTYPE=image/jpeg:https://salutdeluxe.hamburg/wp-content/uploads/2022/11/Beatboxen-DeluxeKidz_Esche.jpeg
END:VEVENT
BEGIN:VEVENT
DTSTART;TZID=Europe/Berlin:20270504T170000
DTEND;TZID=Europe/Berlin:20270504T190000
DTSTAMP:20260426T045442
CREATED:20250227T125938Z
LAST-MODIFIED:20250227T125938Z
UID:10005180-1809450000-1809457200@salutdeluxe.hamburg
SUMMARY:Beatbox (Zinnwerke)
DESCRIPTION:Beatboxen ist die Kunst\, nur mit Mund\, Nase und Rachen coole Sounds zu produzieren. Und jetzt gibt’s die Möglichkeit\, das an unserem neuen SalutDeluxe-Standort in Wilhelmsburg auszuprobieren! ✨ \nIm Beatbox-Workshop von SalutDeluxe e.V. zeigt dir der talentierte Beatboxer Guido\, was du mit deiner Mundmuskulatur alles anstellen kannst. Auch die Jüngeren können hier schon aktiv werden! „Bb-Tz-Pf-Tz!“
URL:https://salutdeluxe.hamburg/event/beatbox-zinnwerke/2027-05-04/
LOCATION:Zinnwerke\, Veringhof 7\, Hamburg\, 21107\, Deutschland
ATTACH;FMTTYPE=image/jpeg:https://salutdeluxe.hamburg/wp-content/uploads/2025/02/news_007.jpeg
END:VEVENT
BEGIN:VEVENT
DTSTART;TZID=Europe/Berlin:20270505T163000
DTEND;TZID=Europe/Berlin:20270505T180000
DTSTAMP:20260426T045442
CREATED:20260220T185354Z
LAST-MODIFIED:20260220T185359Z
UID:10000706-1809534600-1809540000@salutdeluxe.hamburg
SUMMARY:Beatbox mit Guido
DESCRIPTION:Beatboxen ist die Kunst\, nur mit Mund\, Nase und Rachen coole Sounds zu produzieren. Finde deinen eigenen Weg\, Menschen zu begeistern! Im Beatbox-Kurs der DeluxeKidz zeigt dir der schwer talentierte Beatbox Guido\, was du mit deiner Mundmuskulatur alles anstellen kannst. „Bb-Tz-Pf-Tz!“
URL:https://salutdeluxe.hamburg/event/beatbox-mit-guido-26-3/2027-05-05/
LOCATION:Esche – Jugendkunsthaus\, Eschelsweg 4\, Hamburg\, Hamburg\, 22767
ATTACH;FMTTYPE=image/jpeg:https://salutdeluxe.hamburg/wp-content/uploads/2022/11/Beatboxen-DeluxeKidz_Esche.jpeg
END:VEVENT
BEGIN:VEVENT
DTSTART;TZID=Europe/Berlin:20270511T170000
DTEND;TZID=Europe/Berlin:20270511T190000
DTSTAMP:20260426T045442
CREATED:20250227T125938Z
LAST-MODIFIED:20250227T125938Z
UID:10005181-1810054800-1810062000@salutdeluxe.hamburg
SUMMARY:Beatbox (Zinnwerke)
DESCRIPTION:Beatboxen ist die Kunst\, nur mit Mund\, Nase und Rachen coole Sounds zu produzieren. Und jetzt gibt’s die Möglichkeit\, das an unserem neuen SalutDeluxe-Standort in Wilhelmsburg auszuprobieren! ✨ \nIm Beatbox-Workshop von SalutDeluxe e.V. zeigt dir der talentierte Beatboxer Guido\, was du mit deiner Mundmuskulatur alles anstellen kannst. Auch die Jüngeren können hier schon aktiv werden! „Bb-Tz-Pf-Tz!“
URL:https://salutdeluxe.hamburg/event/beatbox-zinnwerke/2027-05-11/
LOCATION:Zinnwerke\, Veringhof 7\, Hamburg\, 21107\, Deutschland
ATTACH;FMTTYPE=image/jpeg:https://salutdeluxe.hamburg/wp-content/uploads/2025/02/news_007.jpeg
END:VEVENT
BEGIN:VEVENT
DTSTART;TZID=Europe/Berlin:20270512T163000
DTEND;TZID=Europe/Berlin:20270512T180000
DTSTAMP:20260426T045442
CREATED:20260220T185354Z
LAST-MODIFIED:20260220T185359Z
UID:10000707-1810139400-1810144800@salutdeluxe.hamburg
SUMMARY:Beatbox mit Guido
DESCRIPTION:Beatboxen ist die Kunst\, nur mit Mund\, Nase und Rachen coole Sounds zu produzieren. Finde deinen eigenen Weg\, Menschen zu begeistern! Im Beatbox-Kurs der DeluxeKidz zeigt dir der schwer talentierte Beatbox Guido\, was du mit deiner Mundmuskulatur alles anstellen kannst. „Bb-Tz-Pf-Tz!“
URL:https://salutdeluxe.hamburg/event/beatbox-mit-guido-26-3/2027-05-12/
LOCATION:Esche – Jugendkunsthaus\, Eschelsweg 4\, Hamburg\, Hamburg\, 22767
ATTACH;FMTTYPE=image/jpeg:https://salutdeluxe.hamburg/wp-content/uploads/2022/11/Beatboxen-DeluxeKidz_Esche.jpeg
END:VEVENT
BEGIN:VEVENT
DTSTART;TZID=Europe/Berlin:20270518T170000
DTEND;TZID=Europe/Berlin:20270518T190000
DTSTAMP:20260426T045442
CREATED:20250227T125938Z
LAST-MODIFIED:20250227T125938Z
UID:10005182-1810659600-1810666800@salutdeluxe.hamburg
SUMMARY:Beatbox (Zinnwerke)
DESCRIPTION:Beatboxen ist die Kunst\, nur mit Mund\, Nase und Rachen coole Sounds zu produzieren. Und jetzt gibt’s die Möglichkeit\, das an unserem neuen SalutDeluxe-Standort in Wilhelmsburg auszuprobieren! ✨ \nIm Beatbox-Workshop von SalutDeluxe e.V. zeigt dir der talentierte Beatboxer Guido\, was du mit deiner Mundmuskulatur alles anstellen kannst. Auch die Jüngeren können hier schon aktiv werden! „Bb-Tz-Pf-Tz!“
URL:https://salutdeluxe.hamburg/event/beatbox-zinnwerke/2027-05-18/
LOCATION:Zinnwerke\, Veringhof 7\, Hamburg\, 21107\, Deutschland
ATTACH;FMTTYPE=image/jpeg:https://salutdeluxe.hamburg/wp-content/uploads/2025/02/news_007.jpeg
END:VEVENT
BEGIN:VEVENT
DTSTART;TZID=Europe/Berlin:20270519T163000
DTEND;TZID=Europe/Berlin:20270519T180000
DTSTAMP:20260426T045442
CREATED:20260220T185354Z
LAST-MODIFIED:20260220T185359Z
UID:10000708-1810744200-1810749600@salutdeluxe.hamburg
SUMMARY:Beatbox mit Guido
DESCRIPTION:Beatboxen ist die Kunst\, nur mit Mund\, Nase und Rachen coole Sounds zu produzieren. Finde deinen eigenen Weg\, Menschen zu begeistern! Im Beatbox-Kurs der DeluxeKidz zeigt dir der schwer talentierte Beatbox Guido\, was du mit deiner Mundmuskulatur alles anstellen kannst. „Bb-Tz-Pf-Tz!“
URL:https://salutdeluxe.hamburg/event/beatbox-mit-guido-26-3/2027-05-19/
LOCATION:Esche – Jugendkunsthaus\, Eschelsweg 4\, Hamburg\, Hamburg\, 22767
ATTACH;FMTTYPE=image/jpeg:https://salutdeluxe.hamburg/wp-content/uploads/2022/11/Beatboxen-DeluxeKidz_Esche.jpeg
END:VEVENT
BEGIN:VEVENT
DTSTART;TZID=Europe/Berlin:20270525T170000
DTEND;TZID=Europe/Berlin:20270525T190000
DTSTAMP:20260426T045442
CREATED:20250227T125938Z
LAST-MODIFIED:20250227T125938Z
UID:10005183-1811264400-1811271600@salutdeluxe.hamburg
SUMMARY:Beatbox (Zinnwerke)
DESCRIPTION:Beatboxen ist die Kunst\, nur mit Mund\, Nase und Rachen coole Sounds zu produzieren. Und jetzt gibt’s die Möglichkeit\, das an unserem neuen SalutDeluxe-Standort in Wilhelmsburg auszuprobieren! ✨ \nIm Beatbox-Workshop von SalutDeluxe e.V. zeigt dir der talentierte Beatboxer Guido\, was du mit deiner Mundmuskulatur alles anstellen kannst. Auch die Jüngeren können hier schon aktiv werden! „Bb-Tz-Pf-Tz!“
URL:https://salutdeluxe.hamburg/event/beatbox-zinnwerke/2027-05-25/
LOCATION:Zinnwerke\, Veringhof 7\, Hamburg\, 21107\, Deutschland
ATTACH;FMTTYPE=image/jpeg:https://salutdeluxe.hamburg/wp-content/uploads/2025/02/news_007.jpeg
END:VEVENT
BEGIN:VEVENT
DTSTART;TZID=Europe/Berlin:20270526T163000
DTEND;TZID=Europe/Berlin:20270526T180000
DTSTAMP:20260426T045442
CREATED:20260220T185354Z
LAST-MODIFIED:20260220T185359Z
UID:10000709-1811349000-1811354400@salutdeluxe.hamburg
SUMMARY:Beatbox mit Guido
DESCRIPTION:Beatboxen ist die Kunst\, nur mit Mund\, Nase und Rachen coole Sounds zu produzieren. Finde deinen eigenen Weg\, Menschen zu begeistern! Im Beatbox-Kurs der DeluxeKidz zeigt dir der schwer talentierte Beatbox Guido\, was du mit deiner Mundmuskulatur alles anstellen kannst. „Bb-Tz-Pf-Tz!“
URL:https://salutdeluxe.hamburg/event/beatbox-mit-guido-26-3/2027-05-26/
LOCATION:Esche – Jugendkunsthaus\, Eschelsweg 4\, Hamburg\, Hamburg\, 22767
ATTACH;FMTTYPE=image/jpeg:https://salutdeluxe.hamburg/wp-content/uploads/2022/11/Beatboxen-DeluxeKidz_Esche.jpeg
END:VEVENT
BEGIN:VEVENT
DTSTART;TZID=Europe/Berlin:20270601T170000
DTEND;TZID=Europe/Berlin:20270601T190000
DTSTAMP:20260426T045442
CREATED:20250227T125938Z
LAST-MODIFIED:20250227T125938Z
UID:10005184-1811869200-1811876400@salutdeluxe.hamburg
SUMMARY:Beatbox (Zinnwerke)
DESCRIPTION:Beatboxen ist die Kunst\, nur mit Mund\, Nase und Rachen coole Sounds zu produzieren. Und jetzt gibt’s die Möglichkeit\, das an unserem neuen SalutDeluxe-Standort in Wilhelmsburg auszuprobieren! ✨ \nIm Beatbox-Workshop von SalutDeluxe e.V. zeigt dir der talentierte Beatboxer Guido\, was du mit deiner Mundmuskulatur alles anstellen kannst. Auch die Jüngeren können hier schon aktiv werden! „Bb-Tz-Pf-Tz!“
URL:https://salutdeluxe.hamburg/event/beatbox-zinnwerke/2027-06-01/
LOCATION:Zinnwerke\, Veringhof 7\, Hamburg\, 21107\, Deutschland
ATTACH;FMTTYPE=image/jpeg:https://salutdeluxe.hamburg/wp-content/uploads/2025/02/news_007.jpeg
END:VEVENT
BEGIN:VEVENT
DTSTART;TZID=Europe/Berlin:20270602T163000
DTEND;TZID=Europe/Berlin:20270602T180000
DTSTAMP:20260426T045442
CREATED:20260220T185354Z
LAST-MODIFIED:20260220T185359Z
UID:10000710-1811953800-1811959200@salutdeluxe.hamburg
SUMMARY:Beatbox mit Guido
DESCRIPTION:Beatboxen ist die Kunst\, nur mit Mund\, Nase und Rachen coole Sounds zu produzieren. Finde deinen eigenen Weg\, Menschen zu begeistern! Im Beatbox-Kurs der DeluxeKidz zeigt dir der schwer talentierte Beatbox Guido\, was du mit deiner Mundmuskulatur alles anstellen kannst. „Bb-Tz-Pf-Tz!“
URL:https://salutdeluxe.hamburg/event/beatbox-mit-guido-26-3/2027-06-02/
LOCATION:Esche – Jugendkunsthaus\, Eschelsweg 4\, Hamburg\, Hamburg\, 22767
ATTACH;FMTTYPE=image/jpeg:https://salutdeluxe.hamburg/wp-content/uploads/2022/11/Beatboxen-DeluxeKidz_Esche.jpeg
END:VEVENT
BEGIN:VEVENT
DTSTART;TZID=Europe/Berlin:20270608T170000
DTEND;TZID=Europe/Berlin:20270608T190000
DTSTAMP:20260426T045442
CREATED:20250227T125938Z
LAST-MODIFIED:20250227T125938Z
UID:10005185-1812474000-1812481200@salutdeluxe.hamburg
SUMMARY:Beatbox (Zinnwerke)
DESCRIPTION:Beatboxen ist die Kunst\, nur mit Mund\, Nase und Rachen coole Sounds zu produzieren. Und jetzt gibt’s die Möglichkeit\, das an unserem neuen SalutDeluxe-Standort in Wilhelmsburg auszuprobieren! ✨ \nIm Beatbox-Workshop von SalutDeluxe e.V. zeigt dir der talentierte Beatboxer Guido\, was du mit deiner Mundmuskulatur alles anstellen kannst. Auch die Jüngeren können hier schon aktiv werden! „Bb-Tz-Pf-Tz!“
URL:https://salutdeluxe.hamburg/event/beatbox-zinnwerke/2027-06-08/
LOCATION:Zinnwerke\, Veringhof 7\, Hamburg\, 21107\, Deutschland
ATTACH;FMTTYPE=image/jpeg:https://salutdeluxe.hamburg/wp-content/uploads/2025/02/news_007.jpeg
END:VEVENT
BEGIN:VEVENT
DTSTART;TZID=Europe/Berlin:20270609T163000
DTEND;TZID=Europe/Berlin:20270609T180000
DTSTAMP:20260426T045442
CREATED:20260220T185354Z
LAST-MODIFIED:20260220T185359Z
UID:10000711-1812558600-1812564000@salutdeluxe.hamburg
SUMMARY:Beatbox mit Guido
DESCRIPTION:Beatboxen ist die Kunst\, nur mit Mund\, Nase und Rachen coole Sounds zu produzieren. Finde deinen eigenen Weg\, Menschen zu begeistern! Im Beatbox-Kurs der DeluxeKidz zeigt dir der schwer talentierte Beatbox Guido\, was du mit deiner Mundmuskulatur alles anstellen kannst. „Bb-Tz-Pf-Tz!“
URL:https://salutdeluxe.hamburg/event/beatbox-mit-guido-26-3/2027-06-09/
LOCATION:Esche – Jugendkunsthaus\, Eschelsweg 4\, Hamburg\, Hamburg\, 22767
ATTACH;FMTTYPE=image/jpeg:https://salutdeluxe.hamburg/wp-content/uploads/2022/11/Beatboxen-DeluxeKidz_Esche.jpeg
END:VEVENT
BEGIN:VEVENT
DTSTART;TZID=Europe/Berlin:20270615T170000
DTEND;TZID=Europe/Berlin:20270615T190000
DTSTAMP:20260426T045442
CREATED:20250227T125938Z
LAST-MODIFIED:20250227T125938Z
UID:10005186-1813078800-1813086000@salutdeluxe.hamburg
SUMMARY:Beatbox (Zinnwerke)
DESCRIPTION:Beatboxen ist die Kunst\, nur mit Mund\, Nase und Rachen coole Sounds zu produzieren. Und jetzt gibt’s die Möglichkeit\, das an unserem neuen SalutDeluxe-Standort in Wilhelmsburg auszuprobieren! ✨ \nIm Beatbox-Workshop von SalutDeluxe e.V. zeigt dir der talentierte Beatboxer Guido\, was du mit deiner Mundmuskulatur alles anstellen kannst. Auch die Jüngeren können hier schon aktiv werden! „Bb-Tz-Pf-Tz!“
URL:https://salutdeluxe.hamburg/event/beatbox-zinnwerke/2027-06-15/
LOCATION:Zinnwerke\, Veringhof 7\, Hamburg\, 21107\, Deutschland
ATTACH;FMTTYPE=image/jpeg:https://salutdeluxe.hamburg/wp-content/uploads/2025/02/news_007.jpeg
END:VEVENT
BEGIN:VEVENT
DTSTART;TZID=Europe/Berlin:20270616T163000
DTEND;TZID=Europe/Berlin:20270616T180000
DTSTAMP:20260426T045442
CREATED:20260220T185354Z
LAST-MODIFIED:20260220T185359Z
UID:10000712-1813163400-1813168800@salutdeluxe.hamburg
SUMMARY:Beatbox mit Guido
DESCRIPTION:Beatboxen ist die Kunst\, nur mit Mund\, Nase und Rachen coole Sounds zu produzieren. Finde deinen eigenen Weg\, Menschen zu begeistern! Im Beatbox-Kurs der DeluxeKidz zeigt dir der schwer talentierte Beatbox Guido\, was du mit deiner Mundmuskulatur alles anstellen kannst. „Bb-Tz-Pf-Tz!“
URL:https://salutdeluxe.hamburg/event/beatbox-mit-guido-26-3/2027-06-16/
LOCATION:Esche – Jugendkunsthaus\, Eschelsweg 4\, Hamburg\, Hamburg\, 22767
ATTACH;FMTTYPE=image/jpeg:https://salutdeluxe.hamburg/wp-content/uploads/2022/11/Beatboxen-DeluxeKidz_Esche.jpeg
END:VEVENT
BEGIN:VEVENT
DTSTART;TZID=Europe/Berlin:20270622T170000
DTEND;TZID=Europe/Berlin:20270622T190000
DTSTAMP:20260426T045442
CREATED:20250227T125938Z
LAST-MODIFIED:20250227T125938Z
UID:10005187-1813683600-1813690800@salutdeluxe.hamburg
SUMMARY:Beatbox (Zinnwerke)
DESCRIPTION:Beatboxen ist die Kunst\, nur mit Mund\, Nase und Rachen coole Sounds zu produzieren. Und jetzt gibt’s die Möglichkeit\, das an unserem neuen SalutDeluxe-Standort in Wilhelmsburg auszuprobieren! ✨ \nIm Beatbox-Workshop von SalutDeluxe e.V. zeigt dir der talentierte Beatboxer Guido\, was du mit deiner Mundmuskulatur alles anstellen kannst. Auch die Jüngeren können hier schon aktiv werden! „Bb-Tz-Pf-Tz!“
URL:https://salutdeluxe.hamburg/event/beatbox-zinnwerke/2027-06-22/
LOCATION:Zinnwerke\, Veringhof 7\, Hamburg\, 21107\, Deutschland
ATTACH;FMTTYPE=image/jpeg:https://salutdeluxe.hamburg/wp-content/uploads/2025/02/news_007.jpeg
END:VEVENT
BEGIN:VEVENT
DTSTART;TZID=Europe/Berlin:20270623T163000
DTEND;TZID=Europe/Berlin:20270623T180000
DTSTAMP:20260426T045442
CREATED:20260220T185354Z
LAST-MODIFIED:20260220T185359Z
UID:10000713-1813768200-1813773600@salutdeluxe.hamburg
SUMMARY:Beatbox mit Guido
DESCRIPTION:Beatboxen ist die Kunst\, nur mit Mund\, Nase und Rachen coole Sounds zu produzieren. Finde deinen eigenen Weg\, Menschen zu begeistern! Im Beatbox-Kurs der DeluxeKidz zeigt dir der schwer talentierte Beatbox Guido\, was du mit deiner Mundmuskulatur alles anstellen kannst. „Bb-Tz-Pf-Tz!“
URL:https://salutdeluxe.hamburg/event/beatbox-mit-guido-26-3/2027-06-23/
LOCATION:Esche – Jugendkunsthaus\, Eschelsweg 4\, Hamburg\, Hamburg\, 22767
ATTACH;FMTTYPE=image/jpeg:https://salutdeluxe.hamburg/wp-content/uploads/2022/11/Beatboxen-DeluxeKidz_Esche.jpeg
END:VEVENT
BEGIN:VEVENT
DTSTART;TZID=Europe/Berlin:20270629T170000
DTEND;TZID=Europe/Berlin:20270629T190000
DTSTAMP:20260426T045442
CREATED:20250227T125938Z
LAST-MODIFIED:20250227T125938Z
UID:10005188-1814288400-1814295600@salutdeluxe.hamburg
SUMMARY:Beatbox (Zinnwerke)
DESCRIPTION:Beatboxen ist die Kunst\, nur mit Mund\, Nase und Rachen coole Sounds zu produzieren. Und jetzt gibt’s die Möglichkeit\, das an unserem neuen SalutDeluxe-Standort in Wilhelmsburg auszuprobieren! ✨ \nIm Beatbox-Workshop von SalutDeluxe e.V. zeigt dir der talentierte Beatboxer Guido\, was du mit deiner Mundmuskulatur alles anstellen kannst. Auch die Jüngeren können hier schon aktiv werden! „Bb-Tz-Pf-Tz!“
URL:https://salutdeluxe.hamburg/event/beatbox-zinnwerke/2027-06-29/
LOCATION:Zinnwerke\, Veringhof 7\, Hamburg\, 21107\, Deutschland
ATTACH;FMTTYPE=image/jpeg:https://salutdeluxe.hamburg/wp-content/uploads/2025/02/news_007.jpeg
END:VEVENT
BEGIN:VEVENT
DTSTART;TZID=Europe/Berlin:20270630T163000
DTEND;TZID=Europe/Berlin:20270630T180000
DTSTAMP:20260426T045442
CREATED:20260220T185354Z
LAST-MODIFIED:20260220T185359Z
UID:10000714-1814373000-1814378400@salutdeluxe.hamburg
SUMMARY:Beatbox mit Guido
DESCRIPTION:Beatboxen ist die Kunst\, nur mit Mund\, Nase und Rachen coole Sounds zu produzieren. Finde deinen eigenen Weg\, Menschen zu begeistern! Im Beatbox-Kurs der DeluxeKidz zeigt dir der schwer talentierte Beatbox Guido\, was du mit deiner Mundmuskulatur alles anstellen kannst. „Bb-Tz-Pf-Tz!“
URL:https://salutdeluxe.hamburg/event/beatbox-mit-guido-26-3/2027-06-30/
LOCATION:Esche – Jugendkunsthaus\, Eschelsweg 4\, Hamburg\, Hamburg\, 22767
ATTACH;FMTTYPE=image/jpeg:https://salutdeluxe.hamburg/wp-content/uploads/2022/11/Beatboxen-DeluxeKidz_Esche.jpeg
END:VEVENT
BEGIN:VEVENT
DTSTART;TZID=Europe/Berlin:20270706T170000
DTEND;TZID=Europe/Berlin:20270706T190000
DTSTAMP:20260426T045442
CREATED:20250227T125938Z
LAST-MODIFIED:20250227T125938Z
UID:10005189-1814893200-1814900400@salutdeluxe.hamburg
SUMMARY:Beatbox (Zinnwerke)
DESCRIPTION:Beatboxen ist die Kunst\, nur mit Mund\, Nase und Rachen coole Sounds zu produzieren. Und jetzt gibt’s die Möglichkeit\, das an unserem neuen SalutDeluxe-Standort in Wilhelmsburg auszuprobieren! ✨ \nIm Beatbox-Workshop von SalutDeluxe e.V. zeigt dir der talentierte Beatboxer Guido\, was du mit deiner Mundmuskulatur alles anstellen kannst. Auch die Jüngeren können hier schon aktiv werden! „Bb-Tz-Pf-Tz!“
URL:https://salutdeluxe.hamburg/event/beatbox-zinnwerke/2027-07-06/
LOCATION:Zinnwerke\, Veringhof 7\, Hamburg\, 21107\, Deutschland
ATTACH;FMTTYPE=image/jpeg:https://salutdeluxe.hamburg/wp-content/uploads/2025/02/news_007.jpeg
END:VEVENT
BEGIN:VEVENT
DTSTART;TZID=Europe/Berlin:20270707T163000
DTEND;TZID=Europe/Berlin:20270707T180000
DTSTAMP:20260426T045442
CREATED:20260220T185354Z
LAST-MODIFIED:20260220T185359Z
UID:10000715-1814977800-1814983200@salutdeluxe.hamburg
SUMMARY:Beatbox mit Guido
DESCRIPTION:Beatboxen ist die Kunst\, nur mit Mund\, Nase und Rachen coole Sounds zu produzieren. Finde deinen eigenen Weg\, Menschen zu begeistern! Im Beatbox-Kurs der DeluxeKidz zeigt dir der schwer talentierte Beatbox Guido\, was du mit deiner Mundmuskulatur alles anstellen kannst. „Bb-Tz-Pf-Tz!“
URL:https://salutdeluxe.hamburg/event/beatbox-mit-guido-26-3/2027-07-07/
LOCATION:Esche – Jugendkunsthaus\, Eschelsweg 4\, Hamburg\, Hamburg\, 22767
ATTACH;FMTTYPE=image/jpeg:https://salutdeluxe.hamburg/wp-content/uploads/2022/11/Beatboxen-DeluxeKidz_Esche.jpeg
END:VEVENT
END:VCALENDAR