BEGIN:VCALENDAR
VERSION:2.0
PRODID:-//SalutDeluxe e.V. - ECPv6.2.2//NONSGML v1.0//EN
CALSCALE:GREGORIAN
METHOD:PUBLISH
X-WR-CALNAME:SalutDeluxe e.V.
X-ORIGINAL-URL:https://salutdeluxe.hamburg
X-WR-CALDESC:Veranstaltungen für SalutDeluxe e.V.
REFRESH-INTERVAL;VALUE=DURATION:PT1H
X-Robots-Tag:noindex
X-PUBLISHED-TTL:PT1H
BEGIN:VTIMEZONE
TZID:Europe/Berlin
BEGIN:DAYLIGHT
TZOFFSETFROM:+0100
TZOFFSETTO:+0200
TZNAME:CEST
DTSTART:20270328T010000
END:DAYLIGHT
BEGIN:STANDARD
TZOFFSETFROM:+0200
TZOFFSETTO:+0100
TZNAME:CET
DTSTART:20271031T010000
END:STANDARD
END:VTIMEZONE
BEGIN:VEVENT
DTSTART;TZID=Europe/Berlin:20270105T170000
DTEND;TZID=Europe/Berlin:20270105T190000
DTSTAMP:20260426T020040
CREATED:20250227T125938Z
LAST-MODIFIED:20250227T125938Z
UID:10005163-1799168400-1799175600@salutdeluxe.hamburg
SUMMARY:Beatbox (Zinnwerke)
DESCRIPTION:Beatboxen ist die Kunst\, nur mit Mund\, Nase und Rachen coole Sounds zu produzieren. Und jetzt gibt’s die Möglichkeit\, das an unserem neuen SalutDeluxe-Standort in Wilhelmsburg auszuprobieren! ✨ \nIm Beatbox-Workshop von SalutDeluxe e.V. zeigt dir der talentierte Beatboxer Guido\, was du mit deiner Mundmuskulatur alles anstellen kannst. Auch die Jüngeren können hier schon aktiv werden! „Bb-Tz-Pf-Tz!“
URL:https://salutdeluxe.hamburg/event/beatbox-zinnwerke/2027-01-05/
LOCATION:Zinnwerke\, Veringhof 7\, Hamburg\, 21107\, Deutschland
ATTACH;FMTTYPE=image/jpeg:https://salutdeluxe.hamburg/wp-content/uploads/2025/02/news_007.jpeg
END:VEVENT
BEGIN:VEVENT
DTSTART;TZID=Europe/Berlin:20270106T163000
DTEND;TZID=Europe/Berlin:20270106T180000
DTSTAMP:20260426T020040
CREATED:20260220T185354Z
LAST-MODIFIED:20260220T185359Z
UID:10000689-1799253000-1799258400@salutdeluxe.hamburg
SUMMARY:Beatbox mit Guido
DESCRIPTION:Beatboxen ist die Kunst\, nur mit Mund\, Nase und Rachen coole Sounds zu produzieren. Finde deinen eigenen Weg\, Menschen zu begeistern! Im Beatbox-Kurs der DeluxeKidz zeigt dir der schwer talentierte Beatbox Guido\, was du mit deiner Mundmuskulatur alles anstellen kannst. „Bb-Tz-Pf-Tz!“
URL:https://salutdeluxe.hamburg/event/beatbox-mit-guido-26-3/2027-01-06/
LOCATION:Esche – Jugendkunsthaus\, Eschelsweg 4\, Hamburg\, Hamburg\, 22767
ATTACH;FMTTYPE=image/jpeg:https://salutdeluxe.hamburg/wp-content/uploads/2022/11/Beatboxen-DeluxeKidz_Esche.jpeg
END:VEVENT
BEGIN:VEVENT
DTSTART;TZID=Europe/Berlin:20270112T170000
DTEND;TZID=Europe/Berlin:20270112T190000
DTSTAMP:20260426T020040
CREATED:20250227T125938Z
LAST-MODIFIED:20250227T125938Z
UID:10005164-1799773200-1799780400@salutdeluxe.hamburg
SUMMARY:Beatbox (Zinnwerke)
DESCRIPTION:Beatboxen ist die Kunst\, nur mit Mund\, Nase und Rachen coole Sounds zu produzieren. Und jetzt gibt’s die Möglichkeit\, das an unserem neuen SalutDeluxe-Standort in Wilhelmsburg auszuprobieren! ✨ \nIm Beatbox-Workshop von SalutDeluxe e.V. zeigt dir der talentierte Beatboxer Guido\, was du mit deiner Mundmuskulatur alles anstellen kannst. Auch die Jüngeren können hier schon aktiv werden! „Bb-Tz-Pf-Tz!“
URL:https://salutdeluxe.hamburg/event/beatbox-zinnwerke/2027-01-12/
LOCATION:Zinnwerke\, Veringhof 7\, Hamburg\, 21107\, Deutschland
ATTACH;FMTTYPE=image/jpeg:https://salutdeluxe.hamburg/wp-content/uploads/2025/02/news_007.jpeg
END:VEVENT
BEGIN:VEVENT
DTSTART;TZID=Europe/Berlin:20270113T163000
DTEND;TZID=Europe/Berlin:20270113T180000
DTSTAMP:20260426T020040
CREATED:20260220T185354Z
LAST-MODIFIED:20260220T185359Z
UID:10000690-1799857800-1799863200@salutdeluxe.hamburg
SUMMARY:Beatbox mit Guido
DESCRIPTION:Beatboxen ist die Kunst\, nur mit Mund\, Nase und Rachen coole Sounds zu produzieren. Finde deinen eigenen Weg\, Menschen zu begeistern! Im Beatbox-Kurs der DeluxeKidz zeigt dir der schwer talentierte Beatbox Guido\, was du mit deiner Mundmuskulatur alles anstellen kannst. „Bb-Tz-Pf-Tz!“
URL:https://salutdeluxe.hamburg/event/beatbox-mit-guido-26-3/2027-01-13/
LOCATION:Esche – Jugendkunsthaus\, Eschelsweg 4\, Hamburg\, Hamburg\, 22767
ATTACH;FMTTYPE=image/jpeg:https://salutdeluxe.hamburg/wp-content/uploads/2022/11/Beatboxen-DeluxeKidz_Esche.jpeg
END:VEVENT
BEGIN:VEVENT
DTSTART;TZID=Europe/Berlin:20270119T170000
DTEND;TZID=Europe/Berlin:20270119T190000
DTSTAMP:20260426T020040
CREATED:20250227T125938Z
LAST-MODIFIED:20250227T125938Z
UID:10005165-1800378000-1800385200@salutdeluxe.hamburg
SUMMARY:Beatbox (Zinnwerke)
DESCRIPTION:Beatboxen ist die Kunst\, nur mit Mund\, Nase und Rachen coole Sounds zu produzieren. Und jetzt gibt’s die Möglichkeit\, das an unserem neuen SalutDeluxe-Standort in Wilhelmsburg auszuprobieren! ✨ \nIm Beatbox-Workshop von SalutDeluxe e.V. zeigt dir der talentierte Beatboxer Guido\, was du mit deiner Mundmuskulatur alles anstellen kannst. Auch die Jüngeren können hier schon aktiv werden! „Bb-Tz-Pf-Tz!“
URL:https://salutdeluxe.hamburg/event/beatbox-zinnwerke/2027-01-19/
LOCATION:Zinnwerke\, Veringhof 7\, Hamburg\, 21107\, Deutschland
ATTACH;FMTTYPE=image/jpeg:https://salutdeluxe.hamburg/wp-content/uploads/2025/02/news_007.jpeg
END:VEVENT
BEGIN:VEVENT
DTSTART;TZID=Europe/Berlin:20270120T163000
DTEND;TZID=Europe/Berlin:20270120T180000
DTSTAMP:20260426T020040
CREATED:20260220T185354Z
LAST-MODIFIED:20260220T185359Z
UID:10000691-1800462600-1800468000@salutdeluxe.hamburg
SUMMARY:Beatbox mit Guido
DESCRIPTION:Beatboxen ist die Kunst\, nur mit Mund\, Nase und Rachen coole Sounds zu produzieren. Finde deinen eigenen Weg\, Menschen zu begeistern! Im Beatbox-Kurs der DeluxeKidz zeigt dir der schwer talentierte Beatbox Guido\, was du mit deiner Mundmuskulatur alles anstellen kannst. „Bb-Tz-Pf-Tz!“
URL:https://salutdeluxe.hamburg/event/beatbox-mit-guido-26-3/2027-01-20/
LOCATION:Esche – Jugendkunsthaus\, Eschelsweg 4\, Hamburg\, Hamburg\, 22767
ATTACH;FMTTYPE=image/jpeg:https://salutdeluxe.hamburg/wp-content/uploads/2022/11/Beatboxen-DeluxeKidz_Esche.jpeg
END:VEVENT
BEGIN:VEVENT
DTSTART;TZID=Europe/Berlin:20270126T170000
DTEND;TZID=Europe/Berlin:20270126T190000
DTSTAMP:20260426T020040
CREATED:20250227T125938Z
LAST-MODIFIED:20250227T125938Z
UID:10005166-1800982800-1800990000@salutdeluxe.hamburg
SUMMARY:Beatbox (Zinnwerke)
DESCRIPTION:Beatboxen ist die Kunst\, nur mit Mund\, Nase und Rachen coole Sounds zu produzieren. Und jetzt gibt’s die Möglichkeit\, das an unserem neuen SalutDeluxe-Standort in Wilhelmsburg auszuprobieren! ✨ \nIm Beatbox-Workshop von SalutDeluxe e.V. zeigt dir der talentierte Beatboxer Guido\, was du mit deiner Mundmuskulatur alles anstellen kannst. Auch die Jüngeren können hier schon aktiv werden! „Bb-Tz-Pf-Tz!“
URL:https://salutdeluxe.hamburg/event/beatbox-zinnwerke/2027-01-26/
LOCATION:Zinnwerke\, Veringhof 7\, Hamburg\, 21107\, Deutschland
ATTACH;FMTTYPE=image/jpeg:https://salutdeluxe.hamburg/wp-content/uploads/2025/02/news_007.jpeg
END:VEVENT
BEGIN:VEVENT
DTSTART;TZID=Europe/Berlin:20270127T163000
DTEND;TZID=Europe/Berlin:20270127T180000
DTSTAMP:20260426T020040
CREATED:20260220T185354Z
LAST-MODIFIED:20260220T185359Z
UID:10000692-1801067400-1801072800@salutdeluxe.hamburg
SUMMARY:Beatbox mit Guido
DESCRIPTION:Beatboxen ist die Kunst\, nur mit Mund\, Nase und Rachen coole Sounds zu produzieren. Finde deinen eigenen Weg\, Menschen zu begeistern! Im Beatbox-Kurs der DeluxeKidz zeigt dir der schwer talentierte Beatbox Guido\, was du mit deiner Mundmuskulatur alles anstellen kannst. „Bb-Tz-Pf-Tz!“
URL:https://salutdeluxe.hamburg/event/beatbox-mit-guido-26-3/2027-01-27/
LOCATION:Esche – Jugendkunsthaus\, Eschelsweg 4\, Hamburg\, Hamburg\, 22767
ATTACH;FMTTYPE=image/jpeg:https://salutdeluxe.hamburg/wp-content/uploads/2022/11/Beatboxen-DeluxeKidz_Esche.jpeg
END:VEVENT
BEGIN:VEVENT
DTSTART;TZID=Europe/Berlin:20270202T170000
DTEND;TZID=Europe/Berlin:20270202T190000
DTSTAMP:20260426T020040
CREATED:20250227T125938Z
LAST-MODIFIED:20250227T125938Z
UID:10005167-1801587600-1801594800@salutdeluxe.hamburg
SUMMARY:Beatbox (Zinnwerke)
DESCRIPTION:Beatboxen ist die Kunst\, nur mit Mund\, Nase und Rachen coole Sounds zu produzieren. Und jetzt gibt’s die Möglichkeit\, das an unserem neuen SalutDeluxe-Standort in Wilhelmsburg auszuprobieren! ✨ \nIm Beatbox-Workshop von SalutDeluxe e.V. zeigt dir der talentierte Beatboxer Guido\, was du mit deiner Mundmuskulatur alles anstellen kannst. Auch die Jüngeren können hier schon aktiv werden! „Bb-Tz-Pf-Tz!“
URL:https://salutdeluxe.hamburg/event/beatbox-zinnwerke/2027-02-02/
LOCATION:Zinnwerke\, Veringhof 7\, Hamburg\, 21107\, Deutschland
ATTACH;FMTTYPE=image/jpeg:https://salutdeluxe.hamburg/wp-content/uploads/2025/02/news_007.jpeg
END:VEVENT
BEGIN:VEVENT
DTSTART;TZID=Europe/Berlin:20270203T163000
DTEND;TZID=Europe/Berlin:20270203T180000
DTSTAMP:20260426T020040
CREATED:20260220T185354Z
LAST-MODIFIED:20260220T185359Z
UID:10000693-1801672200-1801677600@salutdeluxe.hamburg
SUMMARY:Beatbox mit Guido
DESCRIPTION:Beatboxen ist die Kunst\, nur mit Mund\, Nase und Rachen coole Sounds zu produzieren. Finde deinen eigenen Weg\, Menschen zu begeistern! Im Beatbox-Kurs der DeluxeKidz zeigt dir der schwer talentierte Beatbox Guido\, was du mit deiner Mundmuskulatur alles anstellen kannst. „Bb-Tz-Pf-Tz!“
URL:https://salutdeluxe.hamburg/event/beatbox-mit-guido-26-3/2027-02-03/
LOCATION:Esche – Jugendkunsthaus\, Eschelsweg 4\, Hamburg\, Hamburg\, 22767
ATTACH;FMTTYPE=image/jpeg:https://salutdeluxe.hamburg/wp-content/uploads/2022/11/Beatboxen-DeluxeKidz_Esche.jpeg
END:VEVENT
BEGIN:VEVENT
DTSTART;TZID=Europe/Berlin:20270209T170000
DTEND;TZID=Europe/Berlin:20270209T190000
DTSTAMP:20260426T020040
CREATED:20250227T125938Z
LAST-MODIFIED:20250227T125938Z
UID:10005168-1802192400-1802199600@salutdeluxe.hamburg
SUMMARY:Beatbox (Zinnwerke)
DESCRIPTION:Beatboxen ist die Kunst\, nur mit Mund\, Nase und Rachen coole Sounds zu produzieren. Und jetzt gibt’s die Möglichkeit\, das an unserem neuen SalutDeluxe-Standort in Wilhelmsburg auszuprobieren! ✨ \nIm Beatbox-Workshop von SalutDeluxe e.V. zeigt dir der talentierte Beatboxer Guido\, was du mit deiner Mundmuskulatur alles anstellen kannst. Auch die Jüngeren können hier schon aktiv werden! „Bb-Tz-Pf-Tz!“
URL:https://salutdeluxe.hamburg/event/beatbox-zinnwerke/2027-02-09/
LOCATION:Zinnwerke\, Veringhof 7\, Hamburg\, 21107\, Deutschland
ATTACH;FMTTYPE=image/jpeg:https://salutdeluxe.hamburg/wp-content/uploads/2025/02/news_007.jpeg
END:VEVENT
BEGIN:VEVENT
DTSTART;TZID=Europe/Berlin:20270210T163000
DTEND;TZID=Europe/Berlin:20270210T180000
DTSTAMP:20260426T020040
CREATED:20260220T185354Z
LAST-MODIFIED:20260220T185359Z
UID:10000694-1802277000-1802282400@salutdeluxe.hamburg
SUMMARY:Beatbox mit Guido
DESCRIPTION:Beatboxen ist die Kunst\, nur mit Mund\, Nase und Rachen coole Sounds zu produzieren. Finde deinen eigenen Weg\, Menschen zu begeistern! Im Beatbox-Kurs der DeluxeKidz zeigt dir der schwer talentierte Beatbox Guido\, was du mit deiner Mundmuskulatur alles anstellen kannst. „Bb-Tz-Pf-Tz!“
URL:https://salutdeluxe.hamburg/event/beatbox-mit-guido-26-3/2027-02-10/
LOCATION:Esche – Jugendkunsthaus\, Eschelsweg 4\, Hamburg\, Hamburg\, 22767
ATTACH;FMTTYPE=image/jpeg:https://salutdeluxe.hamburg/wp-content/uploads/2022/11/Beatboxen-DeluxeKidz_Esche.jpeg
END:VEVENT
BEGIN:VEVENT
DTSTART;TZID=Europe/Berlin:20270216T170000
DTEND;TZID=Europe/Berlin:20270216T190000
DTSTAMP:20260426T020040
CREATED:20250227T125938Z
LAST-MODIFIED:20250227T125938Z
UID:10005169-1802797200-1802804400@salutdeluxe.hamburg
SUMMARY:Beatbox (Zinnwerke)
DESCRIPTION:Beatboxen ist die Kunst\, nur mit Mund\, Nase und Rachen coole Sounds zu produzieren. Und jetzt gibt’s die Möglichkeit\, das an unserem neuen SalutDeluxe-Standort in Wilhelmsburg auszuprobieren! ✨ \nIm Beatbox-Workshop von SalutDeluxe e.V. zeigt dir der talentierte Beatboxer Guido\, was du mit deiner Mundmuskulatur alles anstellen kannst. Auch die Jüngeren können hier schon aktiv werden! „Bb-Tz-Pf-Tz!“
URL:https://salutdeluxe.hamburg/event/beatbox-zinnwerke/2027-02-16/
LOCATION:Zinnwerke\, Veringhof 7\, Hamburg\, 21107\, Deutschland
ATTACH;FMTTYPE=image/jpeg:https://salutdeluxe.hamburg/wp-content/uploads/2025/02/news_007.jpeg
END:VEVENT
BEGIN:VEVENT
DTSTART;TZID=Europe/Berlin:20270217T163000
DTEND;TZID=Europe/Berlin:20270217T180000
DTSTAMP:20260426T020040
CREATED:20260220T185354Z
LAST-MODIFIED:20260220T185359Z
UID:10000695-1802881800-1802887200@salutdeluxe.hamburg
SUMMARY:Beatbox mit Guido
DESCRIPTION:Beatboxen ist die Kunst\, nur mit Mund\, Nase und Rachen coole Sounds zu produzieren. Finde deinen eigenen Weg\, Menschen zu begeistern! Im Beatbox-Kurs der DeluxeKidz zeigt dir der schwer talentierte Beatbox Guido\, was du mit deiner Mundmuskulatur alles anstellen kannst. „Bb-Tz-Pf-Tz!“
URL:https://salutdeluxe.hamburg/event/beatbox-mit-guido-26-3/2027-02-17/
LOCATION:Esche – Jugendkunsthaus\, Eschelsweg 4\, Hamburg\, Hamburg\, 22767
ATTACH;FMTTYPE=image/jpeg:https://salutdeluxe.hamburg/wp-content/uploads/2022/11/Beatboxen-DeluxeKidz_Esche.jpeg
END:VEVENT
BEGIN:VEVENT
DTSTART;TZID=Europe/Berlin:20270223T170000
DTEND;TZID=Europe/Berlin:20270223T190000
DTSTAMP:20260426T020040
CREATED:20250227T125938Z
LAST-MODIFIED:20250227T125938Z
UID:10005170-1803402000-1803409200@salutdeluxe.hamburg
SUMMARY:Beatbox (Zinnwerke)
DESCRIPTION:Beatboxen ist die Kunst\, nur mit Mund\, Nase und Rachen coole Sounds zu produzieren. Und jetzt gibt’s die Möglichkeit\, das an unserem neuen SalutDeluxe-Standort in Wilhelmsburg auszuprobieren! ✨ \nIm Beatbox-Workshop von SalutDeluxe e.V. zeigt dir der talentierte Beatboxer Guido\, was du mit deiner Mundmuskulatur alles anstellen kannst. Auch die Jüngeren können hier schon aktiv werden! „Bb-Tz-Pf-Tz!“
URL:https://salutdeluxe.hamburg/event/beatbox-zinnwerke/2027-02-23/
LOCATION:Zinnwerke\, Veringhof 7\, Hamburg\, 21107\, Deutschland
ATTACH;FMTTYPE=image/jpeg:https://salutdeluxe.hamburg/wp-content/uploads/2025/02/news_007.jpeg
END:VEVENT
BEGIN:VEVENT
DTSTART;TZID=Europe/Berlin:20270224T163000
DTEND;TZID=Europe/Berlin:20270224T180000
DTSTAMP:20260426T020040
CREATED:20260220T185354Z
LAST-MODIFIED:20260220T185359Z
UID:10000696-1803486600-1803492000@salutdeluxe.hamburg
SUMMARY:Beatbox mit Guido
DESCRIPTION:Beatboxen ist die Kunst\, nur mit Mund\, Nase und Rachen coole Sounds zu produzieren. Finde deinen eigenen Weg\, Menschen zu begeistern! Im Beatbox-Kurs der DeluxeKidz zeigt dir der schwer talentierte Beatbox Guido\, was du mit deiner Mundmuskulatur alles anstellen kannst. „Bb-Tz-Pf-Tz!“
URL:https://salutdeluxe.hamburg/event/beatbox-mit-guido-26-3/2027-02-24/
LOCATION:Esche – Jugendkunsthaus\, Eschelsweg 4\, Hamburg\, Hamburg\, 22767
ATTACH;FMTTYPE=image/jpeg:https://salutdeluxe.hamburg/wp-content/uploads/2022/11/Beatboxen-DeluxeKidz_Esche.jpeg
END:VEVENT
BEGIN:VEVENT
DTSTART;TZID=Europe/Berlin:20270302T170000
DTEND;TZID=Europe/Berlin:20270302T190000
DTSTAMP:20260426T020040
CREATED:20250227T125938Z
LAST-MODIFIED:20250227T125938Z
UID:10005171-1804006800-1804014000@salutdeluxe.hamburg
SUMMARY:Beatbox (Zinnwerke)
DESCRIPTION:Beatboxen ist die Kunst\, nur mit Mund\, Nase und Rachen coole Sounds zu produzieren. Und jetzt gibt’s die Möglichkeit\, das an unserem neuen SalutDeluxe-Standort in Wilhelmsburg auszuprobieren! ✨ \nIm Beatbox-Workshop von SalutDeluxe e.V. zeigt dir der talentierte Beatboxer Guido\, was du mit deiner Mundmuskulatur alles anstellen kannst. Auch die Jüngeren können hier schon aktiv werden! „Bb-Tz-Pf-Tz!“
URL:https://salutdeluxe.hamburg/event/beatbox-zinnwerke/2027-03-02/
LOCATION:Zinnwerke\, Veringhof 7\, Hamburg\, 21107\, Deutschland
ATTACH;FMTTYPE=image/jpeg:https://salutdeluxe.hamburg/wp-content/uploads/2025/02/news_007.jpeg
END:VEVENT
BEGIN:VEVENT
DTSTART;TZID=Europe/Berlin:20270303T163000
DTEND;TZID=Europe/Berlin:20270303T180000
DTSTAMP:20260426T020040
CREATED:20260220T185354Z
LAST-MODIFIED:20260220T185359Z
UID:10000697-1804091400-1804096800@salutdeluxe.hamburg
SUMMARY:Beatbox mit Guido
DESCRIPTION:Beatboxen ist die Kunst\, nur mit Mund\, Nase und Rachen coole Sounds zu produzieren. Finde deinen eigenen Weg\, Menschen zu begeistern! Im Beatbox-Kurs der DeluxeKidz zeigt dir der schwer talentierte Beatbox Guido\, was du mit deiner Mundmuskulatur alles anstellen kannst. „Bb-Tz-Pf-Tz!“
URL:https://salutdeluxe.hamburg/event/beatbox-mit-guido-26-3/2027-03-03/
LOCATION:Esche – Jugendkunsthaus\, Eschelsweg 4\, Hamburg\, Hamburg\, 22767
ATTACH;FMTTYPE=image/jpeg:https://salutdeluxe.hamburg/wp-content/uploads/2022/11/Beatboxen-DeluxeKidz_Esche.jpeg
END:VEVENT
BEGIN:VEVENT
DTSTART;TZID=Europe/Berlin:20270309T170000
DTEND;TZID=Europe/Berlin:20270309T190000
DTSTAMP:20260426T020040
CREATED:20250227T125938Z
LAST-MODIFIED:20250227T125938Z
UID:10005172-1804611600-1804618800@salutdeluxe.hamburg
SUMMARY:Beatbox (Zinnwerke)
DESCRIPTION:Beatboxen ist die Kunst\, nur mit Mund\, Nase und Rachen coole Sounds zu produzieren. Und jetzt gibt’s die Möglichkeit\, das an unserem neuen SalutDeluxe-Standort in Wilhelmsburg auszuprobieren! ✨ \nIm Beatbox-Workshop von SalutDeluxe e.V. zeigt dir der talentierte Beatboxer Guido\, was du mit deiner Mundmuskulatur alles anstellen kannst. Auch die Jüngeren können hier schon aktiv werden! „Bb-Tz-Pf-Tz!“
URL:https://salutdeluxe.hamburg/event/beatbox-zinnwerke/2027-03-09/
LOCATION:Zinnwerke\, Veringhof 7\, Hamburg\, 21107\, Deutschland
ATTACH;FMTTYPE=image/jpeg:https://salutdeluxe.hamburg/wp-content/uploads/2025/02/news_007.jpeg
END:VEVENT
BEGIN:VEVENT
DTSTART;TZID=Europe/Berlin:20270310T163000
DTEND;TZID=Europe/Berlin:20270310T180000
DTSTAMP:20260426T020040
CREATED:20260220T185354Z
LAST-MODIFIED:20260220T185359Z
UID:10000698-1804696200-1804701600@salutdeluxe.hamburg
SUMMARY:Beatbox mit Guido
DESCRIPTION:Beatboxen ist die Kunst\, nur mit Mund\, Nase und Rachen coole Sounds zu produzieren. Finde deinen eigenen Weg\, Menschen zu begeistern! Im Beatbox-Kurs der DeluxeKidz zeigt dir der schwer talentierte Beatbox Guido\, was du mit deiner Mundmuskulatur alles anstellen kannst. „Bb-Tz-Pf-Tz!“
URL:https://salutdeluxe.hamburg/event/beatbox-mit-guido-26-3/2027-03-10/
LOCATION:Esche – Jugendkunsthaus\, Eschelsweg 4\, Hamburg\, Hamburg\, 22767
ATTACH;FMTTYPE=image/jpeg:https://salutdeluxe.hamburg/wp-content/uploads/2022/11/Beatboxen-DeluxeKidz_Esche.jpeg
END:VEVENT
BEGIN:VEVENT
DTSTART;TZID=Europe/Berlin:20270316T170000
DTEND;TZID=Europe/Berlin:20270316T190000
DTSTAMP:20260426T020040
CREATED:20250227T125938Z
LAST-MODIFIED:20250227T125938Z
UID:10005173-1805216400-1805223600@salutdeluxe.hamburg
SUMMARY:Beatbox (Zinnwerke)
DESCRIPTION:Beatboxen ist die Kunst\, nur mit Mund\, Nase und Rachen coole Sounds zu produzieren. Und jetzt gibt’s die Möglichkeit\, das an unserem neuen SalutDeluxe-Standort in Wilhelmsburg auszuprobieren! ✨ \nIm Beatbox-Workshop von SalutDeluxe e.V. zeigt dir der talentierte Beatboxer Guido\, was du mit deiner Mundmuskulatur alles anstellen kannst. Auch die Jüngeren können hier schon aktiv werden! „Bb-Tz-Pf-Tz!“
URL:https://salutdeluxe.hamburg/event/beatbox-zinnwerke/2027-03-16/
LOCATION:Zinnwerke\, Veringhof 7\, Hamburg\, 21107\, Deutschland
ATTACH;FMTTYPE=image/jpeg:https://salutdeluxe.hamburg/wp-content/uploads/2025/02/news_007.jpeg
END:VEVENT
BEGIN:VEVENT
DTSTART;TZID=Europe/Berlin:20270317T163000
DTEND;TZID=Europe/Berlin:20270317T180000
DTSTAMP:20260426T020040
CREATED:20260220T185354Z
LAST-MODIFIED:20260220T185359Z
UID:10000699-1805301000-1805306400@salutdeluxe.hamburg
SUMMARY:Beatbox mit Guido
DESCRIPTION:Beatboxen ist die Kunst\, nur mit Mund\, Nase und Rachen coole Sounds zu produzieren. Finde deinen eigenen Weg\, Menschen zu begeistern! Im Beatbox-Kurs der DeluxeKidz zeigt dir der schwer talentierte Beatbox Guido\, was du mit deiner Mundmuskulatur alles anstellen kannst. „Bb-Tz-Pf-Tz!“
URL:https://salutdeluxe.hamburg/event/beatbox-mit-guido-26-3/2027-03-17/
LOCATION:Esche – Jugendkunsthaus\, Eschelsweg 4\, Hamburg\, Hamburg\, 22767
ATTACH;FMTTYPE=image/jpeg:https://salutdeluxe.hamburg/wp-content/uploads/2022/11/Beatboxen-DeluxeKidz_Esche.jpeg
END:VEVENT
BEGIN:VEVENT
DTSTART;TZID=Europe/Berlin:20270323T170000
DTEND;TZID=Europe/Berlin:20270323T190000
DTSTAMP:20260426T020040
CREATED:20250227T125938Z
LAST-MODIFIED:20250227T125938Z
UID:10005174-1805821200-1805828400@salutdeluxe.hamburg
SUMMARY:Beatbox (Zinnwerke)
DESCRIPTION:Beatboxen ist die Kunst\, nur mit Mund\, Nase und Rachen coole Sounds zu produzieren. Und jetzt gibt’s die Möglichkeit\, das an unserem neuen SalutDeluxe-Standort in Wilhelmsburg auszuprobieren! ✨ \nIm Beatbox-Workshop von SalutDeluxe e.V. zeigt dir der talentierte Beatboxer Guido\, was du mit deiner Mundmuskulatur alles anstellen kannst. Auch die Jüngeren können hier schon aktiv werden! „Bb-Tz-Pf-Tz!“
URL:https://salutdeluxe.hamburg/event/beatbox-zinnwerke/2027-03-23/
LOCATION:Zinnwerke\, Veringhof 7\, Hamburg\, 21107\, Deutschland
ATTACH;FMTTYPE=image/jpeg:https://salutdeluxe.hamburg/wp-content/uploads/2025/02/news_007.jpeg
END:VEVENT
BEGIN:VEVENT
DTSTART;TZID=Europe/Berlin:20270324T163000
DTEND;TZID=Europe/Berlin:20270324T180000
DTSTAMP:20260426T020040
CREATED:20260220T185354Z
LAST-MODIFIED:20260220T185359Z
UID:10000700-1805905800-1805911200@salutdeluxe.hamburg
SUMMARY:Beatbox mit Guido
DESCRIPTION:Beatboxen ist die Kunst\, nur mit Mund\, Nase und Rachen coole Sounds zu produzieren. Finde deinen eigenen Weg\, Menschen zu begeistern! Im Beatbox-Kurs der DeluxeKidz zeigt dir der schwer talentierte Beatbox Guido\, was du mit deiner Mundmuskulatur alles anstellen kannst. „Bb-Tz-Pf-Tz!“
URL:https://salutdeluxe.hamburg/event/beatbox-mit-guido-26-3/2027-03-24/
LOCATION:Esche – Jugendkunsthaus\, Eschelsweg 4\, Hamburg\, Hamburg\, 22767
ATTACH;FMTTYPE=image/jpeg:https://salutdeluxe.hamburg/wp-content/uploads/2022/11/Beatboxen-DeluxeKidz_Esche.jpeg
END:VEVENT
BEGIN:VEVENT
DTSTART;TZID=Europe/Berlin:20270330T170000
DTEND;TZID=Europe/Berlin:20270330T190000
DTSTAMP:20260426T020040
CREATED:20250227T125938Z
LAST-MODIFIED:20250227T125938Z
UID:10005175-1806426000-1806433200@salutdeluxe.hamburg
SUMMARY:Beatbox (Zinnwerke)
DESCRIPTION:Beatboxen ist die Kunst\, nur mit Mund\, Nase und Rachen coole Sounds zu produzieren. Und jetzt gibt’s die Möglichkeit\, das an unserem neuen SalutDeluxe-Standort in Wilhelmsburg auszuprobieren! ✨ \nIm Beatbox-Workshop von SalutDeluxe e.V. zeigt dir der talentierte Beatboxer Guido\, was du mit deiner Mundmuskulatur alles anstellen kannst. Auch die Jüngeren können hier schon aktiv werden! „Bb-Tz-Pf-Tz!“
URL:https://salutdeluxe.hamburg/event/beatbox-zinnwerke/2027-03-30/
LOCATION:Zinnwerke\, Veringhof 7\, Hamburg\, 21107\, Deutschland
ATTACH;FMTTYPE=image/jpeg:https://salutdeluxe.hamburg/wp-content/uploads/2025/02/news_007.jpeg
END:VEVENT
BEGIN:VEVENT
DTSTART;TZID=Europe/Berlin:20270331T163000
DTEND;TZID=Europe/Berlin:20270331T180000
DTSTAMP:20260426T020040
CREATED:20260220T185354Z
LAST-MODIFIED:20260220T185359Z
UID:10000701-1806510600-1806516000@salutdeluxe.hamburg
SUMMARY:Beatbox mit Guido
DESCRIPTION:Beatboxen ist die Kunst\, nur mit Mund\, Nase und Rachen coole Sounds zu produzieren. Finde deinen eigenen Weg\, Menschen zu begeistern! Im Beatbox-Kurs der DeluxeKidz zeigt dir der schwer talentierte Beatbox Guido\, was du mit deiner Mundmuskulatur alles anstellen kannst. „Bb-Tz-Pf-Tz!“
URL:https://salutdeluxe.hamburg/event/beatbox-mit-guido-26-3/2027-03-31/
LOCATION:Esche – Jugendkunsthaus\, Eschelsweg 4\, Hamburg\, Hamburg\, 22767
ATTACH;FMTTYPE=image/jpeg:https://salutdeluxe.hamburg/wp-content/uploads/2022/11/Beatboxen-DeluxeKidz_Esche.jpeg
END:VEVENT
BEGIN:VEVENT
DTSTART;TZID=Europe/Berlin:20270406T170000
DTEND;TZID=Europe/Berlin:20270406T190000
DTSTAMP:20260426T020040
CREATED:20250227T125938Z
LAST-MODIFIED:20250227T125938Z
UID:10005176-1807030800-1807038000@salutdeluxe.hamburg
SUMMARY:Beatbox (Zinnwerke)
DESCRIPTION:Beatboxen ist die Kunst\, nur mit Mund\, Nase und Rachen coole Sounds zu produzieren. Und jetzt gibt’s die Möglichkeit\, das an unserem neuen SalutDeluxe-Standort in Wilhelmsburg auszuprobieren! ✨ \nIm Beatbox-Workshop von SalutDeluxe e.V. zeigt dir der talentierte Beatboxer Guido\, was du mit deiner Mundmuskulatur alles anstellen kannst. Auch die Jüngeren können hier schon aktiv werden! „Bb-Tz-Pf-Tz!“
URL:https://salutdeluxe.hamburg/event/beatbox-zinnwerke/2027-04-06/
LOCATION:Zinnwerke\, Veringhof 7\, Hamburg\, 21107\, Deutschland
ATTACH;FMTTYPE=image/jpeg:https://salutdeluxe.hamburg/wp-content/uploads/2025/02/news_007.jpeg
END:VEVENT
BEGIN:VEVENT
DTSTART;TZID=Europe/Berlin:20270407T163000
DTEND;TZID=Europe/Berlin:20270407T180000
DTSTAMP:20260426T020040
CREATED:20260220T185354Z
LAST-MODIFIED:20260220T185359Z
UID:10000702-1807115400-1807120800@salutdeluxe.hamburg
SUMMARY:Beatbox mit Guido
DESCRIPTION:Beatboxen ist die Kunst\, nur mit Mund\, Nase und Rachen coole Sounds zu produzieren. Finde deinen eigenen Weg\, Menschen zu begeistern! Im Beatbox-Kurs der DeluxeKidz zeigt dir der schwer talentierte Beatbox Guido\, was du mit deiner Mundmuskulatur alles anstellen kannst. „Bb-Tz-Pf-Tz!“
URL:https://salutdeluxe.hamburg/event/beatbox-mit-guido-26-3/2027-04-07/
LOCATION:Esche – Jugendkunsthaus\, Eschelsweg 4\, Hamburg\, Hamburg\, 22767
ATTACH;FMTTYPE=image/jpeg:https://salutdeluxe.hamburg/wp-content/uploads/2022/11/Beatboxen-DeluxeKidz_Esche.jpeg
END:VEVENT
BEGIN:VEVENT
DTSTART;TZID=Europe/Berlin:20270413T170000
DTEND;TZID=Europe/Berlin:20270413T190000
DTSTAMP:20260426T020040
CREATED:20250227T125938Z
LAST-MODIFIED:20250227T125938Z
UID:10005177-1807635600-1807642800@salutdeluxe.hamburg
SUMMARY:Beatbox (Zinnwerke)
DESCRIPTION:Beatboxen ist die Kunst\, nur mit Mund\, Nase und Rachen coole Sounds zu produzieren. Und jetzt gibt’s die Möglichkeit\, das an unserem neuen SalutDeluxe-Standort in Wilhelmsburg auszuprobieren! ✨ \nIm Beatbox-Workshop von SalutDeluxe e.V. zeigt dir der talentierte Beatboxer Guido\, was du mit deiner Mundmuskulatur alles anstellen kannst. Auch die Jüngeren können hier schon aktiv werden! „Bb-Tz-Pf-Tz!“
URL:https://salutdeluxe.hamburg/event/beatbox-zinnwerke/2027-04-13/
LOCATION:Zinnwerke\, Veringhof 7\, Hamburg\, 21107\, Deutschland
ATTACH;FMTTYPE=image/jpeg:https://salutdeluxe.hamburg/wp-content/uploads/2025/02/news_007.jpeg
END:VEVENT
BEGIN:VEVENT
DTSTART;TZID=Europe/Berlin:20270414T163000
DTEND;TZID=Europe/Berlin:20270414T180000
DTSTAMP:20260426T020040
CREATED:20260220T185354Z
LAST-MODIFIED:20260220T185359Z
UID:10000703-1807720200-1807725600@salutdeluxe.hamburg
SUMMARY:Beatbox mit Guido
DESCRIPTION:Beatboxen ist die Kunst\, nur mit Mund\, Nase und Rachen coole Sounds zu produzieren. Finde deinen eigenen Weg\, Menschen zu begeistern! Im Beatbox-Kurs der DeluxeKidz zeigt dir der schwer talentierte Beatbox Guido\, was du mit deiner Mundmuskulatur alles anstellen kannst. „Bb-Tz-Pf-Tz!“
URL:https://salutdeluxe.hamburg/event/beatbox-mit-guido-26-3/2027-04-14/
LOCATION:Esche – Jugendkunsthaus\, Eschelsweg 4\, Hamburg\, Hamburg\, 22767
ATTACH;FMTTYPE=image/jpeg:https://salutdeluxe.hamburg/wp-content/uploads/2022/11/Beatboxen-DeluxeKidz_Esche.jpeg
END:VEVENT
END:VCALENDAR