BEGIN:VCALENDAR
VERSION:2.0
PRODID:-//SalutDeluxe e.V. - ECPv6.2.2//NONSGML v1.0//EN
CALSCALE:GREGORIAN
METHOD:PUBLISH
X-WR-CALNAME:SalutDeluxe e.V.
X-ORIGINAL-URL:https://salutdeluxe.hamburg
X-WR-CALDESC:Veranstaltungen für SalutDeluxe e.V.
REFRESH-INTERVAL;VALUE=DURATION:PT1H
X-Robots-Tag:noindex
X-PUBLISHED-TTL:PT1H
BEGIN:VTIMEZONE
TZID:Europe/Berlin
BEGIN:DAYLIGHT
TZOFFSETFROM:+0100
TZOFFSETTO:+0200
TZNAME:CEST
DTSTART:20260329T010000
END:DAYLIGHT
BEGIN:STANDARD
TZOFFSETFROM:+0200
TZOFFSETTO:+0100
TZNAME:CET
DTSTART:20261025T010000
END:STANDARD
END:VTIMEZONE
BEGIN:VEVENT
DTSTART;TZID=Europe/Berlin:20260901T170000
DTEND;TZID=Europe/Berlin:20260901T190000
DTSTAMP:20260425T160012
CREATED:20250227T125938Z
LAST-MODIFIED:20250227T125938Z
UID:10005145-1788282000-1788289200@salutdeluxe.hamburg
SUMMARY:Beatbox (Zinnwerke)
DESCRIPTION:Beatboxen ist die Kunst\, nur mit Mund\, Nase und Rachen coole Sounds zu produzieren. Und jetzt gibt’s die Möglichkeit\, das an unserem neuen SalutDeluxe-Standort in Wilhelmsburg auszuprobieren! ✨ \nIm Beatbox-Workshop von SalutDeluxe e.V. zeigt dir der talentierte Beatboxer Guido\, was du mit deiner Mundmuskulatur alles anstellen kannst. Auch die Jüngeren können hier schon aktiv werden! „Bb-Tz-Pf-Tz!“
URL:https://salutdeluxe.hamburg/event/beatbox-zinnwerke/2026-09-01/
LOCATION:Zinnwerke\, Veringhof 7\, Hamburg\, 21107\, Deutschland
ATTACH;FMTTYPE=image/jpeg:https://salutdeluxe.hamburg/wp-content/uploads/2025/02/news_007.jpeg
END:VEVENT
BEGIN:VEVENT
DTSTART;TZID=Europe/Berlin:20260902T163000
DTEND;TZID=Europe/Berlin:20260902T180000
DTSTAMP:20260425T160012
CREATED:20260220T185354Z
LAST-MODIFIED:20260220T185359Z
UID:10000671-1788366600-1788372000@salutdeluxe.hamburg
SUMMARY:Beatbox mit Guido
DESCRIPTION:Beatboxen ist die Kunst\, nur mit Mund\, Nase und Rachen coole Sounds zu produzieren. Finde deinen eigenen Weg\, Menschen zu begeistern! Im Beatbox-Kurs der DeluxeKidz zeigt dir der schwer talentierte Beatbox Guido\, was du mit deiner Mundmuskulatur alles anstellen kannst. „Bb-Tz-Pf-Tz!“
URL:https://salutdeluxe.hamburg/event/beatbox-mit-guido-26-3/2026-09-02/
LOCATION:Esche – Jugendkunsthaus\, Eschelsweg 4\, Hamburg\, Hamburg\, 22767
ATTACH;FMTTYPE=image/jpeg:https://salutdeluxe.hamburg/wp-content/uploads/2022/11/Beatboxen-DeluxeKidz_Esche.jpeg
END:VEVENT
BEGIN:VEVENT
DTSTART;TZID=Europe/Berlin:20260908T170000
DTEND;TZID=Europe/Berlin:20260908T190000
DTSTAMP:20260425T160012
CREATED:20250227T125938Z
LAST-MODIFIED:20250227T125938Z
UID:10005146-1788886800-1788894000@salutdeluxe.hamburg
SUMMARY:Beatbox (Zinnwerke)
DESCRIPTION:Beatboxen ist die Kunst\, nur mit Mund\, Nase und Rachen coole Sounds zu produzieren. Und jetzt gibt’s die Möglichkeit\, das an unserem neuen SalutDeluxe-Standort in Wilhelmsburg auszuprobieren! ✨ \nIm Beatbox-Workshop von SalutDeluxe e.V. zeigt dir der talentierte Beatboxer Guido\, was du mit deiner Mundmuskulatur alles anstellen kannst. Auch die Jüngeren können hier schon aktiv werden! „Bb-Tz-Pf-Tz!“
URL:https://salutdeluxe.hamburg/event/beatbox-zinnwerke/2026-09-08/
LOCATION:Zinnwerke\, Veringhof 7\, Hamburg\, 21107\, Deutschland
ATTACH;FMTTYPE=image/jpeg:https://salutdeluxe.hamburg/wp-content/uploads/2025/02/news_007.jpeg
END:VEVENT
BEGIN:VEVENT
DTSTART;TZID=Europe/Berlin:20260909T163000
DTEND;TZID=Europe/Berlin:20260909T180000
DTSTAMP:20260425T160012
CREATED:20260220T185354Z
LAST-MODIFIED:20260220T185359Z
UID:10000672-1788971400-1788976800@salutdeluxe.hamburg
SUMMARY:Beatbox mit Guido
DESCRIPTION:Beatboxen ist die Kunst\, nur mit Mund\, Nase und Rachen coole Sounds zu produzieren. Finde deinen eigenen Weg\, Menschen zu begeistern! Im Beatbox-Kurs der DeluxeKidz zeigt dir der schwer talentierte Beatbox Guido\, was du mit deiner Mundmuskulatur alles anstellen kannst. „Bb-Tz-Pf-Tz!“
URL:https://salutdeluxe.hamburg/event/beatbox-mit-guido-26-3/2026-09-09/
LOCATION:Esche – Jugendkunsthaus\, Eschelsweg 4\, Hamburg\, Hamburg\, 22767
ATTACH;FMTTYPE=image/jpeg:https://salutdeluxe.hamburg/wp-content/uploads/2022/11/Beatboxen-DeluxeKidz_Esche.jpeg
END:VEVENT
BEGIN:VEVENT
DTSTART;TZID=Europe/Berlin:20260915T170000
DTEND;TZID=Europe/Berlin:20260915T190000
DTSTAMP:20260425T160012
CREATED:20250227T125938Z
LAST-MODIFIED:20250227T125938Z
UID:10005147-1789491600-1789498800@salutdeluxe.hamburg
SUMMARY:Beatbox (Zinnwerke)
DESCRIPTION:Beatboxen ist die Kunst\, nur mit Mund\, Nase und Rachen coole Sounds zu produzieren. Und jetzt gibt’s die Möglichkeit\, das an unserem neuen SalutDeluxe-Standort in Wilhelmsburg auszuprobieren! ✨ \nIm Beatbox-Workshop von SalutDeluxe e.V. zeigt dir der talentierte Beatboxer Guido\, was du mit deiner Mundmuskulatur alles anstellen kannst. Auch die Jüngeren können hier schon aktiv werden! „Bb-Tz-Pf-Tz!“
URL:https://salutdeluxe.hamburg/event/beatbox-zinnwerke/2026-09-15/
LOCATION:Zinnwerke\, Veringhof 7\, Hamburg\, 21107\, Deutschland
ATTACH;FMTTYPE=image/jpeg:https://salutdeluxe.hamburg/wp-content/uploads/2025/02/news_007.jpeg
END:VEVENT
BEGIN:VEVENT
DTSTART;TZID=Europe/Berlin:20260916T163000
DTEND;TZID=Europe/Berlin:20260916T180000
DTSTAMP:20260425T160012
CREATED:20260220T185354Z
LAST-MODIFIED:20260220T185359Z
UID:10000673-1789576200-1789581600@salutdeluxe.hamburg
SUMMARY:Beatbox mit Guido
DESCRIPTION:Beatboxen ist die Kunst\, nur mit Mund\, Nase und Rachen coole Sounds zu produzieren. Finde deinen eigenen Weg\, Menschen zu begeistern! Im Beatbox-Kurs der DeluxeKidz zeigt dir der schwer talentierte Beatbox Guido\, was du mit deiner Mundmuskulatur alles anstellen kannst. „Bb-Tz-Pf-Tz!“
URL:https://salutdeluxe.hamburg/event/beatbox-mit-guido-26-3/2026-09-16/
LOCATION:Esche – Jugendkunsthaus\, Eschelsweg 4\, Hamburg\, Hamburg\, 22767
ATTACH;FMTTYPE=image/jpeg:https://salutdeluxe.hamburg/wp-content/uploads/2022/11/Beatboxen-DeluxeKidz_Esche.jpeg
END:VEVENT
BEGIN:VEVENT
DTSTART;TZID=Europe/Berlin:20260922T170000
DTEND;TZID=Europe/Berlin:20260922T190000
DTSTAMP:20260425T160012
CREATED:20250227T125938Z
LAST-MODIFIED:20250227T125938Z
UID:10005148-1790096400-1790103600@salutdeluxe.hamburg
SUMMARY:Beatbox (Zinnwerke)
DESCRIPTION:Beatboxen ist die Kunst\, nur mit Mund\, Nase und Rachen coole Sounds zu produzieren. Und jetzt gibt’s die Möglichkeit\, das an unserem neuen SalutDeluxe-Standort in Wilhelmsburg auszuprobieren! ✨ \nIm Beatbox-Workshop von SalutDeluxe e.V. zeigt dir der talentierte Beatboxer Guido\, was du mit deiner Mundmuskulatur alles anstellen kannst. Auch die Jüngeren können hier schon aktiv werden! „Bb-Tz-Pf-Tz!“
URL:https://salutdeluxe.hamburg/event/beatbox-zinnwerke/2026-09-22/
LOCATION:Zinnwerke\, Veringhof 7\, Hamburg\, 21107\, Deutschland
ATTACH;FMTTYPE=image/jpeg:https://salutdeluxe.hamburg/wp-content/uploads/2025/02/news_007.jpeg
END:VEVENT
BEGIN:VEVENT
DTSTART;TZID=Europe/Berlin:20260923T163000
DTEND;TZID=Europe/Berlin:20260923T180000
DTSTAMP:20260425T160012
CREATED:20260220T185354Z
LAST-MODIFIED:20260220T185359Z
UID:10000674-1790181000-1790186400@salutdeluxe.hamburg
SUMMARY:Beatbox mit Guido
DESCRIPTION:Beatboxen ist die Kunst\, nur mit Mund\, Nase und Rachen coole Sounds zu produzieren. Finde deinen eigenen Weg\, Menschen zu begeistern! Im Beatbox-Kurs der DeluxeKidz zeigt dir der schwer talentierte Beatbox Guido\, was du mit deiner Mundmuskulatur alles anstellen kannst. „Bb-Tz-Pf-Tz!“
URL:https://salutdeluxe.hamburg/event/beatbox-mit-guido-26-3/2026-09-23/
LOCATION:Esche – Jugendkunsthaus\, Eschelsweg 4\, Hamburg\, Hamburg\, 22767
ATTACH;FMTTYPE=image/jpeg:https://salutdeluxe.hamburg/wp-content/uploads/2022/11/Beatboxen-DeluxeKidz_Esche.jpeg
END:VEVENT
BEGIN:VEVENT
DTSTART;TZID=Europe/Berlin:20260929T170000
DTEND;TZID=Europe/Berlin:20260929T190000
DTSTAMP:20260425T160012
CREATED:20250227T125938Z
LAST-MODIFIED:20250227T125938Z
UID:10005149-1790701200-1790708400@salutdeluxe.hamburg
SUMMARY:Beatbox (Zinnwerke)
DESCRIPTION:Beatboxen ist die Kunst\, nur mit Mund\, Nase und Rachen coole Sounds zu produzieren. Und jetzt gibt’s die Möglichkeit\, das an unserem neuen SalutDeluxe-Standort in Wilhelmsburg auszuprobieren! ✨ \nIm Beatbox-Workshop von SalutDeluxe e.V. zeigt dir der talentierte Beatboxer Guido\, was du mit deiner Mundmuskulatur alles anstellen kannst. Auch die Jüngeren können hier schon aktiv werden! „Bb-Tz-Pf-Tz!“
URL:https://salutdeluxe.hamburg/event/beatbox-zinnwerke/2026-09-29/
LOCATION:Zinnwerke\, Veringhof 7\, Hamburg\, 21107\, Deutschland
ATTACH;FMTTYPE=image/jpeg:https://salutdeluxe.hamburg/wp-content/uploads/2025/02/news_007.jpeg
END:VEVENT
BEGIN:VEVENT
DTSTART;TZID=Europe/Berlin:20260930T163000
DTEND;TZID=Europe/Berlin:20260930T180000
DTSTAMP:20260425T160012
CREATED:20260220T185354Z
LAST-MODIFIED:20260220T185359Z
UID:10000675-1790785800-1790791200@salutdeluxe.hamburg
SUMMARY:Beatbox mit Guido
DESCRIPTION:Beatboxen ist die Kunst\, nur mit Mund\, Nase und Rachen coole Sounds zu produzieren. Finde deinen eigenen Weg\, Menschen zu begeistern! Im Beatbox-Kurs der DeluxeKidz zeigt dir der schwer talentierte Beatbox Guido\, was du mit deiner Mundmuskulatur alles anstellen kannst. „Bb-Tz-Pf-Tz!“
URL:https://salutdeluxe.hamburg/event/beatbox-mit-guido-26-3/2026-09-30/
LOCATION:Esche – Jugendkunsthaus\, Eschelsweg 4\, Hamburg\, Hamburg\, 22767
ATTACH;FMTTYPE=image/jpeg:https://salutdeluxe.hamburg/wp-content/uploads/2022/11/Beatboxen-DeluxeKidz_Esche.jpeg
END:VEVENT
BEGIN:VEVENT
DTSTART;TZID=Europe/Berlin:20261006T170000
DTEND;TZID=Europe/Berlin:20261006T190000
DTSTAMP:20260425T160012
CREATED:20250227T125938Z
LAST-MODIFIED:20250227T125938Z
UID:10005150-1791306000-1791313200@salutdeluxe.hamburg
SUMMARY:Beatbox (Zinnwerke)
DESCRIPTION:Beatboxen ist die Kunst\, nur mit Mund\, Nase und Rachen coole Sounds zu produzieren. Und jetzt gibt’s die Möglichkeit\, das an unserem neuen SalutDeluxe-Standort in Wilhelmsburg auszuprobieren! ✨ \nIm Beatbox-Workshop von SalutDeluxe e.V. zeigt dir der talentierte Beatboxer Guido\, was du mit deiner Mundmuskulatur alles anstellen kannst. Auch die Jüngeren können hier schon aktiv werden! „Bb-Tz-Pf-Tz!“
URL:https://salutdeluxe.hamburg/event/beatbox-zinnwerke/2026-10-06/
LOCATION:Zinnwerke\, Veringhof 7\, Hamburg\, 21107\, Deutschland
ATTACH;FMTTYPE=image/jpeg:https://salutdeluxe.hamburg/wp-content/uploads/2025/02/news_007.jpeg
END:VEVENT
BEGIN:VEVENT
DTSTART;TZID=Europe/Berlin:20261007T163000
DTEND;TZID=Europe/Berlin:20261007T180000
DTSTAMP:20260425T160012
CREATED:20260220T185354Z
LAST-MODIFIED:20260220T185359Z
UID:10000676-1791390600-1791396000@salutdeluxe.hamburg
SUMMARY:Beatbox mit Guido
DESCRIPTION:Beatboxen ist die Kunst\, nur mit Mund\, Nase und Rachen coole Sounds zu produzieren. Finde deinen eigenen Weg\, Menschen zu begeistern! Im Beatbox-Kurs der DeluxeKidz zeigt dir der schwer talentierte Beatbox Guido\, was du mit deiner Mundmuskulatur alles anstellen kannst. „Bb-Tz-Pf-Tz!“
URL:https://salutdeluxe.hamburg/event/beatbox-mit-guido-26-3/2026-10-07/
LOCATION:Esche – Jugendkunsthaus\, Eschelsweg 4\, Hamburg\, Hamburg\, 22767
ATTACH;FMTTYPE=image/jpeg:https://salutdeluxe.hamburg/wp-content/uploads/2022/11/Beatboxen-DeluxeKidz_Esche.jpeg
END:VEVENT
BEGIN:VEVENT
DTSTART;TZID=Europe/Berlin:20261013T170000
DTEND;TZID=Europe/Berlin:20261013T190000
DTSTAMP:20260425T160012
CREATED:20250227T125938Z
LAST-MODIFIED:20250227T125938Z
UID:10005151-1791910800-1791918000@salutdeluxe.hamburg
SUMMARY:Beatbox (Zinnwerke)
DESCRIPTION:Beatboxen ist die Kunst\, nur mit Mund\, Nase und Rachen coole Sounds zu produzieren. Und jetzt gibt’s die Möglichkeit\, das an unserem neuen SalutDeluxe-Standort in Wilhelmsburg auszuprobieren! ✨ \nIm Beatbox-Workshop von SalutDeluxe e.V. zeigt dir der talentierte Beatboxer Guido\, was du mit deiner Mundmuskulatur alles anstellen kannst. Auch die Jüngeren können hier schon aktiv werden! „Bb-Tz-Pf-Tz!“
URL:https://salutdeluxe.hamburg/event/beatbox-zinnwerke/2026-10-13/
LOCATION:Zinnwerke\, Veringhof 7\, Hamburg\, 21107\, Deutschland
ATTACH;FMTTYPE=image/jpeg:https://salutdeluxe.hamburg/wp-content/uploads/2025/02/news_007.jpeg
END:VEVENT
BEGIN:VEVENT
DTSTART;TZID=Europe/Berlin:20261014T163000
DTEND;TZID=Europe/Berlin:20261014T180000
DTSTAMP:20260425T160012
CREATED:20260220T185354Z
LAST-MODIFIED:20260220T185359Z
UID:10000677-1791995400-1792000800@salutdeluxe.hamburg
SUMMARY:Beatbox mit Guido
DESCRIPTION:Beatboxen ist die Kunst\, nur mit Mund\, Nase und Rachen coole Sounds zu produzieren. Finde deinen eigenen Weg\, Menschen zu begeistern! Im Beatbox-Kurs der DeluxeKidz zeigt dir der schwer talentierte Beatbox Guido\, was du mit deiner Mundmuskulatur alles anstellen kannst. „Bb-Tz-Pf-Tz!“
URL:https://salutdeluxe.hamburg/event/beatbox-mit-guido-26-3/2026-10-14/
LOCATION:Esche – Jugendkunsthaus\, Eschelsweg 4\, Hamburg\, Hamburg\, 22767
ATTACH;FMTTYPE=image/jpeg:https://salutdeluxe.hamburg/wp-content/uploads/2022/11/Beatboxen-DeluxeKidz_Esche.jpeg
END:VEVENT
BEGIN:VEVENT
DTSTART;TZID=Europe/Berlin:20261020T170000
DTEND;TZID=Europe/Berlin:20261020T190000
DTSTAMP:20260425T160012
CREATED:20250227T125938Z
LAST-MODIFIED:20250227T125938Z
UID:10005152-1792515600-1792522800@salutdeluxe.hamburg
SUMMARY:Beatbox (Zinnwerke)
DESCRIPTION:Beatboxen ist die Kunst\, nur mit Mund\, Nase und Rachen coole Sounds zu produzieren. Und jetzt gibt’s die Möglichkeit\, das an unserem neuen SalutDeluxe-Standort in Wilhelmsburg auszuprobieren! ✨ \nIm Beatbox-Workshop von SalutDeluxe e.V. zeigt dir der talentierte Beatboxer Guido\, was du mit deiner Mundmuskulatur alles anstellen kannst. Auch die Jüngeren können hier schon aktiv werden! „Bb-Tz-Pf-Tz!“
URL:https://salutdeluxe.hamburg/event/beatbox-zinnwerke/2026-10-20/
LOCATION:Zinnwerke\, Veringhof 7\, Hamburg\, 21107\, Deutschland
ATTACH;FMTTYPE=image/jpeg:https://salutdeluxe.hamburg/wp-content/uploads/2025/02/news_007.jpeg
END:VEVENT
BEGIN:VEVENT
DTSTART;TZID=Europe/Berlin:20261021T163000
DTEND;TZID=Europe/Berlin:20261021T180000
DTSTAMP:20260425T160012
CREATED:20260220T185354Z
LAST-MODIFIED:20260220T185359Z
UID:10000678-1792600200-1792605600@salutdeluxe.hamburg
SUMMARY:Beatbox mit Guido
DESCRIPTION:Beatboxen ist die Kunst\, nur mit Mund\, Nase und Rachen coole Sounds zu produzieren. Finde deinen eigenen Weg\, Menschen zu begeistern! Im Beatbox-Kurs der DeluxeKidz zeigt dir der schwer talentierte Beatbox Guido\, was du mit deiner Mundmuskulatur alles anstellen kannst. „Bb-Tz-Pf-Tz!“
URL:https://salutdeluxe.hamburg/event/beatbox-mit-guido-26-3/2026-10-21/
LOCATION:Esche – Jugendkunsthaus\, Eschelsweg 4\, Hamburg\, Hamburg\, 22767
ATTACH;FMTTYPE=image/jpeg:https://salutdeluxe.hamburg/wp-content/uploads/2022/11/Beatboxen-DeluxeKidz_Esche.jpeg
END:VEVENT
BEGIN:VEVENT
DTSTART;TZID=Europe/Berlin:20261027T170000
DTEND;TZID=Europe/Berlin:20261027T190000
DTSTAMP:20260425T160012
CREATED:20250227T125938Z
LAST-MODIFIED:20250227T125938Z
UID:10005153-1793120400-1793127600@salutdeluxe.hamburg
SUMMARY:Beatbox (Zinnwerke)
DESCRIPTION:Beatboxen ist die Kunst\, nur mit Mund\, Nase und Rachen coole Sounds zu produzieren. Und jetzt gibt’s die Möglichkeit\, das an unserem neuen SalutDeluxe-Standort in Wilhelmsburg auszuprobieren! ✨ \nIm Beatbox-Workshop von SalutDeluxe e.V. zeigt dir der talentierte Beatboxer Guido\, was du mit deiner Mundmuskulatur alles anstellen kannst. Auch die Jüngeren können hier schon aktiv werden! „Bb-Tz-Pf-Tz!“
URL:https://salutdeluxe.hamburg/event/beatbox-zinnwerke/2026-10-27/
LOCATION:Zinnwerke\, Veringhof 7\, Hamburg\, 21107\, Deutschland
ATTACH;FMTTYPE=image/jpeg:https://salutdeluxe.hamburg/wp-content/uploads/2025/02/news_007.jpeg
END:VEVENT
BEGIN:VEVENT
DTSTART;TZID=Europe/Berlin:20261028T163000
DTEND;TZID=Europe/Berlin:20261028T180000
DTSTAMP:20260425T160012
CREATED:20260220T185354Z
LAST-MODIFIED:20260220T185359Z
UID:10000679-1793205000-1793210400@salutdeluxe.hamburg
SUMMARY:Beatbox mit Guido
DESCRIPTION:Beatboxen ist die Kunst\, nur mit Mund\, Nase und Rachen coole Sounds zu produzieren. Finde deinen eigenen Weg\, Menschen zu begeistern! Im Beatbox-Kurs der DeluxeKidz zeigt dir der schwer talentierte Beatbox Guido\, was du mit deiner Mundmuskulatur alles anstellen kannst. „Bb-Tz-Pf-Tz!“
URL:https://salutdeluxe.hamburg/event/beatbox-mit-guido-26-3/2026-10-28/
LOCATION:Esche – Jugendkunsthaus\, Eschelsweg 4\, Hamburg\, Hamburg\, 22767
ATTACH;FMTTYPE=image/jpeg:https://salutdeluxe.hamburg/wp-content/uploads/2022/11/Beatboxen-DeluxeKidz_Esche.jpeg
END:VEVENT
BEGIN:VEVENT
DTSTART;TZID=Europe/Berlin:20261103T170000
DTEND;TZID=Europe/Berlin:20261103T190000
DTSTAMP:20260425T160012
CREATED:20250227T125938Z
LAST-MODIFIED:20250227T125938Z
UID:10005154-1793725200-1793732400@salutdeluxe.hamburg
SUMMARY:Beatbox (Zinnwerke)
DESCRIPTION:Beatboxen ist die Kunst\, nur mit Mund\, Nase und Rachen coole Sounds zu produzieren. Und jetzt gibt’s die Möglichkeit\, das an unserem neuen SalutDeluxe-Standort in Wilhelmsburg auszuprobieren! ✨ \nIm Beatbox-Workshop von SalutDeluxe e.V. zeigt dir der talentierte Beatboxer Guido\, was du mit deiner Mundmuskulatur alles anstellen kannst. Auch die Jüngeren können hier schon aktiv werden! „Bb-Tz-Pf-Tz!“
URL:https://salutdeluxe.hamburg/event/beatbox-zinnwerke/2026-11-03/
LOCATION:Zinnwerke\, Veringhof 7\, Hamburg\, 21107\, Deutschland
ATTACH;FMTTYPE=image/jpeg:https://salutdeluxe.hamburg/wp-content/uploads/2025/02/news_007.jpeg
END:VEVENT
BEGIN:VEVENT
DTSTART;TZID=Europe/Berlin:20261104T163000
DTEND;TZID=Europe/Berlin:20261104T180000
DTSTAMP:20260425T160012
CREATED:20260220T185354Z
LAST-MODIFIED:20260220T185359Z
UID:10000680-1793809800-1793815200@salutdeluxe.hamburg
SUMMARY:Beatbox mit Guido
DESCRIPTION:Beatboxen ist die Kunst\, nur mit Mund\, Nase und Rachen coole Sounds zu produzieren. Finde deinen eigenen Weg\, Menschen zu begeistern! Im Beatbox-Kurs der DeluxeKidz zeigt dir der schwer talentierte Beatbox Guido\, was du mit deiner Mundmuskulatur alles anstellen kannst. „Bb-Tz-Pf-Tz!“
URL:https://salutdeluxe.hamburg/event/beatbox-mit-guido-26-3/2026-11-04/
LOCATION:Esche – Jugendkunsthaus\, Eschelsweg 4\, Hamburg\, Hamburg\, 22767
ATTACH;FMTTYPE=image/jpeg:https://salutdeluxe.hamburg/wp-content/uploads/2022/11/Beatboxen-DeluxeKidz_Esche.jpeg
END:VEVENT
BEGIN:VEVENT
DTSTART;TZID=Europe/Berlin:20261110T170000
DTEND;TZID=Europe/Berlin:20261110T190000
DTSTAMP:20260425T160012
CREATED:20250227T125938Z
LAST-MODIFIED:20250227T125938Z
UID:10005155-1794330000-1794337200@salutdeluxe.hamburg
SUMMARY:Beatbox (Zinnwerke)
DESCRIPTION:Beatboxen ist die Kunst\, nur mit Mund\, Nase und Rachen coole Sounds zu produzieren. Und jetzt gibt’s die Möglichkeit\, das an unserem neuen SalutDeluxe-Standort in Wilhelmsburg auszuprobieren! ✨ \nIm Beatbox-Workshop von SalutDeluxe e.V. zeigt dir der talentierte Beatboxer Guido\, was du mit deiner Mundmuskulatur alles anstellen kannst. Auch die Jüngeren können hier schon aktiv werden! „Bb-Tz-Pf-Tz!“
URL:https://salutdeluxe.hamburg/event/beatbox-zinnwerke/2026-11-10/
LOCATION:Zinnwerke\, Veringhof 7\, Hamburg\, 21107\, Deutschland
ATTACH;FMTTYPE=image/jpeg:https://salutdeluxe.hamburg/wp-content/uploads/2025/02/news_007.jpeg
END:VEVENT
BEGIN:VEVENT
DTSTART;TZID=Europe/Berlin:20261111T163000
DTEND;TZID=Europe/Berlin:20261111T180000
DTSTAMP:20260425T160012
CREATED:20260220T185354Z
LAST-MODIFIED:20260220T185359Z
UID:10000681-1794414600-1794420000@salutdeluxe.hamburg
SUMMARY:Beatbox mit Guido
DESCRIPTION:Beatboxen ist die Kunst\, nur mit Mund\, Nase und Rachen coole Sounds zu produzieren. Finde deinen eigenen Weg\, Menschen zu begeistern! Im Beatbox-Kurs der DeluxeKidz zeigt dir der schwer talentierte Beatbox Guido\, was du mit deiner Mundmuskulatur alles anstellen kannst. „Bb-Tz-Pf-Tz!“
URL:https://salutdeluxe.hamburg/event/beatbox-mit-guido-26-3/2026-11-11/
LOCATION:Esche – Jugendkunsthaus\, Eschelsweg 4\, Hamburg\, Hamburg\, 22767
ATTACH;FMTTYPE=image/jpeg:https://salutdeluxe.hamburg/wp-content/uploads/2022/11/Beatboxen-DeluxeKidz_Esche.jpeg
END:VEVENT
BEGIN:VEVENT
DTSTART;TZID=Europe/Berlin:20261117T170000
DTEND;TZID=Europe/Berlin:20261117T190000
DTSTAMP:20260425T160012
CREATED:20250227T125938Z
LAST-MODIFIED:20250227T125938Z
UID:10005156-1794934800-1794942000@salutdeluxe.hamburg
SUMMARY:Beatbox (Zinnwerke)
DESCRIPTION:Beatboxen ist die Kunst\, nur mit Mund\, Nase und Rachen coole Sounds zu produzieren. Und jetzt gibt’s die Möglichkeit\, das an unserem neuen SalutDeluxe-Standort in Wilhelmsburg auszuprobieren! ✨ \nIm Beatbox-Workshop von SalutDeluxe e.V. zeigt dir der talentierte Beatboxer Guido\, was du mit deiner Mundmuskulatur alles anstellen kannst. Auch die Jüngeren können hier schon aktiv werden! „Bb-Tz-Pf-Tz!“
URL:https://salutdeluxe.hamburg/event/beatbox-zinnwerke/2026-11-17/
LOCATION:Zinnwerke\, Veringhof 7\, Hamburg\, 21107\, Deutschland
ATTACH;FMTTYPE=image/jpeg:https://salutdeluxe.hamburg/wp-content/uploads/2025/02/news_007.jpeg
END:VEVENT
BEGIN:VEVENT
DTSTART;TZID=Europe/Berlin:20261118T163000
DTEND;TZID=Europe/Berlin:20261118T180000
DTSTAMP:20260425T160012
CREATED:20260220T185354Z
LAST-MODIFIED:20260220T185359Z
UID:10000682-1795019400-1795024800@salutdeluxe.hamburg
SUMMARY:Beatbox mit Guido
DESCRIPTION:Beatboxen ist die Kunst\, nur mit Mund\, Nase und Rachen coole Sounds zu produzieren. Finde deinen eigenen Weg\, Menschen zu begeistern! Im Beatbox-Kurs der DeluxeKidz zeigt dir der schwer talentierte Beatbox Guido\, was du mit deiner Mundmuskulatur alles anstellen kannst. „Bb-Tz-Pf-Tz!“
URL:https://salutdeluxe.hamburg/event/beatbox-mit-guido-26-3/2026-11-18/
LOCATION:Esche – Jugendkunsthaus\, Eschelsweg 4\, Hamburg\, Hamburg\, 22767
ATTACH;FMTTYPE=image/jpeg:https://salutdeluxe.hamburg/wp-content/uploads/2022/11/Beatboxen-DeluxeKidz_Esche.jpeg
END:VEVENT
BEGIN:VEVENT
DTSTART;TZID=Europe/Berlin:20261124T170000
DTEND;TZID=Europe/Berlin:20261124T190000
DTSTAMP:20260425T160012
CREATED:20250227T125938Z
LAST-MODIFIED:20250227T125938Z
UID:10005157-1795539600-1795546800@salutdeluxe.hamburg
SUMMARY:Beatbox (Zinnwerke)
DESCRIPTION:Beatboxen ist die Kunst\, nur mit Mund\, Nase und Rachen coole Sounds zu produzieren. Und jetzt gibt’s die Möglichkeit\, das an unserem neuen SalutDeluxe-Standort in Wilhelmsburg auszuprobieren! ✨ \nIm Beatbox-Workshop von SalutDeluxe e.V. zeigt dir der talentierte Beatboxer Guido\, was du mit deiner Mundmuskulatur alles anstellen kannst. Auch die Jüngeren können hier schon aktiv werden! „Bb-Tz-Pf-Tz!“
URL:https://salutdeluxe.hamburg/event/beatbox-zinnwerke/2026-11-24/
LOCATION:Zinnwerke\, Veringhof 7\, Hamburg\, 21107\, Deutschland
ATTACH;FMTTYPE=image/jpeg:https://salutdeluxe.hamburg/wp-content/uploads/2025/02/news_007.jpeg
END:VEVENT
BEGIN:VEVENT
DTSTART;TZID=Europe/Berlin:20261125T163000
DTEND;TZID=Europe/Berlin:20261125T180000
DTSTAMP:20260425T160012
CREATED:20260220T185354Z
LAST-MODIFIED:20260220T185359Z
UID:10000683-1795624200-1795629600@salutdeluxe.hamburg
SUMMARY:Beatbox mit Guido
DESCRIPTION:Beatboxen ist die Kunst\, nur mit Mund\, Nase und Rachen coole Sounds zu produzieren. Finde deinen eigenen Weg\, Menschen zu begeistern! Im Beatbox-Kurs der DeluxeKidz zeigt dir der schwer talentierte Beatbox Guido\, was du mit deiner Mundmuskulatur alles anstellen kannst. „Bb-Tz-Pf-Tz!“
URL:https://salutdeluxe.hamburg/event/beatbox-mit-guido-26-3/2026-11-25/
LOCATION:Esche – Jugendkunsthaus\, Eschelsweg 4\, Hamburg\, Hamburg\, 22767
ATTACH;FMTTYPE=image/jpeg:https://salutdeluxe.hamburg/wp-content/uploads/2022/11/Beatboxen-DeluxeKidz_Esche.jpeg
END:VEVENT
BEGIN:VEVENT
DTSTART;TZID=Europe/Berlin:20261201T170000
DTEND;TZID=Europe/Berlin:20261201T190000
DTSTAMP:20260425T160012
CREATED:20250227T125938Z
LAST-MODIFIED:20250227T125938Z
UID:10005158-1796144400-1796151600@salutdeluxe.hamburg
SUMMARY:Beatbox (Zinnwerke)
DESCRIPTION:Beatboxen ist die Kunst\, nur mit Mund\, Nase und Rachen coole Sounds zu produzieren. Und jetzt gibt’s die Möglichkeit\, das an unserem neuen SalutDeluxe-Standort in Wilhelmsburg auszuprobieren! ✨ \nIm Beatbox-Workshop von SalutDeluxe e.V. zeigt dir der talentierte Beatboxer Guido\, was du mit deiner Mundmuskulatur alles anstellen kannst. Auch die Jüngeren können hier schon aktiv werden! „Bb-Tz-Pf-Tz!“
URL:https://salutdeluxe.hamburg/event/beatbox-zinnwerke/2026-12-01/
LOCATION:Zinnwerke\, Veringhof 7\, Hamburg\, 21107\, Deutschland
ATTACH;FMTTYPE=image/jpeg:https://salutdeluxe.hamburg/wp-content/uploads/2025/02/news_007.jpeg
END:VEVENT
BEGIN:VEVENT
DTSTART;TZID=Europe/Berlin:20261202T163000
DTEND;TZID=Europe/Berlin:20261202T180000
DTSTAMP:20260425T160012
CREATED:20260220T185354Z
LAST-MODIFIED:20260220T185359Z
UID:10000684-1796229000-1796234400@salutdeluxe.hamburg
SUMMARY:Beatbox mit Guido
DESCRIPTION:Beatboxen ist die Kunst\, nur mit Mund\, Nase und Rachen coole Sounds zu produzieren. Finde deinen eigenen Weg\, Menschen zu begeistern! Im Beatbox-Kurs der DeluxeKidz zeigt dir der schwer talentierte Beatbox Guido\, was du mit deiner Mundmuskulatur alles anstellen kannst. „Bb-Tz-Pf-Tz!“
URL:https://salutdeluxe.hamburg/event/beatbox-mit-guido-26-3/2026-12-02/
LOCATION:Esche – Jugendkunsthaus\, Eschelsweg 4\, Hamburg\, Hamburg\, 22767
ATTACH;FMTTYPE=image/jpeg:https://salutdeluxe.hamburg/wp-content/uploads/2022/11/Beatboxen-DeluxeKidz_Esche.jpeg
END:VEVENT
BEGIN:VEVENT
DTSTART;TZID=Europe/Berlin:20261208T170000
DTEND;TZID=Europe/Berlin:20261208T190000
DTSTAMP:20260425T160012
CREATED:20250227T125938Z
LAST-MODIFIED:20250227T125938Z
UID:10005159-1796749200-1796756400@salutdeluxe.hamburg
SUMMARY:Beatbox (Zinnwerke)
DESCRIPTION:Beatboxen ist die Kunst\, nur mit Mund\, Nase und Rachen coole Sounds zu produzieren. Und jetzt gibt’s die Möglichkeit\, das an unserem neuen SalutDeluxe-Standort in Wilhelmsburg auszuprobieren! ✨ \nIm Beatbox-Workshop von SalutDeluxe e.V. zeigt dir der talentierte Beatboxer Guido\, was du mit deiner Mundmuskulatur alles anstellen kannst. Auch die Jüngeren können hier schon aktiv werden! „Bb-Tz-Pf-Tz!“
URL:https://salutdeluxe.hamburg/event/beatbox-zinnwerke/2026-12-08/
LOCATION:Zinnwerke\, Veringhof 7\, Hamburg\, 21107\, Deutschland
ATTACH;FMTTYPE=image/jpeg:https://salutdeluxe.hamburg/wp-content/uploads/2025/02/news_007.jpeg
END:VEVENT
BEGIN:VEVENT
DTSTART;TZID=Europe/Berlin:20261209T163000
DTEND;TZID=Europe/Berlin:20261209T180000
DTSTAMP:20260425T160012
CREATED:20260220T185354Z
LAST-MODIFIED:20260220T185359Z
UID:10000685-1796833800-1796839200@salutdeluxe.hamburg
SUMMARY:Beatbox mit Guido
DESCRIPTION:Beatboxen ist die Kunst\, nur mit Mund\, Nase und Rachen coole Sounds zu produzieren. Finde deinen eigenen Weg\, Menschen zu begeistern! Im Beatbox-Kurs der DeluxeKidz zeigt dir der schwer talentierte Beatbox Guido\, was du mit deiner Mundmuskulatur alles anstellen kannst. „Bb-Tz-Pf-Tz!“
URL:https://salutdeluxe.hamburg/event/beatbox-mit-guido-26-3/2026-12-09/
LOCATION:Esche – Jugendkunsthaus\, Eschelsweg 4\, Hamburg\, Hamburg\, 22767
ATTACH;FMTTYPE=image/jpeg:https://salutdeluxe.hamburg/wp-content/uploads/2022/11/Beatboxen-DeluxeKidz_Esche.jpeg
END:VEVENT
END:VCALENDAR