BEGIN:VCALENDAR
VERSION:2.0
PRODID:-//SalutDeluxe e.V. - ECPv6.2.2//NONSGML v1.0//EN
CALSCALE:GREGORIAN
METHOD:PUBLISH
X-ORIGINAL-URL:https://salutdeluxe.hamburg
X-WR-CALDESC:Veranstaltungen für SalutDeluxe e.V.
REFRESH-INTERVAL;VALUE=DURATION:PT1H
X-Robots-Tag:noindex
X-PUBLISHED-TTL:PT1H
BEGIN:VTIMEZONE
TZID:Europe/Berlin
BEGIN:DAYLIGHT
TZOFFSETFROM:+0100
TZOFFSETTO:+0200
TZNAME:CEST
DTSTART:20260329T010000
END:DAYLIGHT
BEGIN:STANDARD
TZOFFSETFROM:+0200
TZOFFSETTO:+0100
TZNAME:CET
DTSTART:20261025T010000
END:STANDARD
BEGIN:DAYLIGHT
TZOFFSETFROM:+0100
TZOFFSETTO:+0200
TZNAME:CEST
DTSTART:20270328T010000
END:DAYLIGHT
BEGIN:STANDARD
TZOFFSETFROM:+0200
TZOFFSETTO:+0100
TZNAME:CET
DTSTART:20271031T010000
END:STANDARD
END:VTIMEZONE
BEGIN:VEVENT
DTSTART;TZID=Europe/Berlin:20260722T183000
DTEND;TZID=Europe/Berlin:20260722T203000
DTSTAMP:20260423T123824
CREATED:20250526T103613Z
LAST-MODIFIED:20250526T103927Z
UID:10005711-1784745000-1784752200@salutdeluxe.hamburg
SUMMARY:Graffiti
DESCRIPTION:Du lernst die Grundlagen des Graffiti kennen und beschäftigst Dich mit den Werten der Hip-Hop Kultur. Du wirst Skizzen erstellen und diese anschließend mit der Spraydose an der Wand umsetzen. Kreativität\, Spaß und Teamwork stehen hier im Vordergrund.\nAlle Materialien die Du brauchst sind vor Ort! Der Workshop richtet sich an Teilnehmer*innen ab 10 Jahren  \nAnmeldungen gehen an: class@salutdeluxe.hamburg
URL:https://salutdeluxe.hamburg/event/graffiti/2026-07-22/
LOCATION:Trockendock e.V.\, Elsastraße 41\, 22083\, Hamburg\, 22083\, Deutschland
ATTACH;FMTTYPE=image/jpeg:https://salutdeluxe.hamburg/wp-content/uploads/2022/07/IMG_9988-scaled.jpg
END:VEVENT
BEGIN:VEVENT
DTSTART;TZID=Europe/Berlin:20260729T183000
DTEND;TZID=Europe/Berlin:20260729T203000
DTSTAMP:20260423T123824
CREATED:20250526T103613Z
LAST-MODIFIED:20250526T103927Z
UID:10005712-1785349800-1785357000@salutdeluxe.hamburg
SUMMARY:Graffiti
DESCRIPTION:Du lernst die Grundlagen des Graffiti kennen und beschäftigst Dich mit den Werten der Hip-Hop Kultur. Du wirst Skizzen erstellen und diese anschließend mit der Spraydose an der Wand umsetzen. Kreativität\, Spaß und Teamwork stehen hier im Vordergrund.\nAlle Materialien die Du brauchst sind vor Ort! Der Workshop richtet sich an Teilnehmer*innen ab 10 Jahren  \nAnmeldungen gehen an: class@salutdeluxe.hamburg
URL:https://salutdeluxe.hamburg/event/graffiti/2026-07-29/
LOCATION:Trockendock e.V.\, Elsastraße 41\, 22083\, Hamburg\, 22083\, Deutschland
ATTACH;FMTTYPE=image/jpeg:https://salutdeluxe.hamburg/wp-content/uploads/2022/07/IMG_9988-scaled.jpg
END:VEVENT
BEGIN:VEVENT
DTSTART;TZID=Europe/Berlin:20260805T183000
DTEND;TZID=Europe/Berlin:20260805T203000
DTSTAMP:20260423T123824
CREATED:20250526T103613Z
LAST-MODIFIED:20250526T103927Z
UID:10005713-1785954600-1785961800@salutdeluxe.hamburg
SUMMARY:Graffiti
DESCRIPTION:Du lernst die Grundlagen des Graffiti kennen und beschäftigst Dich mit den Werten der Hip-Hop Kultur. Du wirst Skizzen erstellen und diese anschließend mit der Spraydose an der Wand umsetzen. Kreativität\, Spaß und Teamwork stehen hier im Vordergrund.\nAlle Materialien die Du brauchst sind vor Ort! Der Workshop richtet sich an Teilnehmer*innen ab 10 Jahren  \nAnmeldungen gehen an: class@salutdeluxe.hamburg
URL:https://salutdeluxe.hamburg/event/graffiti/2026-08-05/
LOCATION:Trockendock e.V.\, Elsastraße 41\, 22083\, Hamburg\, 22083\, Deutschland
ATTACH;FMTTYPE=image/jpeg:https://salutdeluxe.hamburg/wp-content/uploads/2022/07/IMG_9988-scaled.jpg
END:VEVENT
BEGIN:VEVENT
DTSTART;TZID=Europe/Berlin:20260812T183000
DTEND;TZID=Europe/Berlin:20260812T203000
DTSTAMP:20260423T123824
CREATED:20250526T103613Z
LAST-MODIFIED:20250526T103927Z
UID:10005714-1786559400-1786566600@salutdeluxe.hamburg
SUMMARY:Graffiti
DESCRIPTION:Du lernst die Grundlagen des Graffiti kennen und beschäftigst Dich mit den Werten der Hip-Hop Kultur. Du wirst Skizzen erstellen und diese anschließend mit der Spraydose an der Wand umsetzen. Kreativität\, Spaß und Teamwork stehen hier im Vordergrund.\nAlle Materialien die Du brauchst sind vor Ort! Der Workshop richtet sich an Teilnehmer*innen ab 10 Jahren  \nAnmeldungen gehen an: class@salutdeluxe.hamburg
URL:https://salutdeluxe.hamburg/event/graffiti/2026-08-12/
LOCATION:Trockendock e.V.\, Elsastraße 41\, 22083\, Hamburg\, 22083\, Deutschland
ATTACH;FMTTYPE=image/jpeg:https://salutdeluxe.hamburg/wp-content/uploads/2022/07/IMG_9988-scaled.jpg
END:VEVENT
BEGIN:VEVENT
DTSTART;TZID=Europe/Berlin:20260819T183000
DTEND;TZID=Europe/Berlin:20260819T203000
DTSTAMP:20260423T123825
CREATED:20250526T103613Z
LAST-MODIFIED:20250526T103927Z
UID:10005715-1787164200-1787171400@salutdeluxe.hamburg
SUMMARY:Graffiti
DESCRIPTION:Du lernst die Grundlagen des Graffiti kennen und beschäftigst Dich mit den Werten der Hip-Hop Kultur. Du wirst Skizzen erstellen und diese anschließend mit der Spraydose an der Wand umsetzen. Kreativität\, Spaß und Teamwork stehen hier im Vordergrund.\nAlle Materialien die Du brauchst sind vor Ort! Der Workshop richtet sich an Teilnehmer*innen ab 10 Jahren  \nAnmeldungen gehen an: class@salutdeluxe.hamburg
URL:https://salutdeluxe.hamburg/event/graffiti/2026-08-19/
LOCATION:Trockendock e.V.\, Elsastraße 41\, 22083\, Hamburg\, 22083\, Deutschland
ATTACH;FMTTYPE=image/jpeg:https://salutdeluxe.hamburg/wp-content/uploads/2022/07/IMG_9988-scaled.jpg
END:VEVENT
BEGIN:VEVENT
DTSTART;TZID=Europe/Berlin:20260826T183000
DTEND;TZID=Europe/Berlin:20260826T203000
DTSTAMP:20260423T123825
CREATED:20250526T103613Z
LAST-MODIFIED:20250526T103927Z
UID:10005716-1787769000-1787776200@salutdeluxe.hamburg
SUMMARY:Graffiti
DESCRIPTION:Du lernst die Grundlagen des Graffiti kennen und beschäftigst Dich mit den Werten der Hip-Hop Kultur. Du wirst Skizzen erstellen und diese anschließend mit der Spraydose an der Wand umsetzen. Kreativität\, Spaß und Teamwork stehen hier im Vordergrund.\nAlle Materialien die Du brauchst sind vor Ort! Der Workshop richtet sich an Teilnehmer*innen ab 10 Jahren  \nAnmeldungen gehen an: class@salutdeluxe.hamburg
URL:https://salutdeluxe.hamburg/event/graffiti/2026-08-26/
LOCATION:Trockendock e.V.\, Elsastraße 41\, 22083\, Hamburg\, 22083\, Deutschland
ATTACH;FMTTYPE=image/jpeg:https://salutdeluxe.hamburg/wp-content/uploads/2022/07/IMG_9988-scaled.jpg
END:VEVENT
BEGIN:VEVENT
DTSTART;TZID=Europe/Berlin:20260902T183000
DTEND;TZID=Europe/Berlin:20260902T203000
DTSTAMP:20260423T123825
CREATED:20250526T103613Z
LAST-MODIFIED:20250526T103927Z
UID:10005717-1788373800-1788381000@salutdeluxe.hamburg
SUMMARY:Graffiti
DESCRIPTION:Du lernst die Grundlagen des Graffiti kennen und beschäftigst Dich mit den Werten der Hip-Hop Kultur. Du wirst Skizzen erstellen und diese anschließend mit der Spraydose an der Wand umsetzen. Kreativität\, Spaß und Teamwork stehen hier im Vordergrund.\nAlle Materialien die Du brauchst sind vor Ort! Der Workshop richtet sich an Teilnehmer*innen ab 10 Jahren  \nAnmeldungen gehen an: class@salutdeluxe.hamburg
URL:https://salutdeluxe.hamburg/event/graffiti/2026-09-02/
LOCATION:Trockendock e.V.\, Elsastraße 41\, 22083\, Hamburg\, 22083\, Deutschland
ATTACH;FMTTYPE=image/jpeg:https://salutdeluxe.hamburg/wp-content/uploads/2022/07/IMG_9988-scaled.jpg
END:VEVENT
BEGIN:VEVENT
DTSTART;TZID=Europe/Berlin:20260909T183000
DTEND;TZID=Europe/Berlin:20260909T203000
DTSTAMP:20260423T123825
CREATED:20250526T103613Z
LAST-MODIFIED:20250526T103927Z
UID:10005718-1788978600-1788985800@salutdeluxe.hamburg
SUMMARY:Graffiti
DESCRIPTION:Du lernst die Grundlagen des Graffiti kennen und beschäftigst Dich mit den Werten der Hip-Hop Kultur. Du wirst Skizzen erstellen und diese anschließend mit der Spraydose an der Wand umsetzen. Kreativität\, Spaß und Teamwork stehen hier im Vordergrund.\nAlle Materialien die Du brauchst sind vor Ort! Der Workshop richtet sich an Teilnehmer*innen ab 10 Jahren  \nAnmeldungen gehen an: class@salutdeluxe.hamburg
URL:https://salutdeluxe.hamburg/event/graffiti/2026-09-09/
LOCATION:Trockendock e.V.\, Elsastraße 41\, 22083\, Hamburg\, 22083\, Deutschland
ATTACH;FMTTYPE=image/jpeg:https://salutdeluxe.hamburg/wp-content/uploads/2022/07/IMG_9988-scaled.jpg
END:VEVENT
BEGIN:VEVENT
DTSTART;TZID=Europe/Berlin:20260916T183000
DTEND;TZID=Europe/Berlin:20260916T203000
DTSTAMP:20260423T123825
CREATED:20250526T103613Z
LAST-MODIFIED:20250526T103927Z
UID:10005719-1789583400-1789590600@salutdeluxe.hamburg
SUMMARY:Graffiti
DESCRIPTION:Du lernst die Grundlagen des Graffiti kennen und beschäftigst Dich mit den Werten der Hip-Hop Kultur. Du wirst Skizzen erstellen und diese anschließend mit der Spraydose an der Wand umsetzen. Kreativität\, Spaß und Teamwork stehen hier im Vordergrund.\nAlle Materialien die Du brauchst sind vor Ort! Der Workshop richtet sich an Teilnehmer*innen ab 10 Jahren  \nAnmeldungen gehen an: class@salutdeluxe.hamburg
URL:https://salutdeluxe.hamburg/event/graffiti/2026-09-16/
LOCATION:Trockendock e.V.\, Elsastraße 41\, 22083\, Hamburg\, 22083\, Deutschland
ATTACH;FMTTYPE=image/jpeg:https://salutdeluxe.hamburg/wp-content/uploads/2022/07/IMG_9988-scaled.jpg
END:VEVENT
BEGIN:VEVENT
DTSTART;TZID=Europe/Berlin:20260923T183000
DTEND;TZID=Europe/Berlin:20260923T203000
DTSTAMP:20260423T123825
CREATED:20250526T103613Z
LAST-MODIFIED:20250526T103927Z
UID:10005720-1790188200-1790195400@salutdeluxe.hamburg
SUMMARY:Graffiti
DESCRIPTION:Du lernst die Grundlagen des Graffiti kennen und beschäftigst Dich mit den Werten der Hip-Hop Kultur. Du wirst Skizzen erstellen und diese anschließend mit der Spraydose an der Wand umsetzen. Kreativität\, Spaß und Teamwork stehen hier im Vordergrund.\nAlle Materialien die Du brauchst sind vor Ort! Der Workshop richtet sich an Teilnehmer*innen ab 10 Jahren  \nAnmeldungen gehen an: class@salutdeluxe.hamburg
URL:https://salutdeluxe.hamburg/event/graffiti/2026-09-23/
LOCATION:Trockendock e.V.\, Elsastraße 41\, 22083\, Hamburg\, 22083\, Deutschland
ATTACH;FMTTYPE=image/jpeg:https://salutdeluxe.hamburg/wp-content/uploads/2022/07/IMG_9988-scaled.jpg
END:VEVENT
BEGIN:VEVENT
DTSTART;TZID=Europe/Berlin:20260930T183000
DTEND;TZID=Europe/Berlin:20260930T203000
DTSTAMP:20260423T123825
CREATED:20250526T103613Z
LAST-MODIFIED:20250526T103927Z
UID:10005721-1790793000-1790800200@salutdeluxe.hamburg
SUMMARY:Graffiti
DESCRIPTION:Du lernst die Grundlagen des Graffiti kennen und beschäftigst Dich mit den Werten der Hip-Hop Kultur. Du wirst Skizzen erstellen und diese anschließend mit der Spraydose an der Wand umsetzen. Kreativität\, Spaß und Teamwork stehen hier im Vordergrund.\nAlle Materialien die Du brauchst sind vor Ort! Der Workshop richtet sich an Teilnehmer*innen ab 10 Jahren  \nAnmeldungen gehen an: class@salutdeluxe.hamburg
URL:https://salutdeluxe.hamburg/event/graffiti/2026-09-30/
LOCATION:Trockendock e.V.\, Elsastraße 41\, 22083\, Hamburg\, 22083\, Deutschland
ATTACH;FMTTYPE=image/jpeg:https://salutdeluxe.hamburg/wp-content/uploads/2022/07/IMG_9988-scaled.jpg
END:VEVENT
BEGIN:VEVENT
DTSTART;TZID=Europe/Berlin:20261007T183000
DTEND;TZID=Europe/Berlin:20261007T203000
DTSTAMP:20260423T123825
CREATED:20250526T103613Z
LAST-MODIFIED:20250526T103927Z
UID:10005722-1791397800-1791405000@salutdeluxe.hamburg
SUMMARY:Graffiti
DESCRIPTION:Du lernst die Grundlagen des Graffiti kennen und beschäftigst Dich mit den Werten der Hip-Hop Kultur. Du wirst Skizzen erstellen und diese anschließend mit der Spraydose an der Wand umsetzen. Kreativität\, Spaß und Teamwork stehen hier im Vordergrund.\nAlle Materialien die Du brauchst sind vor Ort! Der Workshop richtet sich an Teilnehmer*innen ab 10 Jahren  \nAnmeldungen gehen an: class@salutdeluxe.hamburg
URL:https://salutdeluxe.hamburg/event/graffiti/2026-10-07/
LOCATION:Trockendock e.V.\, Elsastraße 41\, 22083\, Hamburg\, 22083\, Deutschland
ATTACH;FMTTYPE=image/jpeg:https://salutdeluxe.hamburg/wp-content/uploads/2022/07/IMG_9988-scaled.jpg
END:VEVENT
BEGIN:VEVENT
DTSTART;TZID=Europe/Berlin:20261014T183000
DTEND;TZID=Europe/Berlin:20261014T203000
DTSTAMP:20260423T123825
CREATED:20250526T103613Z
LAST-MODIFIED:20250526T103927Z
UID:10005723-1792002600-1792009800@salutdeluxe.hamburg
SUMMARY:Graffiti
DESCRIPTION:Du lernst die Grundlagen des Graffiti kennen und beschäftigst Dich mit den Werten der Hip-Hop Kultur. Du wirst Skizzen erstellen und diese anschließend mit der Spraydose an der Wand umsetzen. Kreativität\, Spaß und Teamwork stehen hier im Vordergrund.\nAlle Materialien die Du brauchst sind vor Ort! Der Workshop richtet sich an Teilnehmer*innen ab 10 Jahren  \nAnmeldungen gehen an: class@salutdeluxe.hamburg
URL:https://salutdeluxe.hamburg/event/graffiti/2026-10-14/
LOCATION:Trockendock e.V.\, Elsastraße 41\, 22083\, Hamburg\, 22083\, Deutschland
ATTACH;FMTTYPE=image/jpeg:https://salutdeluxe.hamburg/wp-content/uploads/2022/07/IMG_9988-scaled.jpg
END:VEVENT
BEGIN:VEVENT
DTSTART;TZID=Europe/Berlin:20261021T183000
DTEND;TZID=Europe/Berlin:20261021T203000
DTSTAMP:20260423T123825
CREATED:20250526T103613Z
LAST-MODIFIED:20250526T103927Z
UID:10005724-1792607400-1792614600@salutdeluxe.hamburg
SUMMARY:Graffiti
DESCRIPTION:Du lernst die Grundlagen des Graffiti kennen und beschäftigst Dich mit den Werten der Hip-Hop Kultur. Du wirst Skizzen erstellen und diese anschließend mit der Spraydose an der Wand umsetzen. Kreativität\, Spaß und Teamwork stehen hier im Vordergrund.\nAlle Materialien die Du brauchst sind vor Ort! Der Workshop richtet sich an Teilnehmer*innen ab 10 Jahren  \nAnmeldungen gehen an: class@salutdeluxe.hamburg
URL:https://salutdeluxe.hamburg/event/graffiti/2026-10-21/
LOCATION:Trockendock e.V.\, Elsastraße 41\, 22083\, Hamburg\, 22083\, Deutschland
ATTACH;FMTTYPE=image/jpeg:https://salutdeluxe.hamburg/wp-content/uploads/2022/07/IMG_9988-scaled.jpg
END:VEVENT
BEGIN:VEVENT
DTSTART;TZID=Europe/Berlin:20261028T183000
DTEND;TZID=Europe/Berlin:20261028T203000
DTSTAMP:20260423T123825
CREATED:20250526T103613Z
LAST-MODIFIED:20250526T103927Z
UID:10005725-1793212200-1793219400@salutdeluxe.hamburg
SUMMARY:Graffiti
DESCRIPTION:Du lernst die Grundlagen des Graffiti kennen und beschäftigst Dich mit den Werten der Hip-Hop Kultur. Du wirst Skizzen erstellen und diese anschließend mit der Spraydose an der Wand umsetzen. Kreativität\, Spaß und Teamwork stehen hier im Vordergrund.\nAlle Materialien die Du brauchst sind vor Ort! Der Workshop richtet sich an Teilnehmer*innen ab 10 Jahren  \nAnmeldungen gehen an: class@salutdeluxe.hamburg
URL:https://salutdeluxe.hamburg/event/graffiti/2026-10-28/
LOCATION:Trockendock e.V.\, Elsastraße 41\, 22083\, Hamburg\, 22083\, Deutschland
ATTACH;FMTTYPE=image/jpeg:https://salutdeluxe.hamburg/wp-content/uploads/2022/07/IMG_9988-scaled.jpg
END:VEVENT
BEGIN:VEVENT
DTSTART;TZID=Europe/Berlin:20261104T183000
DTEND;TZID=Europe/Berlin:20261104T203000
DTSTAMP:20260423T123825
CREATED:20250526T103613Z
LAST-MODIFIED:20250526T103927Z
UID:10005726-1793817000-1793824200@salutdeluxe.hamburg
SUMMARY:Graffiti
DESCRIPTION:Du lernst die Grundlagen des Graffiti kennen und beschäftigst Dich mit den Werten der Hip-Hop Kultur. Du wirst Skizzen erstellen und diese anschließend mit der Spraydose an der Wand umsetzen. Kreativität\, Spaß und Teamwork stehen hier im Vordergrund.\nAlle Materialien die Du brauchst sind vor Ort! Der Workshop richtet sich an Teilnehmer*innen ab 10 Jahren  \nAnmeldungen gehen an: class@salutdeluxe.hamburg
URL:https://salutdeluxe.hamburg/event/graffiti/2026-11-04/
LOCATION:Trockendock e.V.\, Elsastraße 41\, 22083\, Hamburg\, 22083\, Deutschland
ATTACH;FMTTYPE=image/jpeg:https://salutdeluxe.hamburg/wp-content/uploads/2022/07/IMG_9988-scaled.jpg
END:VEVENT
BEGIN:VEVENT
DTSTART;TZID=Europe/Berlin:20261111T183000
DTEND;TZID=Europe/Berlin:20261111T203000
DTSTAMP:20260423T123825
CREATED:20250526T103613Z
LAST-MODIFIED:20250526T103927Z
UID:10005727-1794421800-1794429000@salutdeluxe.hamburg
SUMMARY:Graffiti
DESCRIPTION:Du lernst die Grundlagen des Graffiti kennen und beschäftigst Dich mit den Werten der Hip-Hop Kultur. Du wirst Skizzen erstellen und diese anschließend mit der Spraydose an der Wand umsetzen. Kreativität\, Spaß und Teamwork stehen hier im Vordergrund.\nAlle Materialien die Du brauchst sind vor Ort! Der Workshop richtet sich an Teilnehmer*innen ab 10 Jahren  \nAnmeldungen gehen an: class@salutdeluxe.hamburg
URL:https://salutdeluxe.hamburg/event/graffiti/2026-11-11/
LOCATION:Trockendock e.V.\, Elsastraße 41\, 22083\, Hamburg\, 22083\, Deutschland
ATTACH;FMTTYPE=image/jpeg:https://salutdeluxe.hamburg/wp-content/uploads/2022/07/IMG_9988-scaled.jpg
END:VEVENT
BEGIN:VEVENT
DTSTART;TZID=Europe/Berlin:20261118T183000
DTEND;TZID=Europe/Berlin:20261118T203000
DTSTAMP:20260423T123825
CREATED:20250526T103613Z
LAST-MODIFIED:20250526T103927Z
UID:10005728-1795026600-1795033800@salutdeluxe.hamburg
SUMMARY:Graffiti
DESCRIPTION:Du lernst die Grundlagen des Graffiti kennen und beschäftigst Dich mit den Werten der Hip-Hop Kultur. Du wirst Skizzen erstellen und diese anschließend mit der Spraydose an der Wand umsetzen. Kreativität\, Spaß und Teamwork stehen hier im Vordergrund.\nAlle Materialien die Du brauchst sind vor Ort! Der Workshop richtet sich an Teilnehmer*innen ab 10 Jahren  \nAnmeldungen gehen an: class@salutdeluxe.hamburg
URL:https://salutdeluxe.hamburg/event/graffiti/2026-11-18/
LOCATION:Trockendock e.V.\, Elsastraße 41\, 22083\, Hamburg\, 22083\, Deutschland
ATTACH;FMTTYPE=image/jpeg:https://salutdeluxe.hamburg/wp-content/uploads/2022/07/IMG_9988-scaled.jpg
END:VEVENT
BEGIN:VEVENT
DTSTART;TZID=Europe/Berlin:20261125T183000
DTEND;TZID=Europe/Berlin:20261125T203000
DTSTAMP:20260423T123825
CREATED:20250526T103613Z
LAST-MODIFIED:20250526T103927Z
UID:10005729-1795631400-1795638600@salutdeluxe.hamburg
SUMMARY:Graffiti
DESCRIPTION:Du lernst die Grundlagen des Graffiti kennen und beschäftigst Dich mit den Werten der Hip-Hop Kultur. Du wirst Skizzen erstellen und diese anschließend mit der Spraydose an der Wand umsetzen. Kreativität\, Spaß und Teamwork stehen hier im Vordergrund.\nAlle Materialien die Du brauchst sind vor Ort! Der Workshop richtet sich an Teilnehmer*innen ab 10 Jahren  \nAnmeldungen gehen an: class@salutdeluxe.hamburg
URL:https://salutdeluxe.hamburg/event/graffiti/2026-11-25/
LOCATION:Trockendock e.V.\, Elsastraße 41\, 22083\, Hamburg\, 22083\, Deutschland
ATTACH;FMTTYPE=image/jpeg:https://salutdeluxe.hamburg/wp-content/uploads/2022/07/IMG_9988-scaled.jpg
END:VEVENT
BEGIN:VEVENT
DTSTART;TZID=Europe/Berlin:20261202T183000
DTEND;TZID=Europe/Berlin:20261202T203000
DTSTAMP:20260423T123825
CREATED:20250526T103613Z
LAST-MODIFIED:20250526T103927Z
UID:10005730-1796236200-1796243400@salutdeluxe.hamburg
SUMMARY:Graffiti
DESCRIPTION:Du lernst die Grundlagen des Graffiti kennen und beschäftigst Dich mit den Werten der Hip-Hop Kultur. Du wirst Skizzen erstellen und diese anschließend mit der Spraydose an der Wand umsetzen. Kreativität\, Spaß und Teamwork stehen hier im Vordergrund.\nAlle Materialien die Du brauchst sind vor Ort! Der Workshop richtet sich an Teilnehmer*innen ab 10 Jahren  \nAnmeldungen gehen an: class@salutdeluxe.hamburg
URL:https://salutdeluxe.hamburg/event/graffiti/2026-12-02/
LOCATION:Trockendock e.V.\, Elsastraße 41\, 22083\, Hamburg\, 22083\, Deutschland
ATTACH;FMTTYPE=image/jpeg:https://salutdeluxe.hamburg/wp-content/uploads/2022/07/IMG_9988-scaled.jpg
END:VEVENT
BEGIN:VEVENT
DTSTART;TZID=Europe/Berlin:20261209T183000
DTEND;TZID=Europe/Berlin:20261209T203000
DTSTAMP:20260423T123825
CREATED:20250526T103613Z
LAST-MODIFIED:20250526T103927Z
UID:10005731-1796841000-1796848200@salutdeluxe.hamburg
SUMMARY:Graffiti
DESCRIPTION:Du lernst die Grundlagen des Graffiti kennen und beschäftigst Dich mit den Werten der Hip-Hop Kultur. Du wirst Skizzen erstellen und diese anschließend mit der Spraydose an der Wand umsetzen. Kreativität\, Spaß und Teamwork stehen hier im Vordergrund.\nAlle Materialien die Du brauchst sind vor Ort! Der Workshop richtet sich an Teilnehmer*innen ab 10 Jahren  \nAnmeldungen gehen an: class@salutdeluxe.hamburg
URL:https://salutdeluxe.hamburg/event/graffiti/2026-12-09/
LOCATION:Trockendock e.V.\, Elsastraße 41\, 22083\, Hamburg\, 22083\, Deutschland
ATTACH;FMTTYPE=image/jpeg:https://salutdeluxe.hamburg/wp-content/uploads/2022/07/IMG_9988-scaled.jpg
END:VEVENT
BEGIN:VEVENT
DTSTART;TZID=Europe/Berlin:20261216T183000
DTEND;TZID=Europe/Berlin:20261216T203000
DTSTAMP:20260423T123825
CREATED:20250526T103613Z
LAST-MODIFIED:20250526T103927Z
UID:10005732-1797445800-1797453000@salutdeluxe.hamburg
SUMMARY:Graffiti
DESCRIPTION:Du lernst die Grundlagen des Graffiti kennen und beschäftigst Dich mit den Werten der Hip-Hop Kultur. Du wirst Skizzen erstellen und diese anschließend mit der Spraydose an der Wand umsetzen. Kreativität\, Spaß und Teamwork stehen hier im Vordergrund.\nAlle Materialien die Du brauchst sind vor Ort! Der Workshop richtet sich an Teilnehmer*innen ab 10 Jahren  \nAnmeldungen gehen an: class@salutdeluxe.hamburg
URL:https://salutdeluxe.hamburg/event/graffiti/2026-12-16/
LOCATION:Trockendock e.V.\, Elsastraße 41\, 22083\, Hamburg\, 22083\, Deutschland
ATTACH;FMTTYPE=image/jpeg:https://salutdeluxe.hamburg/wp-content/uploads/2022/07/IMG_9988-scaled.jpg
END:VEVENT
BEGIN:VEVENT
DTSTART;TZID=Europe/Berlin:20261223T183000
DTEND;TZID=Europe/Berlin:20261223T203000
DTSTAMP:20260423T123825
CREATED:20250526T103613Z
LAST-MODIFIED:20250526T103927Z
UID:10005733-1798050600-1798057800@salutdeluxe.hamburg
SUMMARY:Graffiti
DESCRIPTION:Du lernst die Grundlagen des Graffiti kennen und beschäftigst Dich mit den Werten der Hip-Hop Kultur. Du wirst Skizzen erstellen und diese anschließend mit der Spraydose an der Wand umsetzen. Kreativität\, Spaß und Teamwork stehen hier im Vordergrund.\nAlle Materialien die Du brauchst sind vor Ort! Der Workshop richtet sich an Teilnehmer*innen ab 10 Jahren  \nAnmeldungen gehen an: class@salutdeluxe.hamburg
URL:https://salutdeluxe.hamburg/event/graffiti/2026-12-23/
LOCATION:Trockendock e.V.\, Elsastraße 41\, 22083\, Hamburg\, 22083\, Deutschland
ATTACH;FMTTYPE=image/jpeg:https://salutdeluxe.hamburg/wp-content/uploads/2022/07/IMG_9988-scaled.jpg
END:VEVENT
BEGIN:VEVENT
DTSTART;TZID=Europe/Berlin:20261230T183000
DTEND;TZID=Europe/Berlin:20261230T203000
DTSTAMP:20260423T123825
CREATED:20250526T103613Z
LAST-MODIFIED:20250526T103927Z
UID:10005734-1798655400-1798662600@salutdeluxe.hamburg
SUMMARY:Graffiti
DESCRIPTION:Du lernst die Grundlagen des Graffiti kennen und beschäftigst Dich mit den Werten der Hip-Hop Kultur. Du wirst Skizzen erstellen und diese anschließend mit der Spraydose an der Wand umsetzen. Kreativität\, Spaß und Teamwork stehen hier im Vordergrund.\nAlle Materialien die Du brauchst sind vor Ort! Der Workshop richtet sich an Teilnehmer*innen ab 10 Jahren  \nAnmeldungen gehen an: class@salutdeluxe.hamburg
URL:https://salutdeluxe.hamburg/event/graffiti/2026-12-30/
LOCATION:Trockendock e.V.\, Elsastraße 41\, 22083\, Hamburg\, 22083\, Deutschland
ATTACH;FMTTYPE=image/jpeg:https://salutdeluxe.hamburg/wp-content/uploads/2022/07/IMG_9988-scaled.jpg
END:VEVENT
BEGIN:VEVENT
DTSTART;TZID=Europe/Berlin:20270106T183000
DTEND;TZID=Europe/Berlin:20270106T203000
DTSTAMP:20260423T123825
CREATED:20250526T103613Z
LAST-MODIFIED:20250526T103927Z
UID:10005735-1799260200-1799267400@salutdeluxe.hamburg
SUMMARY:Graffiti
DESCRIPTION:Du lernst die Grundlagen des Graffiti kennen und beschäftigst Dich mit den Werten der Hip-Hop Kultur. Du wirst Skizzen erstellen und diese anschließend mit der Spraydose an der Wand umsetzen. Kreativität\, Spaß und Teamwork stehen hier im Vordergrund.\nAlle Materialien die Du brauchst sind vor Ort! Der Workshop richtet sich an Teilnehmer*innen ab 10 Jahren  \nAnmeldungen gehen an: class@salutdeluxe.hamburg
URL:https://salutdeluxe.hamburg/event/graffiti/2027-01-06/
LOCATION:Trockendock e.V.\, Elsastraße 41\, 22083\, Hamburg\, 22083\, Deutschland
ATTACH;FMTTYPE=image/jpeg:https://salutdeluxe.hamburg/wp-content/uploads/2022/07/IMG_9988-scaled.jpg
END:VEVENT
BEGIN:VEVENT
DTSTART;TZID=Europe/Berlin:20270113T183000
DTEND;TZID=Europe/Berlin:20270113T203000
DTSTAMP:20260423T123825
CREATED:20250526T103613Z
LAST-MODIFIED:20250526T103927Z
UID:10005736-1799865000-1799872200@salutdeluxe.hamburg
SUMMARY:Graffiti
DESCRIPTION:Du lernst die Grundlagen des Graffiti kennen und beschäftigst Dich mit den Werten der Hip-Hop Kultur. Du wirst Skizzen erstellen und diese anschließend mit der Spraydose an der Wand umsetzen. Kreativität\, Spaß und Teamwork stehen hier im Vordergrund.\nAlle Materialien die Du brauchst sind vor Ort! Der Workshop richtet sich an Teilnehmer*innen ab 10 Jahren  \nAnmeldungen gehen an: class@salutdeluxe.hamburg
URL:https://salutdeluxe.hamburg/event/graffiti/2027-01-13/
LOCATION:Trockendock e.V.\, Elsastraße 41\, 22083\, Hamburg\, 22083\, Deutschland
ATTACH;FMTTYPE=image/jpeg:https://salutdeluxe.hamburg/wp-content/uploads/2022/07/IMG_9988-scaled.jpg
END:VEVENT
BEGIN:VEVENT
DTSTART;TZID=Europe/Berlin:20270120T183000
DTEND;TZID=Europe/Berlin:20270120T203000
DTSTAMP:20260423T123825
CREATED:20250526T103613Z
LAST-MODIFIED:20250526T103927Z
UID:10005737-1800469800-1800477000@salutdeluxe.hamburg
SUMMARY:Graffiti
DESCRIPTION:Du lernst die Grundlagen des Graffiti kennen und beschäftigst Dich mit den Werten der Hip-Hop Kultur. Du wirst Skizzen erstellen und diese anschließend mit der Spraydose an der Wand umsetzen. Kreativität\, Spaß und Teamwork stehen hier im Vordergrund.\nAlle Materialien die Du brauchst sind vor Ort! Der Workshop richtet sich an Teilnehmer*innen ab 10 Jahren  \nAnmeldungen gehen an: class@salutdeluxe.hamburg
URL:https://salutdeluxe.hamburg/event/graffiti/2027-01-20/
LOCATION:Trockendock e.V.\, Elsastraße 41\, 22083\, Hamburg\, 22083\, Deutschland
ATTACH;FMTTYPE=image/jpeg:https://salutdeluxe.hamburg/wp-content/uploads/2022/07/IMG_9988-scaled.jpg
END:VEVENT
BEGIN:VEVENT
DTSTART;TZID=Europe/Berlin:20270127T183000
DTEND;TZID=Europe/Berlin:20270127T203000
DTSTAMP:20260423T123825
CREATED:20250526T103613Z
LAST-MODIFIED:20250526T103927Z
UID:10005738-1801074600-1801081800@salutdeluxe.hamburg
SUMMARY:Graffiti
DESCRIPTION:Du lernst die Grundlagen des Graffiti kennen und beschäftigst Dich mit den Werten der Hip-Hop Kultur. Du wirst Skizzen erstellen und diese anschließend mit der Spraydose an der Wand umsetzen. Kreativität\, Spaß und Teamwork stehen hier im Vordergrund.\nAlle Materialien die Du brauchst sind vor Ort! Der Workshop richtet sich an Teilnehmer*innen ab 10 Jahren  \nAnmeldungen gehen an: class@salutdeluxe.hamburg
URL:https://salutdeluxe.hamburg/event/graffiti/2027-01-27/
LOCATION:Trockendock e.V.\, Elsastraße 41\, 22083\, Hamburg\, 22083\, Deutschland
ATTACH;FMTTYPE=image/jpeg:https://salutdeluxe.hamburg/wp-content/uploads/2022/07/IMG_9988-scaled.jpg
END:VEVENT
BEGIN:VEVENT
DTSTART;TZID=Europe/Berlin:20270203T183000
DTEND;TZID=Europe/Berlin:20270203T203000
DTSTAMP:20260423T123825
CREATED:20250526T103613Z
LAST-MODIFIED:20250526T103927Z
UID:10005739-1801679400-1801686600@salutdeluxe.hamburg
SUMMARY:Graffiti
DESCRIPTION:Du lernst die Grundlagen des Graffiti kennen und beschäftigst Dich mit den Werten der Hip-Hop Kultur. Du wirst Skizzen erstellen und diese anschließend mit der Spraydose an der Wand umsetzen. Kreativität\, Spaß und Teamwork stehen hier im Vordergrund.\nAlle Materialien die Du brauchst sind vor Ort! Der Workshop richtet sich an Teilnehmer*innen ab 10 Jahren  \nAnmeldungen gehen an: class@salutdeluxe.hamburg
URL:https://salutdeluxe.hamburg/event/graffiti/2027-02-03/
LOCATION:Trockendock e.V.\, Elsastraße 41\, 22083\, Hamburg\, 22083\, Deutschland
ATTACH;FMTTYPE=image/jpeg:https://salutdeluxe.hamburg/wp-content/uploads/2022/07/IMG_9988-scaled.jpg
END:VEVENT
BEGIN:VEVENT
DTSTART;TZID=Europe/Berlin:20270210T183000
DTEND;TZID=Europe/Berlin:20270210T203000
DTSTAMP:20260423T123825
CREATED:20250526T103613Z
LAST-MODIFIED:20250526T103927Z
UID:10005740-1802284200-1802291400@salutdeluxe.hamburg
SUMMARY:Graffiti
DESCRIPTION:Du lernst die Grundlagen des Graffiti kennen und beschäftigst Dich mit den Werten der Hip-Hop Kultur. Du wirst Skizzen erstellen und diese anschließend mit der Spraydose an der Wand umsetzen. Kreativität\, Spaß und Teamwork stehen hier im Vordergrund.\nAlle Materialien die Du brauchst sind vor Ort! Der Workshop richtet sich an Teilnehmer*innen ab 10 Jahren  \nAnmeldungen gehen an: class@salutdeluxe.hamburg
URL:https://salutdeluxe.hamburg/event/graffiti/2027-02-10/
LOCATION:Trockendock e.V.\, Elsastraße 41\, 22083\, Hamburg\, 22083\, Deutschland
ATTACH;FMTTYPE=image/jpeg:https://salutdeluxe.hamburg/wp-content/uploads/2022/07/IMG_9988-scaled.jpg
END:VEVENT
END:VCALENDAR