BEGIN:VCALENDAR
VERSION:2.0
PRODID:-//SalutDeluxe e.V. - ECPv6.2.2//NONSGML v1.0//EN
CALSCALE:GREGORIAN
METHOD:PUBLISH
X-WR-CALNAME:SalutDeluxe e.V.
X-ORIGINAL-URL:https://salutdeluxe.hamburg
X-WR-CALDESC:Veranstaltungen für SalutDeluxe e.V.
REFRESH-INTERVAL;VALUE=DURATION:PT1H
X-Robots-Tag:noindex
X-PUBLISHED-TTL:PT1H
BEGIN:VTIMEZONE
TZID:Europe/Berlin
BEGIN:DAYLIGHT
TZOFFSETFROM:+0100
TZOFFSETTO:+0200
TZNAME:CEST
DTSTART:20260329T010000
END:DAYLIGHT
BEGIN:STANDARD
TZOFFSETFROM:+0200
TZOFFSETTO:+0100
TZNAME:CET
DTSTART:20261025T010000
END:STANDARD
END:VTIMEZONE
BEGIN:VEVENT
DTSTART;TZID=Europe/Berlin:20260423T160000
DTEND;TZID=Europe/Berlin:20260423T190000
DTSTAMP:20260421T210830
CREATED:20260220T194313Z
LAST-MODIFIED:20260220T203752Z
UID:10005451-1776960000-1776970800@salutdeluxe.hamburg
SUMMARY:Writing Lab (Zinnwerke)
DESCRIPTION:Das Writing Lab ist dein Raum\, um dich durch Songwriting besser kennenzulernen – musikalisch und persönlich. Egal ob du schon Texte hast\, die du besprechen möchtest\, oder gerade erst anfängst: Hier bist du genau richtig!\n			\n			\n				\n				\n				\n				\n			\n				\n				\n				\n				\n				\n				\n			\n				\n				\n				\n				\n				\n				Jetzt anmelden
URL:https://salutdeluxe.hamburg/event/vocal-werkstatt-10-2/2026-04-23/
LOCATION:SalutDeluxe e.V.\, Volkmannstraße 6\, Hamburg\, 22083\, Deutschland
ATTACH;FMTTYPE=image/jpeg:https://salutdeluxe.hamburg/wp-content/uploads/2025/02/news_007.jpeg
END:VEVENT
BEGIN:VEVENT
DTSTART;TZID=Europe/Berlin:20260430T160000
DTEND;TZID=Europe/Berlin:20260430T190000
DTSTAMP:20260421T210830
CREATED:20260220T194313Z
LAST-MODIFIED:20260220T203752Z
UID:10005452-1777564800-1777575600@salutdeluxe.hamburg
SUMMARY:Writing Lab (Zinnwerke)
DESCRIPTION:Das Writing Lab ist dein Raum\, um dich durch Songwriting besser kennenzulernen – musikalisch und persönlich. Egal ob du schon Texte hast\, die du besprechen möchtest\, oder gerade erst anfängst: Hier bist du genau richtig!\n			\n			\n				\n				\n				\n				\n			\n				\n				\n				\n				\n				\n				\n			\n				\n				\n				\n				\n				\n				Jetzt anmelden
URL:https://salutdeluxe.hamburg/event/vocal-werkstatt-10-2/2026-04-30/
LOCATION:SalutDeluxe e.V.\, Volkmannstraße 6\, Hamburg\, 22083\, Deutschland
ATTACH;FMTTYPE=image/jpeg:https://salutdeluxe.hamburg/wp-content/uploads/2025/02/news_007.jpeg
END:VEVENT
BEGIN:VEVENT
DTSTART;TZID=Europe/Berlin:20260507T160000
DTEND;TZID=Europe/Berlin:20260507T190000
DTSTAMP:20260421T210830
CREATED:20260220T194313Z
LAST-MODIFIED:20260220T203752Z
UID:10005453-1778169600-1778180400@salutdeluxe.hamburg
SUMMARY:Writing Lab (Zinnwerke)
DESCRIPTION:Das Writing Lab ist dein Raum\, um dich durch Songwriting besser kennenzulernen – musikalisch und persönlich. Egal ob du schon Texte hast\, die du besprechen möchtest\, oder gerade erst anfängst: Hier bist du genau richtig!\n			\n			\n				\n				\n				\n				\n			\n				\n				\n				\n				\n				\n				\n			\n				\n				\n				\n				\n				\n				Jetzt anmelden
URL:https://salutdeluxe.hamburg/event/vocal-werkstatt-10-2/2026-05-07/
LOCATION:SalutDeluxe e.V.\, Volkmannstraße 6\, Hamburg\, 22083\, Deutschland
ATTACH;FMTTYPE=image/jpeg:https://salutdeluxe.hamburg/wp-content/uploads/2025/02/news_007.jpeg
END:VEVENT
BEGIN:VEVENT
DTSTART;TZID=Europe/Berlin:20260514T160000
DTEND;TZID=Europe/Berlin:20260514T190000
DTSTAMP:20260421T210830
CREATED:20260220T194313Z
LAST-MODIFIED:20260220T203752Z
UID:10005454-1778774400-1778785200@salutdeluxe.hamburg
SUMMARY:Writing Lab (Zinnwerke)
DESCRIPTION:Das Writing Lab ist dein Raum\, um dich durch Songwriting besser kennenzulernen – musikalisch und persönlich. Egal ob du schon Texte hast\, die du besprechen möchtest\, oder gerade erst anfängst: Hier bist du genau richtig!\n			\n			\n				\n				\n				\n				\n			\n				\n				\n				\n				\n				\n				\n			\n				\n				\n				\n				\n				\n				Jetzt anmelden
URL:https://salutdeluxe.hamburg/event/vocal-werkstatt-10-2/2026-05-14/
LOCATION:SalutDeluxe e.V.\, Volkmannstraße 6\, Hamburg\, 22083\, Deutschland
ATTACH;FMTTYPE=image/jpeg:https://salutdeluxe.hamburg/wp-content/uploads/2025/02/news_007.jpeg
END:VEVENT
BEGIN:VEVENT
DTSTART;TZID=Europe/Berlin:20260521T160000
DTEND;TZID=Europe/Berlin:20260521T190000
DTSTAMP:20260421T210830
CREATED:20260220T194313Z
LAST-MODIFIED:20260220T203752Z
UID:10005455-1779379200-1779390000@salutdeluxe.hamburg
SUMMARY:Writing Lab (Zinnwerke)
DESCRIPTION:Das Writing Lab ist dein Raum\, um dich durch Songwriting besser kennenzulernen – musikalisch und persönlich. Egal ob du schon Texte hast\, die du besprechen möchtest\, oder gerade erst anfängst: Hier bist du genau richtig!\n			\n			\n				\n				\n				\n				\n			\n				\n				\n				\n				\n				\n				\n			\n				\n				\n				\n				\n				\n				Jetzt anmelden
URL:https://salutdeluxe.hamburg/event/vocal-werkstatt-10-2/2026-05-21/
LOCATION:SalutDeluxe e.V.\, Volkmannstraße 6\, Hamburg\, 22083\, Deutschland
ATTACH;FMTTYPE=image/jpeg:https://salutdeluxe.hamburg/wp-content/uploads/2025/02/news_007.jpeg
END:VEVENT
BEGIN:VEVENT
DTSTART;TZID=Europe/Berlin:20260528T160000
DTEND;TZID=Europe/Berlin:20260528T190000
DTSTAMP:20260421T210830
CREATED:20260220T194313Z
LAST-MODIFIED:20260220T203752Z
UID:10005456-1779984000-1779994800@salutdeluxe.hamburg
SUMMARY:Writing Lab (Zinnwerke)
DESCRIPTION:Das Writing Lab ist dein Raum\, um dich durch Songwriting besser kennenzulernen – musikalisch und persönlich. Egal ob du schon Texte hast\, die du besprechen möchtest\, oder gerade erst anfängst: Hier bist du genau richtig!\n			\n			\n				\n				\n				\n				\n			\n				\n				\n				\n				\n				\n				\n			\n				\n				\n				\n				\n				\n				Jetzt anmelden
URL:https://salutdeluxe.hamburg/event/vocal-werkstatt-10-2/2026-05-28/
LOCATION:SalutDeluxe e.V.\, Volkmannstraße 6\, Hamburg\, 22083\, Deutschland
ATTACH;FMTTYPE=image/jpeg:https://salutdeluxe.hamburg/wp-content/uploads/2025/02/news_007.jpeg
END:VEVENT
BEGIN:VEVENT
DTSTART;TZID=Europe/Berlin:20260604T160000
DTEND;TZID=Europe/Berlin:20260604T190000
DTSTAMP:20260421T210830
CREATED:20260220T194313Z
LAST-MODIFIED:20260220T203752Z
UID:10005457-1780588800-1780599600@salutdeluxe.hamburg
SUMMARY:Writing Lab (Zinnwerke)
DESCRIPTION:Das Writing Lab ist dein Raum\, um dich durch Songwriting besser kennenzulernen – musikalisch und persönlich. Egal ob du schon Texte hast\, die du besprechen möchtest\, oder gerade erst anfängst: Hier bist du genau richtig!\n			\n			\n				\n				\n				\n				\n			\n				\n				\n				\n				\n				\n				\n			\n				\n				\n				\n				\n				\n				Jetzt anmelden
URL:https://salutdeluxe.hamburg/event/vocal-werkstatt-10-2/2026-06-04/
LOCATION:SalutDeluxe e.V.\, Volkmannstraße 6\, Hamburg\, 22083\, Deutschland
ATTACH;FMTTYPE=image/jpeg:https://salutdeluxe.hamburg/wp-content/uploads/2025/02/news_007.jpeg
END:VEVENT
BEGIN:VEVENT
DTSTART;TZID=Europe/Berlin:20260611T160000
DTEND;TZID=Europe/Berlin:20260611T190000
DTSTAMP:20260421T210830
CREATED:20260220T194313Z
LAST-MODIFIED:20260220T203752Z
UID:10005458-1781193600-1781204400@salutdeluxe.hamburg
SUMMARY:Writing Lab (Zinnwerke)
DESCRIPTION:Das Writing Lab ist dein Raum\, um dich durch Songwriting besser kennenzulernen – musikalisch und persönlich. Egal ob du schon Texte hast\, die du besprechen möchtest\, oder gerade erst anfängst: Hier bist du genau richtig!\n			\n			\n				\n				\n				\n				\n			\n				\n				\n				\n				\n				\n				\n			\n				\n				\n				\n				\n				\n				Jetzt anmelden
URL:https://salutdeluxe.hamburg/event/vocal-werkstatt-10-2/2026-06-11/
LOCATION:SalutDeluxe e.V.\, Volkmannstraße 6\, Hamburg\, 22083\, Deutschland
ATTACH;FMTTYPE=image/jpeg:https://salutdeluxe.hamburg/wp-content/uploads/2025/02/news_007.jpeg
END:VEVENT
BEGIN:VEVENT
DTSTART;TZID=Europe/Berlin:20260618T160000
DTEND;TZID=Europe/Berlin:20260618T190000
DTSTAMP:20260421T210831
CREATED:20260220T194313Z
LAST-MODIFIED:20260220T203752Z
UID:10005459-1781798400-1781809200@salutdeluxe.hamburg
SUMMARY:Writing Lab (Zinnwerke)
DESCRIPTION:Das Writing Lab ist dein Raum\, um dich durch Songwriting besser kennenzulernen – musikalisch und persönlich. Egal ob du schon Texte hast\, die du besprechen möchtest\, oder gerade erst anfängst: Hier bist du genau richtig!\n			\n			\n				\n				\n				\n				\n			\n				\n				\n				\n				\n				\n				\n			\n				\n				\n				\n				\n				\n				Jetzt anmelden
URL:https://salutdeluxe.hamburg/event/vocal-werkstatt-10-2/2026-06-18/
LOCATION:SalutDeluxe e.V.\, Volkmannstraße 6\, Hamburg\, 22083\, Deutschland
ATTACH;FMTTYPE=image/jpeg:https://salutdeluxe.hamburg/wp-content/uploads/2025/02/news_007.jpeg
END:VEVENT
BEGIN:VEVENT
DTSTART;TZID=Europe/Berlin:20260625T160000
DTEND;TZID=Europe/Berlin:20260625T190000
DTSTAMP:20260421T210831
CREATED:20260220T194313Z
LAST-MODIFIED:20260220T203752Z
UID:10005460-1782403200-1782414000@salutdeluxe.hamburg
SUMMARY:Writing Lab (Zinnwerke)
DESCRIPTION:Das Writing Lab ist dein Raum\, um dich durch Songwriting besser kennenzulernen – musikalisch und persönlich. Egal ob du schon Texte hast\, die du besprechen möchtest\, oder gerade erst anfängst: Hier bist du genau richtig!\n			\n			\n				\n				\n				\n				\n			\n				\n				\n				\n				\n				\n				\n			\n				\n				\n				\n				\n				\n				Jetzt anmelden
URL:https://salutdeluxe.hamburg/event/vocal-werkstatt-10-2/2026-06-25/
LOCATION:SalutDeluxe e.V.\, Volkmannstraße 6\, Hamburg\, 22083\, Deutschland
ATTACH;FMTTYPE=image/jpeg:https://salutdeluxe.hamburg/wp-content/uploads/2025/02/news_007.jpeg
END:VEVENT
BEGIN:VEVENT
DTSTART;TZID=Europe/Berlin:20260702T160000
DTEND;TZID=Europe/Berlin:20260702T190000
DTSTAMP:20260421T210831
CREATED:20260220T194313Z
LAST-MODIFIED:20260220T203752Z
UID:10005461-1783008000-1783018800@salutdeluxe.hamburg
SUMMARY:Writing Lab (Zinnwerke)
DESCRIPTION:Das Writing Lab ist dein Raum\, um dich durch Songwriting besser kennenzulernen – musikalisch und persönlich. Egal ob du schon Texte hast\, die du besprechen möchtest\, oder gerade erst anfängst: Hier bist du genau richtig!\n			\n			\n				\n				\n				\n				\n			\n				\n				\n				\n				\n				\n				\n			\n				\n				\n				\n				\n				\n				Jetzt anmelden
URL:https://salutdeluxe.hamburg/event/vocal-werkstatt-10-2/2026-07-02/
LOCATION:SalutDeluxe e.V.\, Volkmannstraße 6\, Hamburg\, 22083\, Deutschland
ATTACH;FMTTYPE=image/jpeg:https://salutdeluxe.hamburg/wp-content/uploads/2025/02/news_007.jpeg
END:VEVENT
BEGIN:VEVENT
DTSTART;TZID=Europe/Berlin:20260709T160000
DTEND;TZID=Europe/Berlin:20260709T190000
DTSTAMP:20260421T210831
CREATED:20260220T194313Z
LAST-MODIFIED:20260220T203752Z
UID:10005462-1783612800-1783623600@salutdeluxe.hamburg
SUMMARY:Writing Lab (Zinnwerke)
DESCRIPTION:Das Writing Lab ist dein Raum\, um dich durch Songwriting besser kennenzulernen – musikalisch und persönlich. Egal ob du schon Texte hast\, die du besprechen möchtest\, oder gerade erst anfängst: Hier bist du genau richtig!\n			\n			\n				\n				\n				\n				\n			\n				\n				\n				\n				\n				\n				\n			\n				\n				\n				\n				\n				\n				Jetzt anmelden
URL:https://salutdeluxe.hamburg/event/vocal-werkstatt-10-2/2026-07-09/
LOCATION:SalutDeluxe e.V.\, Volkmannstraße 6\, Hamburg\, 22083\, Deutschland
ATTACH;FMTTYPE=image/jpeg:https://salutdeluxe.hamburg/wp-content/uploads/2025/02/news_007.jpeg
END:VEVENT
BEGIN:VEVENT
DTSTART;TZID=Europe/Berlin:20260716T160000
DTEND;TZID=Europe/Berlin:20260716T190000
DTSTAMP:20260421T210831
CREATED:20260220T194313Z
LAST-MODIFIED:20260220T203752Z
UID:10005463-1784217600-1784228400@salutdeluxe.hamburg
SUMMARY:Writing Lab (Zinnwerke)
DESCRIPTION:Das Writing Lab ist dein Raum\, um dich durch Songwriting besser kennenzulernen – musikalisch und persönlich. Egal ob du schon Texte hast\, die du besprechen möchtest\, oder gerade erst anfängst: Hier bist du genau richtig!\n			\n			\n				\n				\n				\n				\n			\n				\n				\n				\n				\n				\n				\n			\n				\n				\n				\n				\n				\n				Jetzt anmelden
URL:https://salutdeluxe.hamburg/event/vocal-werkstatt-10-2/2026-07-16/
LOCATION:SalutDeluxe e.V.\, Volkmannstraße 6\, Hamburg\, 22083\, Deutschland
ATTACH;FMTTYPE=image/jpeg:https://salutdeluxe.hamburg/wp-content/uploads/2025/02/news_007.jpeg
END:VEVENT
BEGIN:VEVENT
DTSTART;TZID=Europe/Berlin:20260723T160000
DTEND;TZID=Europe/Berlin:20260723T190000
DTSTAMP:20260421T210831
CREATED:20260220T194313Z
LAST-MODIFIED:20260220T203752Z
UID:10005464-1784822400-1784833200@salutdeluxe.hamburg
SUMMARY:Writing Lab (Zinnwerke)
DESCRIPTION:Das Writing Lab ist dein Raum\, um dich durch Songwriting besser kennenzulernen – musikalisch und persönlich. Egal ob du schon Texte hast\, die du besprechen möchtest\, oder gerade erst anfängst: Hier bist du genau richtig!\n			\n			\n				\n				\n				\n				\n			\n				\n				\n				\n				\n				\n				\n			\n				\n				\n				\n				\n				\n				Jetzt anmelden
URL:https://salutdeluxe.hamburg/event/vocal-werkstatt-10-2/2026-07-23/
LOCATION:SalutDeluxe e.V.\, Volkmannstraße 6\, Hamburg\, 22083\, Deutschland
ATTACH;FMTTYPE=image/jpeg:https://salutdeluxe.hamburg/wp-content/uploads/2025/02/news_007.jpeg
END:VEVENT
BEGIN:VEVENT
DTSTART;TZID=Europe/Berlin:20260730T160000
DTEND;TZID=Europe/Berlin:20260730T190000
DTSTAMP:20260421T210831
CREATED:20260220T194313Z
LAST-MODIFIED:20260220T203752Z
UID:10005465-1785427200-1785438000@salutdeluxe.hamburg
SUMMARY:Writing Lab (Zinnwerke)
DESCRIPTION:Das Writing Lab ist dein Raum\, um dich durch Songwriting besser kennenzulernen – musikalisch und persönlich. Egal ob du schon Texte hast\, die du besprechen möchtest\, oder gerade erst anfängst: Hier bist du genau richtig!\n			\n			\n				\n				\n				\n				\n			\n				\n				\n				\n				\n				\n				\n			\n				\n				\n				\n				\n				\n				Jetzt anmelden
URL:https://salutdeluxe.hamburg/event/vocal-werkstatt-10-2/2026-07-30/
LOCATION:SalutDeluxe e.V.\, Volkmannstraße 6\, Hamburg\, 22083\, Deutschland
ATTACH;FMTTYPE=image/jpeg:https://salutdeluxe.hamburg/wp-content/uploads/2025/02/news_007.jpeg
END:VEVENT
BEGIN:VEVENT
DTSTART;TZID=Europe/Berlin:20260806T160000
DTEND;TZID=Europe/Berlin:20260806T190000
DTSTAMP:20260421T210831
CREATED:20260220T194313Z
LAST-MODIFIED:20260220T203752Z
UID:10005466-1786032000-1786042800@salutdeluxe.hamburg
SUMMARY:Writing Lab (Zinnwerke)
DESCRIPTION:Das Writing Lab ist dein Raum\, um dich durch Songwriting besser kennenzulernen – musikalisch und persönlich. Egal ob du schon Texte hast\, die du besprechen möchtest\, oder gerade erst anfängst: Hier bist du genau richtig!\n			\n			\n				\n				\n				\n				\n			\n				\n				\n				\n				\n				\n				\n			\n				\n				\n				\n				\n				\n				Jetzt anmelden
URL:https://salutdeluxe.hamburg/event/vocal-werkstatt-10-2/2026-08-06/
LOCATION:SalutDeluxe e.V.\, Volkmannstraße 6\, Hamburg\, 22083\, Deutschland
ATTACH;FMTTYPE=image/jpeg:https://salutdeluxe.hamburg/wp-content/uploads/2025/02/news_007.jpeg
END:VEVENT
BEGIN:VEVENT
DTSTART;TZID=Europe/Berlin:20260813T160000
DTEND;TZID=Europe/Berlin:20260813T190000
DTSTAMP:20260421T210831
CREATED:20260220T194313Z
LAST-MODIFIED:20260220T203752Z
UID:10005467-1786636800-1786647600@salutdeluxe.hamburg
SUMMARY:Writing Lab (Zinnwerke)
DESCRIPTION:Das Writing Lab ist dein Raum\, um dich durch Songwriting besser kennenzulernen – musikalisch und persönlich. Egal ob du schon Texte hast\, die du besprechen möchtest\, oder gerade erst anfängst: Hier bist du genau richtig!\n			\n			\n				\n				\n				\n				\n			\n				\n				\n				\n				\n				\n				\n			\n				\n				\n				\n				\n				\n				Jetzt anmelden
URL:https://salutdeluxe.hamburg/event/vocal-werkstatt-10-2/2026-08-13/
LOCATION:SalutDeluxe e.V.\, Volkmannstraße 6\, Hamburg\, 22083\, Deutschland
ATTACH;FMTTYPE=image/jpeg:https://salutdeluxe.hamburg/wp-content/uploads/2025/02/news_007.jpeg
END:VEVENT
BEGIN:VEVENT
DTSTART;TZID=Europe/Berlin:20260820T160000
DTEND;TZID=Europe/Berlin:20260820T190000
DTSTAMP:20260421T210831
CREATED:20260220T194313Z
LAST-MODIFIED:20260220T203752Z
UID:10005468-1787241600-1787252400@salutdeluxe.hamburg
SUMMARY:Writing Lab (Zinnwerke)
DESCRIPTION:Das Writing Lab ist dein Raum\, um dich durch Songwriting besser kennenzulernen – musikalisch und persönlich. Egal ob du schon Texte hast\, die du besprechen möchtest\, oder gerade erst anfängst: Hier bist du genau richtig!\n			\n			\n				\n				\n				\n				\n			\n				\n				\n				\n				\n				\n				\n			\n				\n				\n				\n				\n				\n				Jetzt anmelden
URL:https://salutdeluxe.hamburg/event/vocal-werkstatt-10-2/2026-08-20/
LOCATION:SalutDeluxe e.V.\, Volkmannstraße 6\, Hamburg\, 22083\, Deutschland
ATTACH;FMTTYPE=image/jpeg:https://salutdeluxe.hamburg/wp-content/uploads/2025/02/news_007.jpeg
END:VEVENT
BEGIN:VEVENT
DTSTART;TZID=Europe/Berlin:20260827T160000
DTEND;TZID=Europe/Berlin:20260827T190000
DTSTAMP:20260421T210831
CREATED:20260220T194313Z
LAST-MODIFIED:20260220T203752Z
UID:10005469-1787846400-1787857200@salutdeluxe.hamburg
SUMMARY:Writing Lab (Zinnwerke)
DESCRIPTION:Das Writing Lab ist dein Raum\, um dich durch Songwriting besser kennenzulernen – musikalisch und persönlich. Egal ob du schon Texte hast\, die du besprechen möchtest\, oder gerade erst anfängst: Hier bist du genau richtig!\n			\n			\n				\n				\n				\n				\n			\n				\n				\n				\n				\n				\n				\n			\n				\n				\n				\n				\n				\n				Jetzt anmelden
URL:https://salutdeluxe.hamburg/event/vocal-werkstatt-10-2/2026-08-27/
LOCATION:SalutDeluxe e.V.\, Volkmannstraße 6\, Hamburg\, 22083\, Deutschland
ATTACH;FMTTYPE=image/jpeg:https://salutdeluxe.hamburg/wp-content/uploads/2025/02/news_007.jpeg
END:VEVENT
BEGIN:VEVENT
DTSTART;TZID=Europe/Berlin:20260903T160000
DTEND;TZID=Europe/Berlin:20260903T190000
DTSTAMP:20260421T210831
CREATED:20260220T194313Z
LAST-MODIFIED:20260220T203752Z
UID:10005470-1788451200-1788462000@salutdeluxe.hamburg
SUMMARY:Writing Lab (Zinnwerke)
DESCRIPTION:Das Writing Lab ist dein Raum\, um dich durch Songwriting besser kennenzulernen – musikalisch und persönlich. Egal ob du schon Texte hast\, die du besprechen möchtest\, oder gerade erst anfängst: Hier bist du genau richtig!\n			\n			\n				\n				\n				\n				\n			\n				\n				\n				\n				\n				\n				\n			\n				\n				\n				\n				\n				\n				Jetzt anmelden
URL:https://salutdeluxe.hamburg/event/vocal-werkstatt-10-2/2026-09-03/
LOCATION:SalutDeluxe e.V.\, Volkmannstraße 6\, Hamburg\, 22083\, Deutschland
ATTACH;FMTTYPE=image/jpeg:https://salutdeluxe.hamburg/wp-content/uploads/2025/02/news_007.jpeg
END:VEVENT
BEGIN:VEVENT
DTSTART;TZID=Europe/Berlin:20260910T160000
DTEND;TZID=Europe/Berlin:20260910T190000
DTSTAMP:20260421T210831
CREATED:20260220T194313Z
LAST-MODIFIED:20260220T203752Z
UID:10005471-1789056000-1789066800@salutdeluxe.hamburg
SUMMARY:Writing Lab (Zinnwerke)
DESCRIPTION:Das Writing Lab ist dein Raum\, um dich durch Songwriting besser kennenzulernen – musikalisch und persönlich. Egal ob du schon Texte hast\, die du besprechen möchtest\, oder gerade erst anfängst: Hier bist du genau richtig!\n			\n			\n				\n				\n				\n				\n			\n				\n				\n				\n				\n				\n				\n			\n				\n				\n				\n				\n				\n				Jetzt anmelden
URL:https://salutdeluxe.hamburg/event/vocal-werkstatt-10-2/2026-09-10/
LOCATION:SalutDeluxe e.V.\, Volkmannstraße 6\, Hamburg\, 22083\, Deutschland
ATTACH;FMTTYPE=image/jpeg:https://salutdeluxe.hamburg/wp-content/uploads/2025/02/news_007.jpeg
END:VEVENT
BEGIN:VEVENT
DTSTART;TZID=Europe/Berlin:20260917T160000
DTEND;TZID=Europe/Berlin:20260917T190000
DTSTAMP:20260421T210831
CREATED:20260220T194313Z
LAST-MODIFIED:20260220T203752Z
UID:10005472-1789660800-1789671600@salutdeluxe.hamburg
SUMMARY:Writing Lab (Zinnwerke)
DESCRIPTION:Das Writing Lab ist dein Raum\, um dich durch Songwriting besser kennenzulernen – musikalisch und persönlich. Egal ob du schon Texte hast\, die du besprechen möchtest\, oder gerade erst anfängst: Hier bist du genau richtig!\n			\n			\n				\n				\n				\n				\n			\n				\n				\n				\n				\n				\n				\n			\n				\n				\n				\n				\n				\n				Jetzt anmelden
URL:https://salutdeluxe.hamburg/event/vocal-werkstatt-10-2/2026-09-17/
LOCATION:SalutDeluxe e.V.\, Volkmannstraße 6\, Hamburg\, 22083\, Deutschland
ATTACH;FMTTYPE=image/jpeg:https://salutdeluxe.hamburg/wp-content/uploads/2025/02/news_007.jpeg
END:VEVENT
BEGIN:VEVENT
DTSTART;TZID=Europe/Berlin:20260924T160000
DTEND;TZID=Europe/Berlin:20260924T190000
DTSTAMP:20260421T210831
CREATED:20260220T194313Z
LAST-MODIFIED:20260220T203752Z
UID:10005473-1790265600-1790276400@salutdeluxe.hamburg
SUMMARY:Writing Lab (Zinnwerke)
DESCRIPTION:Das Writing Lab ist dein Raum\, um dich durch Songwriting besser kennenzulernen – musikalisch und persönlich. Egal ob du schon Texte hast\, die du besprechen möchtest\, oder gerade erst anfängst: Hier bist du genau richtig!\n			\n			\n				\n				\n				\n				\n			\n				\n				\n				\n				\n				\n				\n			\n				\n				\n				\n				\n				\n				Jetzt anmelden
URL:https://salutdeluxe.hamburg/event/vocal-werkstatt-10-2/2026-09-24/
LOCATION:SalutDeluxe e.V.\, Volkmannstraße 6\, Hamburg\, 22083\, Deutschland
ATTACH;FMTTYPE=image/jpeg:https://salutdeluxe.hamburg/wp-content/uploads/2025/02/news_007.jpeg
END:VEVENT
BEGIN:VEVENT
DTSTART;TZID=Europe/Berlin:20261001T160000
DTEND;TZID=Europe/Berlin:20261001T190000
DTSTAMP:20260421T210831
CREATED:20260220T194313Z
LAST-MODIFIED:20260220T203752Z
UID:10005474-1790870400-1790881200@salutdeluxe.hamburg
SUMMARY:Writing Lab (Zinnwerke)
DESCRIPTION:Das Writing Lab ist dein Raum\, um dich durch Songwriting besser kennenzulernen – musikalisch und persönlich. Egal ob du schon Texte hast\, die du besprechen möchtest\, oder gerade erst anfängst: Hier bist du genau richtig!\n			\n			\n				\n				\n				\n				\n			\n				\n				\n				\n				\n				\n				\n			\n				\n				\n				\n				\n				\n				Jetzt anmelden
URL:https://salutdeluxe.hamburg/event/vocal-werkstatt-10-2/2026-10-01/
LOCATION:SalutDeluxe e.V.\, Volkmannstraße 6\, Hamburg\, 22083\, Deutschland
ATTACH;FMTTYPE=image/jpeg:https://salutdeluxe.hamburg/wp-content/uploads/2025/02/news_007.jpeg
END:VEVENT
BEGIN:VEVENT
DTSTART;TZID=Europe/Berlin:20261008T160000
DTEND;TZID=Europe/Berlin:20261008T190000
DTSTAMP:20260421T210831
CREATED:20260220T194313Z
LAST-MODIFIED:20260220T203752Z
UID:10005475-1791475200-1791486000@salutdeluxe.hamburg
SUMMARY:Writing Lab (Zinnwerke)
DESCRIPTION:Das Writing Lab ist dein Raum\, um dich durch Songwriting besser kennenzulernen – musikalisch und persönlich. Egal ob du schon Texte hast\, die du besprechen möchtest\, oder gerade erst anfängst: Hier bist du genau richtig!\n			\n			\n				\n				\n				\n				\n			\n				\n				\n				\n				\n				\n				\n			\n				\n				\n				\n				\n				\n				Jetzt anmelden
URL:https://salutdeluxe.hamburg/event/vocal-werkstatt-10-2/2026-10-08/
LOCATION:SalutDeluxe e.V.\, Volkmannstraße 6\, Hamburg\, 22083\, Deutschland
ATTACH;FMTTYPE=image/jpeg:https://salutdeluxe.hamburg/wp-content/uploads/2025/02/news_007.jpeg
END:VEVENT
BEGIN:VEVENT
DTSTART;TZID=Europe/Berlin:20261015T160000
DTEND;TZID=Europe/Berlin:20261015T190000
DTSTAMP:20260421T210831
CREATED:20260220T194313Z
LAST-MODIFIED:20260220T203752Z
UID:10005476-1792080000-1792090800@salutdeluxe.hamburg
SUMMARY:Writing Lab (Zinnwerke)
DESCRIPTION:Das Writing Lab ist dein Raum\, um dich durch Songwriting besser kennenzulernen – musikalisch und persönlich. Egal ob du schon Texte hast\, die du besprechen möchtest\, oder gerade erst anfängst: Hier bist du genau richtig!\n			\n			\n				\n				\n				\n				\n			\n				\n				\n				\n				\n				\n				\n			\n				\n				\n				\n				\n				\n				Jetzt anmelden
URL:https://salutdeluxe.hamburg/event/vocal-werkstatt-10-2/2026-10-15/
LOCATION:SalutDeluxe e.V.\, Volkmannstraße 6\, Hamburg\, 22083\, Deutschland
ATTACH;FMTTYPE=image/jpeg:https://salutdeluxe.hamburg/wp-content/uploads/2025/02/news_007.jpeg
END:VEVENT
BEGIN:VEVENT
DTSTART;TZID=Europe/Berlin:20261022T160000
DTEND;TZID=Europe/Berlin:20261022T190000
DTSTAMP:20260421T210831
CREATED:20260220T194313Z
LAST-MODIFIED:20260220T203752Z
UID:10005477-1792684800-1792695600@salutdeluxe.hamburg
SUMMARY:Writing Lab (Zinnwerke)
DESCRIPTION:Das Writing Lab ist dein Raum\, um dich durch Songwriting besser kennenzulernen – musikalisch und persönlich. Egal ob du schon Texte hast\, die du besprechen möchtest\, oder gerade erst anfängst: Hier bist du genau richtig!\n			\n			\n				\n				\n				\n				\n			\n				\n				\n				\n				\n				\n				\n			\n				\n				\n				\n				\n				\n				Jetzt anmelden
URL:https://salutdeluxe.hamburg/event/vocal-werkstatt-10-2/2026-10-22/
LOCATION:SalutDeluxe e.V.\, Volkmannstraße 6\, Hamburg\, 22083\, Deutschland
ATTACH;FMTTYPE=image/jpeg:https://salutdeluxe.hamburg/wp-content/uploads/2025/02/news_007.jpeg
END:VEVENT
BEGIN:VEVENT
DTSTART;TZID=Europe/Berlin:20261029T160000
DTEND;TZID=Europe/Berlin:20261029T190000
DTSTAMP:20260421T210831
CREATED:20260220T194313Z
LAST-MODIFIED:20260220T203752Z
UID:10005478-1793289600-1793300400@salutdeluxe.hamburg
SUMMARY:Writing Lab (Zinnwerke)
DESCRIPTION:Das Writing Lab ist dein Raum\, um dich durch Songwriting besser kennenzulernen – musikalisch und persönlich. Egal ob du schon Texte hast\, die du besprechen möchtest\, oder gerade erst anfängst: Hier bist du genau richtig!\n			\n			\n				\n				\n				\n				\n			\n				\n				\n				\n				\n				\n				\n			\n				\n				\n				\n				\n				\n				Jetzt anmelden
URL:https://salutdeluxe.hamburg/event/vocal-werkstatt-10-2/2026-10-29/
LOCATION:SalutDeluxe e.V.\, Volkmannstraße 6\, Hamburg\, 22083\, Deutschland
ATTACH;FMTTYPE=image/jpeg:https://salutdeluxe.hamburg/wp-content/uploads/2025/02/news_007.jpeg
END:VEVENT
BEGIN:VEVENT
DTSTART;TZID=Europe/Berlin:20261105T160000
DTEND;TZID=Europe/Berlin:20261105T190000
DTSTAMP:20260421T210831
CREATED:20260220T194313Z
LAST-MODIFIED:20260220T203752Z
UID:10005479-1793894400-1793905200@salutdeluxe.hamburg
SUMMARY:Writing Lab (Zinnwerke)
DESCRIPTION:Das Writing Lab ist dein Raum\, um dich durch Songwriting besser kennenzulernen – musikalisch und persönlich. Egal ob du schon Texte hast\, die du besprechen möchtest\, oder gerade erst anfängst: Hier bist du genau richtig!\n			\n			\n				\n				\n				\n				\n			\n				\n				\n				\n				\n				\n				\n			\n				\n				\n				\n				\n				\n				Jetzt anmelden
URL:https://salutdeluxe.hamburg/event/vocal-werkstatt-10-2/2026-11-05/
LOCATION:SalutDeluxe e.V.\, Volkmannstraße 6\, Hamburg\, 22083\, Deutschland
ATTACH;FMTTYPE=image/jpeg:https://salutdeluxe.hamburg/wp-content/uploads/2025/02/news_007.jpeg
END:VEVENT
BEGIN:VEVENT
DTSTART;TZID=Europe/Berlin:20261112T160000
DTEND;TZID=Europe/Berlin:20261112T190000
DTSTAMP:20260421T210831
CREATED:20260220T194313Z
LAST-MODIFIED:20260220T203752Z
UID:10005480-1794499200-1794510000@salutdeluxe.hamburg
SUMMARY:Writing Lab (Zinnwerke)
DESCRIPTION:Das Writing Lab ist dein Raum\, um dich durch Songwriting besser kennenzulernen – musikalisch und persönlich. Egal ob du schon Texte hast\, die du besprechen möchtest\, oder gerade erst anfängst: Hier bist du genau richtig!\n			\n			\n				\n				\n				\n				\n			\n				\n				\n				\n				\n				\n				\n			\n				\n				\n				\n				\n				\n				Jetzt anmelden
URL:https://salutdeluxe.hamburg/event/vocal-werkstatt-10-2/2026-11-12/
LOCATION:SalutDeluxe e.V.\, Volkmannstraße 6\, Hamburg\, 22083\, Deutschland
ATTACH;FMTTYPE=image/jpeg:https://salutdeluxe.hamburg/wp-content/uploads/2025/02/news_007.jpeg
END:VEVENT
END:VCALENDAR