BEGIN:VCALENDAR
VERSION:2.0
PRODID:-//SalutDeluxe e.V. - ECPv6.2.2//NONSGML v1.0//EN
CALSCALE:GREGORIAN
METHOD:PUBLISH
X-WR-CALNAME:SalutDeluxe e.V.
X-ORIGINAL-URL:https://salutdeluxe.hamburg
X-WR-CALDESC:Veranstaltungen für SalutDeluxe e.V.
REFRESH-INTERVAL;VALUE=DURATION:PT1H
X-Robots-Tag:noindex
X-PUBLISHED-TTL:PT1H
BEGIN:VTIMEZONE
TZID:Europe/Berlin
BEGIN:DAYLIGHT
TZOFFSETFROM:+0100
TZOFFSETTO:+0200
TZNAME:CEST
DTSTART:20260329T010000
END:DAYLIGHT
BEGIN:STANDARD
TZOFFSETFROM:+0200
TZOFFSETTO:+0100
TZNAME:CET
DTSTART:20261025T010000
END:STANDARD
END:VTIMEZONE
BEGIN:VEVENT
DTSTART;TZID=Europe/Berlin:20260421T170000
DTEND;TZID=Europe/Berlin:20260421T190000
DTSTAMP:20260421T145023
CREATED:20250227T125938Z
LAST-MODIFIED:20250227T125938Z
UID:10005126-1776790800-1776798000@salutdeluxe.hamburg
SUMMARY:Beatbox (Zinnwerke)
DESCRIPTION:Beatboxen ist die Kunst\, nur mit Mund\, Nase und Rachen coole Sounds zu produzieren. Und jetzt gibt’s die Möglichkeit\, das an unserem neuen SalutDeluxe-Standort in Wilhelmsburg auszuprobieren! ✨ \nIm Beatbox-Workshop von SalutDeluxe e.V. zeigt dir der talentierte Beatboxer Guido\, was du mit deiner Mundmuskulatur alles anstellen kannst. Auch die Jüngeren können hier schon aktiv werden! „Bb-Tz-Pf-Tz!“
URL:https://salutdeluxe.hamburg/event/beatbox-zinnwerke/2026-04-21/
LOCATION:Zinnwerke\, Veringhof 7\, Hamburg\, 21107\, Deutschland
ATTACH;FMTTYPE=image/jpeg:https://salutdeluxe.hamburg/wp-content/uploads/2025/02/news_007.jpeg
END:VEVENT
BEGIN:VEVENT
DTSTART;TZID=Europe/Berlin:20260422T163000
DTEND;TZID=Europe/Berlin:20260422T180000
DTSTAMP:20260421T145023
CREATED:20260220T185354Z
LAST-MODIFIED:20260220T185359Z
UID:10000652-1776875400-1776880800@salutdeluxe.hamburg
SUMMARY:Beatbox mit Guido
DESCRIPTION:Beatboxen ist die Kunst\, nur mit Mund\, Nase und Rachen coole Sounds zu produzieren. Finde deinen eigenen Weg\, Menschen zu begeistern! Im Beatbox-Kurs der DeluxeKidz zeigt dir der schwer talentierte Beatbox Guido\, was du mit deiner Mundmuskulatur alles anstellen kannst. „Bb-Tz-Pf-Tz!“
URL:https://salutdeluxe.hamburg/event/beatbox-mit-guido-26-3/2026-04-22/
LOCATION:Esche – Jugendkunsthaus\, Eschelsweg 4\, Hamburg\, Hamburg\, 22767
ATTACH;FMTTYPE=image/jpeg:https://salutdeluxe.hamburg/wp-content/uploads/2022/11/Beatboxen-DeluxeKidz_Esche.jpeg
END:VEVENT
BEGIN:VEVENT
DTSTART;TZID=Europe/Berlin:20260428T170000
DTEND;TZID=Europe/Berlin:20260428T190000
DTSTAMP:20260421T145023
CREATED:20250227T125938Z
LAST-MODIFIED:20250227T125938Z
UID:10005127-1777395600-1777402800@salutdeluxe.hamburg
SUMMARY:Beatbox (Zinnwerke)
DESCRIPTION:Beatboxen ist die Kunst\, nur mit Mund\, Nase und Rachen coole Sounds zu produzieren. Und jetzt gibt’s die Möglichkeit\, das an unserem neuen SalutDeluxe-Standort in Wilhelmsburg auszuprobieren! ✨ \nIm Beatbox-Workshop von SalutDeluxe e.V. zeigt dir der talentierte Beatboxer Guido\, was du mit deiner Mundmuskulatur alles anstellen kannst. Auch die Jüngeren können hier schon aktiv werden! „Bb-Tz-Pf-Tz!“
URL:https://salutdeluxe.hamburg/event/beatbox-zinnwerke/2026-04-28/
LOCATION:Zinnwerke\, Veringhof 7\, Hamburg\, 21107\, Deutschland
ATTACH;FMTTYPE=image/jpeg:https://salutdeluxe.hamburg/wp-content/uploads/2025/02/news_007.jpeg
END:VEVENT
BEGIN:VEVENT
DTSTART;TZID=Europe/Berlin:20260429T163000
DTEND;TZID=Europe/Berlin:20260429T180000
DTSTAMP:20260421T145023
CREATED:20260220T185354Z
LAST-MODIFIED:20260220T185359Z
UID:10000653-1777480200-1777485600@salutdeluxe.hamburg
SUMMARY:Beatbox mit Guido
DESCRIPTION:Beatboxen ist die Kunst\, nur mit Mund\, Nase und Rachen coole Sounds zu produzieren. Finde deinen eigenen Weg\, Menschen zu begeistern! Im Beatbox-Kurs der DeluxeKidz zeigt dir der schwer talentierte Beatbox Guido\, was du mit deiner Mundmuskulatur alles anstellen kannst. „Bb-Tz-Pf-Tz!“
URL:https://salutdeluxe.hamburg/event/beatbox-mit-guido-26-3/2026-04-29/
LOCATION:Esche – Jugendkunsthaus\, Eschelsweg 4\, Hamburg\, Hamburg\, 22767
ATTACH;FMTTYPE=image/jpeg:https://salutdeluxe.hamburg/wp-content/uploads/2022/11/Beatboxen-DeluxeKidz_Esche.jpeg
END:VEVENT
BEGIN:VEVENT
DTSTART;TZID=Europe/Berlin:20260505T170000
DTEND;TZID=Europe/Berlin:20260505T190000
DTSTAMP:20260421T145023
CREATED:20250227T125938Z
LAST-MODIFIED:20250227T125938Z
UID:10005128-1778000400-1778007600@salutdeluxe.hamburg
SUMMARY:Beatbox (Zinnwerke)
DESCRIPTION:Beatboxen ist die Kunst\, nur mit Mund\, Nase und Rachen coole Sounds zu produzieren. Und jetzt gibt’s die Möglichkeit\, das an unserem neuen SalutDeluxe-Standort in Wilhelmsburg auszuprobieren! ✨ \nIm Beatbox-Workshop von SalutDeluxe e.V. zeigt dir der talentierte Beatboxer Guido\, was du mit deiner Mundmuskulatur alles anstellen kannst. Auch die Jüngeren können hier schon aktiv werden! „Bb-Tz-Pf-Tz!“
URL:https://salutdeluxe.hamburg/event/beatbox-zinnwerke/2026-05-05/
LOCATION:Zinnwerke\, Veringhof 7\, Hamburg\, 21107\, Deutschland
ATTACH;FMTTYPE=image/jpeg:https://salutdeluxe.hamburg/wp-content/uploads/2025/02/news_007.jpeg
END:VEVENT
BEGIN:VEVENT
DTSTART;TZID=Europe/Berlin:20260506T163000
DTEND;TZID=Europe/Berlin:20260506T180000
DTSTAMP:20260421T145023
CREATED:20260220T185354Z
LAST-MODIFIED:20260220T185359Z
UID:10000654-1778085000-1778090400@salutdeluxe.hamburg
SUMMARY:Beatbox mit Guido
DESCRIPTION:Beatboxen ist die Kunst\, nur mit Mund\, Nase und Rachen coole Sounds zu produzieren. Finde deinen eigenen Weg\, Menschen zu begeistern! Im Beatbox-Kurs der DeluxeKidz zeigt dir der schwer talentierte Beatbox Guido\, was du mit deiner Mundmuskulatur alles anstellen kannst. „Bb-Tz-Pf-Tz!“
URL:https://salutdeluxe.hamburg/event/beatbox-mit-guido-26-3/2026-05-06/
LOCATION:Esche – Jugendkunsthaus\, Eschelsweg 4\, Hamburg\, Hamburg\, 22767
ATTACH;FMTTYPE=image/jpeg:https://salutdeluxe.hamburg/wp-content/uploads/2022/11/Beatboxen-DeluxeKidz_Esche.jpeg
END:VEVENT
BEGIN:VEVENT
DTSTART;TZID=Europe/Berlin:20260512T170000
DTEND;TZID=Europe/Berlin:20260512T190000
DTSTAMP:20260421T145023
CREATED:20250227T125938Z
LAST-MODIFIED:20250227T125938Z
UID:10005129-1778605200-1778612400@salutdeluxe.hamburg
SUMMARY:Beatbox (Zinnwerke)
DESCRIPTION:Beatboxen ist die Kunst\, nur mit Mund\, Nase und Rachen coole Sounds zu produzieren. Und jetzt gibt’s die Möglichkeit\, das an unserem neuen SalutDeluxe-Standort in Wilhelmsburg auszuprobieren! ✨ \nIm Beatbox-Workshop von SalutDeluxe e.V. zeigt dir der talentierte Beatboxer Guido\, was du mit deiner Mundmuskulatur alles anstellen kannst. Auch die Jüngeren können hier schon aktiv werden! „Bb-Tz-Pf-Tz!“
URL:https://salutdeluxe.hamburg/event/beatbox-zinnwerke/2026-05-12/
LOCATION:Zinnwerke\, Veringhof 7\, Hamburg\, 21107\, Deutschland
ATTACH;FMTTYPE=image/jpeg:https://salutdeluxe.hamburg/wp-content/uploads/2025/02/news_007.jpeg
END:VEVENT
BEGIN:VEVENT
DTSTART;TZID=Europe/Berlin:20260513T163000
DTEND;TZID=Europe/Berlin:20260513T180000
DTSTAMP:20260421T145023
CREATED:20260220T185354Z
LAST-MODIFIED:20260220T185359Z
UID:10000655-1778689800-1778695200@salutdeluxe.hamburg
SUMMARY:Beatbox mit Guido
DESCRIPTION:Beatboxen ist die Kunst\, nur mit Mund\, Nase und Rachen coole Sounds zu produzieren. Finde deinen eigenen Weg\, Menschen zu begeistern! Im Beatbox-Kurs der DeluxeKidz zeigt dir der schwer talentierte Beatbox Guido\, was du mit deiner Mundmuskulatur alles anstellen kannst. „Bb-Tz-Pf-Tz!“
URL:https://salutdeluxe.hamburg/event/beatbox-mit-guido-26-3/2026-05-13/
LOCATION:Esche – Jugendkunsthaus\, Eschelsweg 4\, Hamburg\, Hamburg\, 22767
ATTACH;FMTTYPE=image/jpeg:https://salutdeluxe.hamburg/wp-content/uploads/2022/11/Beatboxen-DeluxeKidz_Esche.jpeg
END:VEVENT
BEGIN:VEVENT
DTSTART;TZID=Europe/Berlin:20260519T170000
DTEND;TZID=Europe/Berlin:20260519T190000
DTSTAMP:20260421T145023
CREATED:20250227T125938Z
LAST-MODIFIED:20250227T125938Z
UID:10005130-1779210000-1779217200@salutdeluxe.hamburg
SUMMARY:Beatbox (Zinnwerke)
DESCRIPTION:Beatboxen ist die Kunst\, nur mit Mund\, Nase und Rachen coole Sounds zu produzieren. Und jetzt gibt’s die Möglichkeit\, das an unserem neuen SalutDeluxe-Standort in Wilhelmsburg auszuprobieren! ✨ \nIm Beatbox-Workshop von SalutDeluxe e.V. zeigt dir der talentierte Beatboxer Guido\, was du mit deiner Mundmuskulatur alles anstellen kannst. Auch die Jüngeren können hier schon aktiv werden! „Bb-Tz-Pf-Tz!“
URL:https://salutdeluxe.hamburg/event/beatbox-zinnwerke/2026-05-19/
LOCATION:Zinnwerke\, Veringhof 7\, Hamburg\, 21107\, Deutschland
ATTACH;FMTTYPE=image/jpeg:https://salutdeluxe.hamburg/wp-content/uploads/2025/02/news_007.jpeg
END:VEVENT
BEGIN:VEVENT
DTSTART;TZID=Europe/Berlin:20260520T163000
DTEND;TZID=Europe/Berlin:20260520T180000
DTSTAMP:20260421T145023
CREATED:20260220T185354Z
LAST-MODIFIED:20260220T185359Z
UID:10000656-1779294600-1779300000@salutdeluxe.hamburg
SUMMARY:Beatbox mit Guido
DESCRIPTION:Beatboxen ist die Kunst\, nur mit Mund\, Nase und Rachen coole Sounds zu produzieren. Finde deinen eigenen Weg\, Menschen zu begeistern! Im Beatbox-Kurs der DeluxeKidz zeigt dir der schwer talentierte Beatbox Guido\, was du mit deiner Mundmuskulatur alles anstellen kannst. „Bb-Tz-Pf-Tz!“
URL:https://salutdeluxe.hamburg/event/beatbox-mit-guido-26-3/2026-05-20/
LOCATION:Esche – Jugendkunsthaus\, Eschelsweg 4\, Hamburg\, Hamburg\, 22767
ATTACH;FMTTYPE=image/jpeg:https://salutdeluxe.hamburg/wp-content/uploads/2022/11/Beatboxen-DeluxeKidz_Esche.jpeg
END:VEVENT
BEGIN:VEVENT
DTSTART;TZID=Europe/Berlin:20260526T170000
DTEND;TZID=Europe/Berlin:20260526T190000
DTSTAMP:20260421T145023
CREATED:20250227T125938Z
LAST-MODIFIED:20250227T125938Z
UID:10005131-1779814800-1779822000@salutdeluxe.hamburg
SUMMARY:Beatbox (Zinnwerke)
DESCRIPTION:Beatboxen ist die Kunst\, nur mit Mund\, Nase und Rachen coole Sounds zu produzieren. Und jetzt gibt’s die Möglichkeit\, das an unserem neuen SalutDeluxe-Standort in Wilhelmsburg auszuprobieren! ✨ \nIm Beatbox-Workshop von SalutDeluxe e.V. zeigt dir der talentierte Beatboxer Guido\, was du mit deiner Mundmuskulatur alles anstellen kannst. Auch die Jüngeren können hier schon aktiv werden! „Bb-Tz-Pf-Tz!“
URL:https://salutdeluxe.hamburg/event/beatbox-zinnwerke/2026-05-26/
LOCATION:Zinnwerke\, Veringhof 7\, Hamburg\, 21107\, Deutschland
ATTACH;FMTTYPE=image/jpeg:https://salutdeluxe.hamburg/wp-content/uploads/2025/02/news_007.jpeg
END:VEVENT
BEGIN:VEVENT
DTSTART;TZID=Europe/Berlin:20260527T163000
DTEND;TZID=Europe/Berlin:20260527T180000
DTSTAMP:20260421T145023
CREATED:20260220T185354Z
LAST-MODIFIED:20260220T185359Z
UID:10000657-1779899400-1779904800@salutdeluxe.hamburg
SUMMARY:Beatbox mit Guido
DESCRIPTION:Beatboxen ist die Kunst\, nur mit Mund\, Nase und Rachen coole Sounds zu produzieren. Finde deinen eigenen Weg\, Menschen zu begeistern! Im Beatbox-Kurs der DeluxeKidz zeigt dir der schwer talentierte Beatbox Guido\, was du mit deiner Mundmuskulatur alles anstellen kannst. „Bb-Tz-Pf-Tz!“
URL:https://salutdeluxe.hamburg/event/beatbox-mit-guido-26-3/2026-05-27/
LOCATION:Esche – Jugendkunsthaus\, Eschelsweg 4\, Hamburg\, Hamburg\, 22767
ATTACH;FMTTYPE=image/jpeg:https://salutdeluxe.hamburg/wp-content/uploads/2022/11/Beatboxen-DeluxeKidz_Esche.jpeg
END:VEVENT
BEGIN:VEVENT
DTSTART;TZID=Europe/Berlin:20260602T170000
DTEND;TZID=Europe/Berlin:20260602T190000
DTSTAMP:20260421T145023
CREATED:20250227T125938Z
LAST-MODIFIED:20250227T125938Z
UID:10005132-1780419600-1780426800@salutdeluxe.hamburg
SUMMARY:Beatbox (Zinnwerke)
DESCRIPTION:Beatboxen ist die Kunst\, nur mit Mund\, Nase und Rachen coole Sounds zu produzieren. Und jetzt gibt’s die Möglichkeit\, das an unserem neuen SalutDeluxe-Standort in Wilhelmsburg auszuprobieren! ✨ \nIm Beatbox-Workshop von SalutDeluxe e.V. zeigt dir der talentierte Beatboxer Guido\, was du mit deiner Mundmuskulatur alles anstellen kannst. Auch die Jüngeren können hier schon aktiv werden! „Bb-Tz-Pf-Tz!“
URL:https://salutdeluxe.hamburg/event/beatbox-zinnwerke/2026-06-02/
LOCATION:Zinnwerke\, Veringhof 7\, Hamburg\, 21107\, Deutschland
ATTACH;FMTTYPE=image/jpeg:https://salutdeluxe.hamburg/wp-content/uploads/2025/02/news_007.jpeg
END:VEVENT
BEGIN:VEVENT
DTSTART;TZID=Europe/Berlin:20260603T163000
DTEND;TZID=Europe/Berlin:20260603T180000
DTSTAMP:20260421T145023
CREATED:20260220T185354Z
LAST-MODIFIED:20260220T185359Z
UID:10000658-1780504200-1780509600@salutdeluxe.hamburg
SUMMARY:Beatbox mit Guido
DESCRIPTION:Beatboxen ist die Kunst\, nur mit Mund\, Nase und Rachen coole Sounds zu produzieren. Finde deinen eigenen Weg\, Menschen zu begeistern! Im Beatbox-Kurs der DeluxeKidz zeigt dir der schwer talentierte Beatbox Guido\, was du mit deiner Mundmuskulatur alles anstellen kannst. „Bb-Tz-Pf-Tz!“
URL:https://salutdeluxe.hamburg/event/beatbox-mit-guido-26-3/2026-06-03/
LOCATION:Esche – Jugendkunsthaus\, Eschelsweg 4\, Hamburg\, Hamburg\, 22767
ATTACH;FMTTYPE=image/jpeg:https://salutdeluxe.hamburg/wp-content/uploads/2022/11/Beatboxen-DeluxeKidz_Esche.jpeg
END:VEVENT
BEGIN:VEVENT
DTSTART;TZID=Europe/Berlin:20260609T170000
DTEND;TZID=Europe/Berlin:20260609T190000
DTSTAMP:20260421T145023
CREATED:20250227T125938Z
LAST-MODIFIED:20250227T125938Z
UID:10005133-1781024400-1781031600@salutdeluxe.hamburg
SUMMARY:Beatbox (Zinnwerke)
DESCRIPTION:Beatboxen ist die Kunst\, nur mit Mund\, Nase und Rachen coole Sounds zu produzieren. Und jetzt gibt’s die Möglichkeit\, das an unserem neuen SalutDeluxe-Standort in Wilhelmsburg auszuprobieren! ✨ \nIm Beatbox-Workshop von SalutDeluxe e.V. zeigt dir der talentierte Beatboxer Guido\, was du mit deiner Mundmuskulatur alles anstellen kannst. Auch die Jüngeren können hier schon aktiv werden! „Bb-Tz-Pf-Tz!“
URL:https://salutdeluxe.hamburg/event/beatbox-zinnwerke/2026-06-09/
LOCATION:Zinnwerke\, Veringhof 7\, Hamburg\, 21107\, Deutschland
ATTACH;FMTTYPE=image/jpeg:https://salutdeluxe.hamburg/wp-content/uploads/2025/02/news_007.jpeg
END:VEVENT
BEGIN:VEVENT
DTSTART;TZID=Europe/Berlin:20260610T163000
DTEND;TZID=Europe/Berlin:20260610T180000
DTSTAMP:20260421T145023
CREATED:20260220T185354Z
LAST-MODIFIED:20260220T185359Z
UID:10000659-1781109000-1781114400@salutdeluxe.hamburg
SUMMARY:Beatbox mit Guido
DESCRIPTION:Beatboxen ist die Kunst\, nur mit Mund\, Nase und Rachen coole Sounds zu produzieren. Finde deinen eigenen Weg\, Menschen zu begeistern! Im Beatbox-Kurs der DeluxeKidz zeigt dir der schwer talentierte Beatbox Guido\, was du mit deiner Mundmuskulatur alles anstellen kannst. „Bb-Tz-Pf-Tz!“
URL:https://salutdeluxe.hamburg/event/beatbox-mit-guido-26-3/2026-06-10/
LOCATION:Esche – Jugendkunsthaus\, Eschelsweg 4\, Hamburg\, Hamburg\, 22767
ATTACH;FMTTYPE=image/jpeg:https://salutdeluxe.hamburg/wp-content/uploads/2022/11/Beatboxen-DeluxeKidz_Esche.jpeg
END:VEVENT
BEGIN:VEVENT
DTSTART;TZID=Europe/Berlin:20260616T170000
DTEND;TZID=Europe/Berlin:20260616T190000
DTSTAMP:20260421T145023
CREATED:20250227T125938Z
LAST-MODIFIED:20250227T125938Z
UID:10005134-1781629200-1781636400@salutdeluxe.hamburg
SUMMARY:Beatbox (Zinnwerke)
DESCRIPTION:Beatboxen ist die Kunst\, nur mit Mund\, Nase und Rachen coole Sounds zu produzieren. Und jetzt gibt’s die Möglichkeit\, das an unserem neuen SalutDeluxe-Standort in Wilhelmsburg auszuprobieren! ✨ \nIm Beatbox-Workshop von SalutDeluxe e.V. zeigt dir der talentierte Beatboxer Guido\, was du mit deiner Mundmuskulatur alles anstellen kannst. Auch die Jüngeren können hier schon aktiv werden! „Bb-Tz-Pf-Tz!“
URL:https://salutdeluxe.hamburg/event/beatbox-zinnwerke/2026-06-16/
LOCATION:Zinnwerke\, Veringhof 7\, Hamburg\, 21107\, Deutschland
ATTACH;FMTTYPE=image/jpeg:https://salutdeluxe.hamburg/wp-content/uploads/2025/02/news_007.jpeg
END:VEVENT
BEGIN:VEVENT
DTSTART;TZID=Europe/Berlin:20260617T163000
DTEND;TZID=Europe/Berlin:20260617T180000
DTSTAMP:20260421T145023
CREATED:20260220T185354Z
LAST-MODIFIED:20260220T185359Z
UID:10000660-1781713800-1781719200@salutdeluxe.hamburg
SUMMARY:Beatbox mit Guido
DESCRIPTION:Beatboxen ist die Kunst\, nur mit Mund\, Nase und Rachen coole Sounds zu produzieren. Finde deinen eigenen Weg\, Menschen zu begeistern! Im Beatbox-Kurs der DeluxeKidz zeigt dir der schwer talentierte Beatbox Guido\, was du mit deiner Mundmuskulatur alles anstellen kannst. „Bb-Tz-Pf-Tz!“
URL:https://salutdeluxe.hamburg/event/beatbox-mit-guido-26-3/2026-06-17/
LOCATION:Esche – Jugendkunsthaus\, Eschelsweg 4\, Hamburg\, Hamburg\, 22767
ATTACH;FMTTYPE=image/jpeg:https://salutdeluxe.hamburg/wp-content/uploads/2022/11/Beatboxen-DeluxeKidz_Esche.jpeg
END:VEVENT
BEGIN:VEVENT
DTSTART;TZID=Europe/Berlin:20260623T170000
DTEND;TZID=Europe/Berlin:20260623T190000
DTSTAMP:20260421T145023
CREATED:20250227T125938Z
LAST-MODIFIED:20250227T125938Z
UID:10005135-1782234000-1782241200@salutdeluxe.hamburg
SUMMARY:Beatbox (Zinnwerke)
DESCRIPTION:Beatboxen ist die Kunst\, nur mit Mund\, Nase und Rachen coole Sounds zu produzieren. Und jetzt gibt’s die Möglichkeit\, das an unserem neuen SalutDeluxe-Standort in Wilhelmsburg auszuprobieren! ✨ \nIm Beatbox-Workshop von SalutDeluxe e.V. zeigt dir der talentierte Beatboxer Guido\, was du mit deiner Mundmuskulatur alles anstellen kannst. Auch die Jüngeren können hier schon aktiv werden! „Bb-Tz-Pf-Tz!“
URL:https://salutdeluxe.hamburg/event/beatbox-zinnwerke/2026-06-23/
LOCATION:Zinnwerke\, Veringhof 7\, Hamburg\, 21107\, Deutschland
ATTACH;FMTTYPE=image/jpeg:https://salutdeluxe.hamburg/wp-content/uploads/2025/02/news_007.jpeg
END:VEVENT
BEGIN:VEVENT
DTSTART;TZID=Europe/Berlin:20260624T163000
DTEND;TZID=Europe/Berlin:20260624T180000
DTSTAMP:20260421T145023
CREATED:20260220T185354Z
LAST-MODIFIED:20260220T185359Z
UID:10000661-1782318600-1782324000@salutdeluxe.hamburg
SUMMARY:Beatbox mit Guido
DESCRIPTION:Beatboxen ist die Kunst\, nur mit Mund\, Nase und Rachen coole Sounds zu produzieren. Finde deinen eigenen Weg\, Menschen zu begeistern! Im Beatbox-Kurs der DeluxeKidz zeigt dir der schwer talentierte Beatbox Guido\, was du mit deiner Mundmuskulatur alles anstellen kannst. „Bb-Tz-Pf-Tz!“
URL:https://salutdeluxe.hamburg/event/beatbox-mit-guido-26-3/2026-06-24/
LOCATION:Esche – Jugendkunsthaus\, Eschelsweg 4\, Hamburg\, Hamburg\, 22767
ATTACH;FMTTYPE=image/jpeg:https://salutdeluxe.hamburg/wp-content/uploads/2022/11/Beatboxen-DeluxeKidz_Esche.jpeg
END:VEVENT
BEGIN:VEVENT
DTSTART;TZID=Europe/Berlin:20260630T170000
DTEND;TZID=Europe/Berlin:20260630T190000
DTSTAMP:20260421T145023
CREATED:20250227T125938Z
LAST-MODIFIED:20250227T125938Z
UID:10005136-1782838800-1782846000@salutdeluxe.hamburg
SUMMARY:Beatbox (Zinnwerke)
DESCRIPTION:Beatboxen ist die Kunst\, nur mit Mund\, Nase und Rachen coole Sounds zu produzieren. Und jetzt gibt’s die Möglichkeit\, das an unserem neuen SalutDeluxe-Standort in Wilhelmsburg auszuprobieren! ✨ \nIm Beatbox-Workshop von SalutDeluxe e.V. zeigt dir der talentierte Beatboxer Guido\, was du mit deiner Mundmuskulatur alles anstellen kannst. Auch die Jüngeren können hier schon aktiv werden! „Bb-Tz-Pf-Tz!“
URL:https://salutdeluxe.hamburg/event/beatbox-zinnwerke/2026-06-30/
LOCATION:Zinnwerke\, Veringhof 7\, Hamburg\, 21107\, Deutschland
ATTACH;FMTTYPE=image/jpeg:https://salutdeluxe.hamburg/wp-content/uploads/2025/02/news_007.jpeg
END:VEVENT
BEGIN:VEVENT
DTSTART;TZID=Europe/Berlin:20260701T163000
DTEND;TZID=Europe/Berlin:20260701T180000
DTSTAMP:20260421T145023
CREATED:20260220T185354Z
LAST-MODIFIED:20260220T185359Z
UID:10000662-1782923400-1782928800@salutdeluxe.hamburg
SUMMARY:Beatbox mit Guido
DESCRIPTION:Beatboxen ist die Kunst\, nur mit Mund\, Nase und Rachen coole Sounds zu produzieren. Finde deinen eigenen Weg\, Menschen zu begeistern! Im Beatbox-Kurs der DeluxeKidz zeigt dir der schwer talentierte Beatbox Guido\, was du mit deiner Mundmuskulatur alles anstellen kannst. „Bb-Tz-Pf-Tz!“
URL:https://salutdeluxe.hamburg/event/beatbox-mit-guido-26-3/2026-07-01/
LOCATION:Esche – Jugendkunsthaus\, Eschelsweg 4\, Hamburg\, Hamburg\, 22767
ATTACH;FMTTYPE=image/jpeg:https://salutdeluxe.hamburg/wp-content/uploads/2022/11/Beatboxen-DeluxeKidz_Esche.jpeg
END:VEVENT
BEGIN:VEVENT
DTSTART;TZID=Europe/Berlin:20260707T170000
DTEND;TZID=Europe/Berlin:20260707T190000
DTSTAMP:20260421T145023
CREATED:20250227T125938Z
LAST-MODIFIED:20250227T125938Z
UID:10005137-1783443600-1783450800@salutdeluxe.hamburg
SUMMARY:Beatbox (Zinnwerke)
DESCRIPTION:Beatboxen ist die Kunst\, nur mit Mund\, Nase und Rachen coole Sounds zu produzieren. Und jetzt gibt’s die Möglichkeit\, das an unserem neuen SalutDeluxe-Standort in Wilhelmsburg auszuprobieren! ✨ \nIm Beatbox-Workshop von SalutDeluxe e.V. zeigt dir der talentierte Beatboxer Guido\, was du mit deiner Mundmuskulatur alles anstellen kannst. Auch die Jüngeren können hier schon aktiv werden! „Bb-Tz-Pf-Tz!“
URL:https://salutdeluxe.hamburg/event/beatbox-zinnwerke/2026-07-07/
LOCATION:Zinnwerke\, Veringhof 7\, Hamburg\, 21107\, Deutschland
ATTACH;FMTTYPE=image/jpeg:https://salutdeluxe.hamburg/wp-content/uploads/2025/02/news_007.jpeg
END:VEVENT
BEGIN:VEVENT
DTSTART;TZID=Europe/Berlin:20260708T163000
DTEND;TZID=Europe/Berlin:20260708T180000
DTSTAMP:20260421T145023
CREATED:20260220T185354Z
LAST-MODIFIED:20260220T185359Z
UID:10000663-1783528200-1783533600@salutdeluxe.hamburg
SUMMARY:Beatbox mit Guido
DESCRIPTION:Beatboxen ist die Kunst\, nur mit Mund\, Nase und Rachen coole Sounds zu produzieren. Finde deinen eigenen Weg\, Menschen zu begeistern! Im Beatbox-Kurs der DeluxeKidz zeigt dir der schwer talentierte Beatbox Guido\, was du mit deiner Mundmuskulatur alles anstellen kannst. „Bb-Tz-Pf-Tz!“
URL:https://salutdeluxe.hamburg/event/beatbox-mit-guido-26-3/2026-07-08/
LOCATION:Esche – Jugendkunsthaus\, Eschelsweg 4\, Hamburg\, Hamburg\, 22767
ATTACH;FMTTYPE=image/jpeg:https://salutdeluxe.hamburg/wp-content/uploads/2022/11/Beatboxen-DeluxeKidz_Esche.jpeg
END:VEVENT
BEGIN:VEVENT
DTSTART;TZID=Europe/Berlin:20260714T170000
DTEND;TZID=Europe/Berlin:20260714T190000
DTSTAMP:20260421T145023
CREATED:20250227T125938Z
LAST-MODIFIED:20250227T125938Z
UID:10005138-1784048400-1784055600@salutdeluxe.hamburg
SUMMARY:Beatbox (Zinnwerke)
DESCRIPTION:Beatboxen ist die Kunst\, nur mit Mund\, Nase und Rachen coole Sounds zu produzieren. Und jetzt gibt’s die Möglichkeit\, das an unserem neuen SalutDeluxe-Standort in Wilhelmsburg auszuprobieren! ✨ \nIm Beatbox-Workshop von SalutDeluxe e.V. zeigt dir der talentierte Beatboxer Guido\, was du mit deiner Mundmuskulatur alles anstellen kannst. Auch die Jüngeren können hier schon aktiv werden! „Bb-Tz-Pf-Tz!“
URL:https://salutdeluxe.hamburg/event/beatbox-zinnwerke/2026-07-14/
LOCATION:Zinnwerke\, Veringhof 7\, Hamburg\, 21107\, Deutschland
ATTACH;FMTTYPE=image/jpeg:https://salutdeluxe.hamburg/wp-content/uploads/2025/02/news_007.jpeg
END:VEVENT
BEGIN:VEVENT
DTSTART;TZID=Europe/Berlin:20260715T163000
DTEND;TZID=Europe/Berlin:20260715T180000
DTSTAMP:20260421T145023
CREATED:20260220T185354Z
LAST-MODIFIED:20260220T185359Z
UID:10000664-1784133000-1784138400@salutdeluxe.hamburg
SUMMARY:Beatbox mit Guido
DESCRIPTION:Beatboxen ist die Kunst\, nur mit Mund\, Nase und Rachen coole Sounds zu produzieren. Finde deinen eigenen Weg\, Menschen zu begeistern! Im Beatbox-Kurs der DeluxeKidz zeigt dir der schwer talentierte Beatbox Guido\, was du mit deiner Mundmuskulatur alles anstellen kannst. „Bb-Tz-Pf-Tz!“
URL:https://salutdeluxe.hamburg/event/beatbox-mit-guido-26-3/2026-07-15/
LOCATION:Esche – Jugendkunsthaus\, Eschelsweg 4\, Hamburg\, Hamburg\, 22767
ATTACH;FMTTYPE=image/jpeg:https://salutdeluxe.hamburg/wp-content/uploads/2022/11/Beatboxen-DeluxeKidz_Esche.jpeg
END:VEVENT
BEGIN:VEVENT
DTSTART;TZID=Europe/Berlin:20260721T170000
DTEND;TZID=Europe/Berlin:20260721T190000
DTSTAMP:20260421T145023
CREATED:20250227T125938Z
LAST-MODIFIED:20250227T125938Z
UID:10005139-1784653200-1784660400@salutdeluxe.hamburg
SUMMARY:Beatbox (Zinnwerke)
DESCRIPTION:Beatboxen ist die Kunst\, nur mit Mund\, Nase und Rachen coole Sounds zu produzieren. Und jetzt gibt’s die Möglichkeit\, das an unserem neuen SalutDeluxe-Standort in Wilhelmsburg auszuprobieren! ✨ \nIm Beatbox-Workshop von SalutDeluxe e.V. zeigt dir der talentierte Beatboxer Guido\, was du mit deiner Mundmuskulatur alles anstellen kannst. Auch die Jüngeren können hier schon aktiv werden! „Bb-Tz-Pf-Tz!“
URL:https://salutdeluxe.hamburg/event/beatbox-zinnwerke/2026-07-21/
LOCATION:Zinnwerke\, Veringhof 7\, Hamburg\, 21107\, Deutschland
ATTACH;FMTTYPE=image/jpeg:https://salutdeluxe.hamburg/wp-content/uploads/2025/02/news_007.jpeg
END:VEVENT
BEGIN:VEVENT
DTSTART;TZID=Europe/Berlin:20260722T163000
DTEND;TZID=Europe/Berlin:20260722T180000
DTSTAMP:20260421T145023
CREATED:20260220T185354Z
LAST-MODIFIED:20260220T185359Z
UID:10000665-1784737800-1784743200@salutdeluxe.hamburg
SUMMARY:Beatbox mit Guido
DESCRIPTION:Beatboxen ist die Kunst\, nur mit Mund\, Nase und Rachen coole Sounds zu produzieren. Finde deinen eigenen Weg\, Menschen zu begeistern! Im Beatbox-Kurs der DeluxeKidz zeigt dir der schwer talentierte Beatbox Guido\, was du mit deiner Mundmuskulatur alles anstellen kannst. „Bb-Tz-Pf-Tz!“
URL:https://salutdeluxe.hamburg/event/beatbox-mit-guido-26-3/2026-07-22/
LOCATION:Esche – Jugendkunsthaus\, Eschelsweg 4\, Hamburg\, Hamburg\, 22767
ATTACH;FMTTYPE=image/jpeg:https://salutdeluxe.hamburg/wp-content/uploads/2022/11/Beatboxen-DeluxeKidz_Esche.jpeg
END:VEVENT
BEGIN:VEVENT
DTSTART;TZID=Europe/Berlin:20260728T170000
DTEND;TZID=Europe/Berlin:20260728T190000
DTSTAMP:20260421T145023
CREATED:20250227T125938Z
LAST-MODIFIED:20250227T125938Z
UID:10005140-1785258000-1785265200@salutdeluxe.hamburg
SUMMARY:Beatbox (Zinnwerke)
DESCRIPTION:Beatboxen ist die Kunst\, nur mit Mund\, Nase und Rachen coole Sounds zu produzieren. Und jetzt gibt’s die Möglichkeit\, das an unserem neuen SalutDeluxe-Standort in Wilhelmsburg auszuprobieren! ✨ \nIm Beatbox-Workshop von SalutDeluxe e.V. zeigt dir der talentierte Beatboxer Guido\, was du mit deiner Mundmuskulatur alles anstellen kannst. Auch die Jüngeren können hier schon aktiv werden! „Bb-Tz-Pf-Tz!“
URL:https://salutdeluxe.hamburg/event/beatbox-zinnwerke/2026-07-28/
LOCATION:Zinnwerke\, Veringhof 7\, Hamburg\, 21107\, Deutschland
ATTACH;FMTTYPE=image/jpeg:https://salutdeluxe.hamburg/wp-content/uploads/2025/02/news_007.jpeg
END:VEVENT
BEGIN:VEVENT
DTSTART;TZID=Europe/Berlin:20260729T163000
DTEND;TZID=Europe/Berlin:20260729T180000
DTSTAMP:20260421T145023
CREATED:20260220T185354Z
LAST-MODIFIED:20260220T185359Z
UID:10000666-1785342600-1785348000@salutdeluxe.hamburg
SUMMARY:Beatbox mit Guido
DESCRIPTION:Beatboxen ist die Kunst\, nur mit Mund\, Nase und Rachen coole Sounds zu produzieren. Finde deinen eigenen Weg\, Menschen zu begeistern! Im Beatbox-Kurs der DeluxeKidz zeigt dir der schwer talentierte Beatbox Guido\, was du mit deiner Mundmuskulatur alles anstellen kannst. „Bb-Tz-Pf-Tz!“
URL:https://salutdeluxe.hamburg/event/beatbox-mit-guido-26-3/2026-07-29/
LOCATION:Esche – Jugendkunsthaus\, Eschelsweg 4\, Hamburg\, Hamburg\, 22767
ATTACH;FMTTYPE=image/jpeg:https://salutdeluxe.hamburg/wp-content/uploads/2022/11/Beatboxen-DeluxeKidz_Esche.jpeg
END:VEVENT
END:VCALENDAR